Workbook

Sheet صورت وضعیت پرتفوی
A17: ‫صندوق سرمایه‌گذاری حفظ ارزش دماوند
A18: گزارش افشا پرتفوی ماهانه
A19: در اجرای ابلاغیه شماره 12020093 مورخ 1396/09/05 سازمان بورس و اوراق بهادار
A20: ‫دوره یک ماهه منتهی به 31 شهریور 1405
C25: .

Sheet سهام
A1: صندوق حفظ ارزش دماوند
A2: صورت وضعیت پرتفوی
A3: به تاریخ 31 شهریور 1405
A4: 1- سرمایه گذاری ها
A5: 1-1- سرمایه گذاری در سهام و حق تقدم سهام
C6: (مبالغ به ریال)
C7: 1405/05/31 | I7: تغییرات طی دوره | Q7: 1405/06/31
A8: نام شرکت | C8: تعداد | E8: بهای تمام شده | G8: خالص ارزش فروش | I8: خرید طی دوره | M8: فروش طی دوره | Q8: تعداد | S8: قیمت بازار هر سهم | U8: بهای تمام شده | W8: خالص ارزش فروش | Y8: درصد به کل دارایی ها
I9: تعداد | K9: بهای تمام شده | M9: تعداد | O9: مبلغ فروش | AA9: 3500044517682
A10: سرمایه گذاری تامین اجتماعی | C10: 114544834 | E10: 143004129290 | G10: 331203498690 | I10: 15000000 | K10: 53391857616 | M10: -44528047 | O10: -136254976595 | Q10: =C10+I10+M10 -> 85016787 | S10: 3540 | U10: 140804701230 | W10: 298633009617 | Y10: =W10/$AA$9*100 -> 8.5322632 | AA10: =C10+I10+M10-Q10 -> 0
A11: پالایش نفت اصفهان | C11: 20000000 | E11: 101969389611 | G11: 227825192000 | I11: 8000000 | K11: 105834197035 | M11: -4000000 | O11: -52010229249 | Q11: =C11+I11+M11 -> 24000000 | S11: 12400 | U11: 185989730877 | W11: 295299552000 | Y11: =W11/$AA$9*100 -> 8.4370227 | AA11: =C11+I11+M11-Q11 -> 0
A12: بورس کالای ایران | C12: 40220689 | E12: 178482569171 | G12: 367968199942 | I12: 0 | K12: 0 | M12: -14200000 | O12: -156867285203 | Q12: =C12+I12+M12 -> 26020689 | S12: 10900 | U12: 115468917618 | W12: 281433084906 | Y12: =W12/$AA$9*100 -> 8.040843 | AA12: =C12+I12+M12-Q12 -> 0
A13: بانک ملت | C13: 209462192 | E13: 189658351031 | G13: 282043017840 | I13: 73000000 | K13: 112230186149 | M13: -97462192 | O13: -147900178777 | Q13: =C13+I13+M13 -> 185000000 | S13: 1444 | U13: 206836499757 | W13: 265075007800 | Y13: =W13/$AA$9*100 -> 7.5734753 | AA13: =C13+I13+M13-Q13 -> 0
A14: ملی‌ صنایع‌ مس‌ ایران‌ | C14: 6171428 | E14: 82673037809 | G14: 117453004484 | I14: 4800000 | K14: 109547057759 | M14: -1700000 | O14: -45213789571 | Q14: =C14+I14+M14 -> 9271428 | S14: 24310 | U14: 166697645501 | W14: 223646162234 | Y14: =W14/$AA$9*100 -> 6.3898091 | AA14: =C14+I14+M14-Q14 -> 0
A15: سرمایه‌گذاری‌غدیر(هلدینگ‌ | C15: 4400000 | E15: 78475155200 | G15: 84045269000 | I15: 6100000 | K15: 124371320646 | M15: -1299421 | O15: -25648823560 | Q15: =C15+I15+M15 -> 9200579 | S15: 20490 | U15: 179295080028 | W15: 187062605163 | Y15: =W15/$AA$9*100 -> 5.3445779 | AA15: =C15+I15+M15-Q15 -> 0
A16: شمش طلا GoldBar | C16: 5395 | E16: 92159966047 | G16: 150483799299 | I16: 0 | K16: 0 | M16: 0 | O16: 0 | Q16: =C16+I16+M16 -> 5395 | S16: 31873242 | U16: 92159966047 | W16: 171543445852 | Y16: =W16/$AA$9*100 -> 4.901179 | AA16: =C16+I16+M16-Q16 -> 0
A17: صنایع پتروشیمی خلیج فارس | C17: 0 | E17: 0 | G17: 0 | I17: 10100000 | K17: 126459934120 | M17: 0 | O17: 0 | Q17: =C17+I17+M17 -> 10100000 | S17: 12470 | U17: 126459934120 | W17: 124973429690 | Y17: =W17/$AA$9*100 -> 3.570624 | AA17: =C17+I17+M17-Q17 -> 0
A18: بین المللی توسعه ص. معادن غدیر | C18: 11100000 | E18: 49192700647 | G18: 52758003630 | I18: 0 | K18: 0 | M18: 0 | O18: 0 | Q18: =C18+I18+M18 -> 11100000 | S18: 6800 | U18: 49192700647 | W18: 74896539600 | Y18: =W18/$AA$9*100 -> 2.1398739 | AA18: =C18+I18+M18-Q18 -> 0
A19: کانی کربن طبس | C19: 0 | E19: 0 | G19: 0 | I19: 7900000 | K19: 77173531989 | M19: 0 | O19: 0 | Q19: =C19+I19+M19 -> 7900000 | S19: 9180 | U19: 77173531989 | W19: 71961404940 | Y19: =W19/$AA$9*100 -> 2.056014 | AA19: =C19+I19+M19-Q19 -> 0
A20: صبا فولاد خلیج فارس | C20: 0 | E20: 0 | G20: 0 | I20: 17922066 | K20: 60495598789 | M20: 0 | O20: 0 | Q20: =C20+I20+M20 -> 17922066 | S20: 3800 | U20: 60495598789 | W20: 67577408033 | Y20: =W20/$AA$9*100 -> 1.9307585 | AA20: =C20+I20+M20-Q20 -> 0
A21: داروسازی‌ فارابی‌ | C21: 5000000 | E21: 48392974328 | G21: 84987925500 | I21: 0 | K21: 0 | M21: -1248571 | O21: -22017564314 | Q21: =C21+I21+M21 -> 3751429 | S21: 17230 | U21: 36308561457 | W21: 64137476719 | Y21: =W21/$AA$9*100 -> 1.832476 | AA21: =C21+I21+M21-Q21 -> 0
... A46: معدنی‌وصنعتی‌چادرملو | C46: 1366065 | E46: 3666518460 | G46: 3377919251 | I46: 0 | K46: 0 | M46: 0 | O46: 0 | Q46: =C46+I46+M46 -> 1366065 | S46: 2800 | U46: 3666518460 | W46: 3795414889 | Y46: =W46/$AA$9*100 -> 0.10843905 | AA46: =C46+I46+M46-Q46 -> 0
A47: ایران‌ خودرو | C47: 95000000 | E47: 47489436570 | G47: 60989875550 | I47: 105000000 | K47: 74693382718 | M47: -200000000 | O47: -140922571164 | Q47: 0 | S47: 0 | U47: 0 | W47: 0 | Y47: =W47/$AA$9*100 -> 0 | AA47: =C47+I47+M47-Q47 -> 0
A48: بانک صادرات ایران | C48: 61257025 | E48: 41266993380 | G48: 55009074918 | I48: 0 | K48: 0 | M48: -61257025 | O48: -65403054999 | Q48: 0 | S48: 0 | U48: 0 | W48: 0 | Y48: =W48/$AA$9*100 -> 0 | AA48: =C48+I48+M48-Q48 -> 0
A49: پالایش نفت بندرعباس | C49: 5000000 | E49: 62365348194 | G49: 60429243000 | I49: 5000000 | K49: 65914126778 | M49: -10000000 | O49: -142666776351 | Q49: 0 | S49: 0 | U49: 0 | W49: 0 | Y49: =W49/$AA$9*100 -> 0 | AA49: =C49+I49+M49-Q49 -> 0
A50: سیمان آرتا اردبیل | C50: 360000 | E50: 29356170982 | G50: 29073907908 | I50: 0 | K50: 0 | M50: -360000 | O50: -32840464358 | Q50: 0 | S50: 0 | U50: 0 | W50: 0 | Y50: =W50/$AA$9*100 -> 0 | AA50: =C50+I50+M50-Q50 -> 0
A51: شیر و گوشت زاگرس شهرکرد | C51: 800000 | E51: 19636537197 | G51: 26053041120 | I51: 0 | K51: 0 | M51: -800000 | O51: -25687886013 | Q51: 0 | S51: 0 | U51: 0 | W51: 0 | Y51: =W51/$AA$9*100 -> 0 | AA51: =C51+I51+M51-Q51 -> 0
A52: کولان سل | C52: 219000 | E52: 5296246349 | G52: 5975946075 | I52: 0 | K52: 0 | M52: -219000 | O52: -6651771366 | Q52: 0 | S52: 0 | U52: 0 | W52: 0 | Y52: =W52/$AA$9*100 -> 0 | AA52: =C52+I52+M52-Q52 -> 0
A53: ح.شرکت آهن و فولاد ارفع | C53: 0 | E53: 0 | G53: 0 | I53: 1500000 | K53: 0 | M53: -1500000 | O53: -19438730831 | Q53: 0 | S53: 0 | U53: 0 | W53: 0 | Y53: =W53/$AA$9*100 -> 0 | AA53: =C53+I53+M53-Q53 -> 0
A54: بانک‌اقتصادنوین‌ | C54: 0 | E54: 0 | G54: 0 | I54: 18300000 | K54: 65923152239 | M54: -18300000 | O54: -68656189046 | Q54: 0 | S54: 0 | U54: 0 | W54: 0 | Y54: =W54/$AA$9*100 -> 0 | AA54: =C54+I54+M54-Q54 -> 0
C55: =SUM(C10:C54) -> 640755246 | E55: =SUM(E10:E54) -> 1765720777760 | G55: =SUM(G10:G54) -> 2633800275722 | I55: =SUM(I10:I54) -> 328816628 | K55: =SUM(K10:K54) -> 1365125476492 | M55: =SUM(M10:M54) -> -465138335 | O55: =SUM(O10:O54) -> -1218694356710 | Q55: =SUM(Q10:Q54) -> 504433539 | U55: =SUM(U10:U54) -> 2305501640406 | W55: =SUM(W10:W54) -> 3148065568897 | Y55: =SUM(Y10:Y54) -> 89.943587
E57: 1673560811713 | G57: 809755664710 | I57: 331816628 | K57: 1365299606977 | M57: -465138335 | O57: -1218694356710 | Q57: =C55+I55+M55 -> 504433539 | U57: 2174483626857 | W57: 759545084764 | Y57: 85.04
E58: 92159966047 | G58: 58323833252 | I58: =I57-I55 -> 3000000 | K58: =K57-K55 -> 174130485 | M58: =M57-M55 -> 0 | O58: =O57-O55 -> 0 | Q58: =Q57-Q55 -> 0 | U58: 38858047502 | W58: 3635363922 | Y58: 4.9
E59: =E57+E58 -> 1765720777760 | G59: =SUM(G57:G58) -> 868079497962 | U59: 92159966047 | W59: 79383479805 | Y59: =Y57+Y58 -> 89.94
E60: =E59-E55 -> 0 | G60: =E59+G59 -> 2633800275722 | U60: =U57+U58+U59 -> 2305501640406 | W60: =SUM(W57:W59) -> 842563928491 | Y60: =Y59-Y55 -> -0.0035865171
G61: =G60-G55 -> 0 | U61: =U60-U55 -> 0 | W61: =U60+W60 -> 3148065568897
W62: =W61-W55 -> 0
E63: 1765720777760 | G63: 2633800275722
E64: =E63-E55 -> 0 | G64: =G63-G55 -> 0

Sheet اوراق مشتقه
A1: صندوق سهامی حفظ ارزش دماوند
A2: صورت وضعیت پرتفوی
A3: =سهام!A3 -> به تاریخ 31 شهریور 1405
A5: اطلاعات آماری مرتبط با اوراق اختیار فروش تبعی خریداری شده توسط صندوق سرمایه گذاری:
C6: =سهام!C6 -> (مبالغ به ریال)
C7: =سهام!C7 -> 1405/05/31 | K7: =سهام!Q7 -> 1405/06/31
A8: نام اختیار تبعی سهام | C8: تعداد اوراق تبعی | E8: قیمت اعمال | G8: تاریخ اعمال | I8: نرخ سود موثر | K8: تعداد اوراق تبعی | M8: قیمت اعمال | O8: تاریخ اعمال | Q8: نرخ سود موثر
A9: اختیارف ت وبملت-1383-05/07/27 | C9: 180189901 | E9: 901 | G9: 1405/07/27 | I9: 0.19852597 | K9: 145000000 | M9: 915 | O9: 1405/07/27 | Q9: 0.19852597
A10: اختیارف ت خودرو-535-05/08/09 | C10: 95000000 | E10: 517 | G10: 1405/08/09 | I10: 0.19888527 | K10: 0 | M10: 0 | O10: - | Q10: -

Sheet اوراق
A1: =سهام!A1 -> صندوق حفظ ارزش دماوند
A2: صورت وضعیت پرتفوی
A3: =سهام!A3 -> به تاریخ 31 شهریور 1405
A5: 1-2-سرمایه‌گذاری در اوراق بهادار با درآمد ثابت یا علی‌الحساب
C6: =سهام!C6 -> (مبالغ به ریال)
C7: اطلاعات اوراق بهادار با درآمد ثابت | M7: =سهام!C7 -> 1405/05/31 | S7: تغییرات طی دوره | AA7: =سهام!Q7 -> 1405/06/31
A8: نام اوراق | C8: دارای مجوز از سازمان | E8: پذیرفته شده در بورس یا فرابورس | G8: تاریخ انتشار اوراق | I8: تاریخ سررسید | K8: نرخ سود اسمی | M8: تعداد | O8: بهای تمام شده | Q8: خالص ارزش فروش | S8: خرید طی دوره | W8: فروش طی دوره | AA8: تعداد | AC8: قیمت بازار هر سهم | AE8: بهای تمام شده | AG8: خالص ارزش فروش | AI8: درصد به کل دارایی ها
S9: تعداد | U9: بهای تمام شده | W9: تعداد | Y9: مبلغ فروش | AK9: =سهام!AA9 -> 3500044517682
A10: صکوک مرابحه اندیمشک07-6ماهه23% | C10: بله | E10: بله | G10: 1402/10/06 | I10: 1407/10/06 | K10: 23 | M10: 237600 | O10: 237721695000 | Q10: 237470805000 | S10: 244000 | U10: 244125175000 | W10: -243600 | Y10: -243475042500 | AA10: 238000 | AC10: 1000000 | AE10: 238122945054 | AG10: 237870587500 | AI10: =AG10/$AK$9*100 -> 6.7962161 | AK10: =M10+S10+W10-AA10 -> 0
A11: صکوک اجاره اخابر61-3ماهه23% | C11: بله | E11: بله | G11: 1402/11/14 | I11: 1406/11/14 | K11: 23 | M11: 142000 | O11: 142076507952 | Q11: 141922787500 | S11: 269000 | U11: 269132168750 | W11: -411000 | Y11: -410797668750 | AA11: 0 | AC11: 0 | AE11: 0 | AG11: 0 | AI11: =AG11/$AK$9*100 -> 0 | AK11: =M11+S11+W11-AA11 -> 0
M12: =SUM(M10:M11) -> 379600 | O12: =SUM(O10:O11) -> 379798202952 | Q12: =SUM(Q10:Q11) -> 379393592500 | S12: =SUM(S10:S11) -> 513000 | U12: =SUM(U10:U11) -> 513257343750 | W12: =SUM(W10:W11) -> -654600 | Y12: =SUM(Y10:Y11) -> -654272711250 | AA12: =SUM(AA10:AA11) -> 238000 | AE12: =SUM(AE10:AE11) -> 238122945054 | AG12: =SUM(AG10:AG11) -> 237870587500 | AI12: =SUM(AI10:AI11) -> 6.7962161
O14: 379798202952 | Q14: -404610452 | S14: 513000 | U14: 513257343750 | W14: -654600 | Y14: -654272711250 | AE14: 238122945054 | AG14: -252357554 | AI14: 7.15
O15: =O14-O12 -> 0 | Q15: =O14+Q14 -> 379393592500 | S15: =S14-S12 -> 0 | U15: =U14-U12 -> 0 | W15: =W14-W12 -> 0 | Y15: =Y14-Y12 -> 0 | AE15: =AE14-AE12 -> 0 | AG15: =AE14+AG14 -> 237870587500 | AI15: =AI14-AI12 -> 0.35378394
Q16: =Q15-Q12 -> 0 | AG16: =AG15-AG12 -> 0
O17: 379798202952 | Q17: 379393592500
O18: =O17-O12 -> 0 | Q18: =Q17-Q12 -> 0

Sheet تعدیل قیمت
A1: صندوق سهامی حفظ ارزش دماوند
A2: صورت وضعیت پرتفوی
A3: =سهام!A3 -> به تاریخ 31 شهریور 1405
A4: اوراق بهاداری که ارزش آنها در تاریخ گزارش تعدیل شده
A5: (بر اساس دستورالعمل نحوه تعیین قیمت خرید و فروش اوراق بهادار در صندوق های سرمایه گذاری)
C6: =سهام!C6 -> (مبالغ به ریال)
C7: =سهام!Q7 -> 1405/06/31
A8: نام اوراق بهادار | C8: تعداد | E8: قیمت پایانی | G8: قیمت تعدیل شده | I8: خالص ارزش فروش تعدیل شده | K8: دلیل تعدیل
A9: صکوک مرابحه اندیمشک07-6ماهه23% | C9: 238000 | E9: 1000000 | G9: 1000000 | I9: =C9*G9 -> 238000000000 | K9: سایر
I20: ر

Sheet سپرده
A1: =سهام!A1 -> صندوق حفظ ارزش دماوند
A2: صورت وضعیت پرتفوی
A3: =سهام!A3 -> به تاریخ 31 شهریور 1405
A5: 1-3- سرمایه‌گذاری در سپرده‌ بانکی
C6: =سهام!C6 -> (مبالغ به ریال)
C7: =سهام!C7 -> 1405/05/31 | E7: تغییرات طی دوره | I7: =سهام!Q7 -> 1405/06/31
A8: سپرده های بانکی | C8: مبلغ | E8: افزایش | G8: کاهش | I8: مبلغ | K8: درصد به کل دارایی ها | M8: =سهام!AA9 -> 3500044517682
A9: بانک پاسارگاد | C9: 19842373252 | E9: 12472510830 | G9: -14944223179 | H9: 0 | I9: =C9+E9+G9 -> 17370660903 | K9: =I9/$M$8*100 -> 0.49629828
A10: بانک گردشگری | C10: 1409969678 | E10: 479639430530 | G10: -478889113633 | I10: =C10+E10+G10 -> 2160286575 | K10: =I10/$M$8*100 -> 0.061721689
A11: بانک سامان | C11: 79989561 | E11: 338611 | G11: 0 | I11: =C11+E11+G11 -> 80328172 | K11: =I11/$M$8*100 -> 0.0022950614
C12: =SUM(C9:C11) -> 21332332491 | E12: =SUM(E9:E11) -> 492112279971 | G12: =SUM(G9:G11) -> -493833336812 | I12: =SUM(I9:I11) -> 19611275650 | K12: =SUM(K9:K11) -> 0.56031503
C14: 21332332491 | E14: 492112279971 | G14: -493833336812 | I14: =C14+E14+G14 -> 19611275650 | K14: 0.56
C15: =C14-C12 -> 0 | E15: =E14-E12 -> 0 | G15: =G14-G12 -> 0 | I15: =I14-I12 -> 0 | K15: =K14-K12 -> -0.00031503459
I16: =C12+E12+G12-I12 -> 0

Sheet درآمد
A1: =سهام!A1 -> صندوق حفظ ارزش دماوند
A2: صورت وضعیت درآمدها
A3: دوره یک ماهه منتهی به 31 شهریور 1405
A5: 2- درآمد حاصل از سرمایه گذاری‌ها
C6: =سهام!C6 -> (مبالغ به ریال)
A7: شرح | C7: یادداشت | E7: مبلغ | G7: درصد از کل درآمدها | I7: درصد از کل دارایی ها
A8: درآمد حاصل از سرمایه‌گذاری در سهام و حق تقدم سهام | C8: 2-1 | E8: ='درآمد سرمایه گذاری در سهام'!S76 -> 1684881506314 | G8: =E8/$E$12*100 -> 97.850358 | I8: =E8/3097562630324*100 -> 54.393783 | J8: ='درآمد سرمایه گذاری در سهام'!#REF! -> #REF! | K8: ='درآمد سرمایه گذاری در سهام'!#REF! -> #REF! | L8: ='درآمد سرمایه گذاری در سهام'!#REF! -> #REF!
A9: درآمد حاصل از سرمایه‌گذاری در اوراق بهادار با درآمد ثابت | C9: 2-2 | E9: ='درآمد سرمایه گذاری در اوراق به'!S13 -> 30862287699 | G9: =E9/$E$12*100 -> 1.7923432 | I9: =E9/3097562630324*100 -> 0.99634104 | J9: ='درآمد سرمایه گذاری در اوراق به'!I13 -> 7271460164 | K9: ='درآمد سرمایه گذاری در اوراق به'!I13 -> 7271460164 | L9: ='درآمد سرمایه گذاری در اوراق به'!I13 -> 7271460164
A10: درآمد حاصل از سرمایه‌گذاری در سپرده بانکی و گواهی سپرده | C10: 2-3 | E10: ='درآمد سپرده بانکی'!G14 -> 1581978840 | G10: =E10/$E$12*100 -> 0.091874233 | I10: =E10/3097562630324*100 -> 0.051071731 | J10: ='درآمد سپرده بانکی'!C14 -> 390000073 | K10: ='درآمد سپرده بانکی'!C14 -> 390000073 | L10: ='درآمد سپرده بانکی'!C14 -> 390000073
A11: سایر درآمدها | C11: 2-4 | E11: ='سایر درآمدها'!E11 -> 4570332898 | G11: =E11/$E$12*100 -> 0.26542443 | I11: =E11/3097562630324*100 -> 0.1475461 | J11: ='سایر درآمدها'!C11 -> 2426087777 | K11: ='سایر درآمدها'!C11 -> 2426087777 | L11: ='سایر درآمدها'!C11 -> 2426087777
E12: =SUM(E8:E11) -> 1721896105751 | G12: =SUM(G8:G11) -> 100 | I12: =SUM(I8:I11) -> 55.588742 | J12: =SUM(J8:J11) -> #REF! | K12: =SUM(K8:K11) -> #REF! | L12: =SUM(L8:L11) -> #REF!
E14: 1721896105751 | J14: 356528053029 | L14: -39899696555
E15: =E14-E12 -> 0 | J15: =J12-J14 -> #REF! | L15: =L12-L14 -> #REF!

Sheet درآمد سرمایه گذاری در سهام
A1: =سهام!A1 -> صندوق حفظ ارزش دماوند
A2: صورت وضعیت درآمدها
A3: =درآمد!A3 -> دوره یک ماهه منتهی به 31 شهریور 1405
A5: 2-1- درآمد حاصل از سرمایه‌گذاری در سهام، حق تقدم سهام و گواهی سپرده کالایی
C6: =درآمد!C6 -> (مبالغ به ریال)
C7: طی شهریور ماه | M7: از ابتدای سال مالی تا پایان شهریور ماه
A8: سهام | C8: درآمد سود سهام | E8: درآمد تغییر ارزش | G8: درآمد فروش | I8: جمع | M8: درآمد سود سهام | O8: درآمد تغییر ارزش | Q8: درآمد فروش | S8: جمع
C9: یادداشت 1-1-2 | E9: یادداشت 2-1-2 | G9: یادداشت 3-1-2 | I9: مبلغ | K9: درصد از کل درآمدها | M9: یادداشت 1-1-2 | O9: یادداشت 2-1-2 | Q9: یادداشت 3-1-2 | S9: مبلغ | U9: درصد از کل درآمدها
A10: بورس کالای ایران | C10: 0 | E10: -30600749980 | G10: 102154949524 | I10: =C10+E10+G10 -> 71554199544 | K10: =I10/$I$76*100 -> 18.525673 | M10: =VLOOKUP(A10,'درآمد سود سهام'!A:M,9,0) -> 10070000000 | O10: =VLOOKUP(A10,'درآمد ناشی از تغییر قیمت اوراق'!A:Q,17,0) -> 178936555508 | Q10: =VLOOKUP(A10,'درآمد ناشی از فروش'!A:Q,17,0) -> 103771329669 | S10: =M10+O10+Q10 -> 292777885177 | U10: =S10/$S$76*100 -> 17.376764
A11: سرمایه گذاری تامین اجتماعی | C11: 0 | E11: -31218562492 | G11: 82572647919 | I11: =C11+E11+G11 -> 51354085427 | K11: =I11/$I$76*100 -> 13.295781 | M11: 0 | O11: =VLOOKUP(A11,'درآمد ناشی از تغییر قیمت اوراق'!A:Q,17,0) -> 159160936579 | Q11: =VLOOKUP(A11,'درآمد ناشی از فروش'!A:Q,17,0) -> 86493574866 | S11: =M11+O11+Q11 -> 245654511445 | U11: =S11/$S$76*100 -> 14.579928
A12: پالایش نفت اصفهان | C12: 0 | E12: -18028740572 | G12: 32084303287 | I12: =C12+E12+G12 -> 14055562715 | K12: =I12/$I$76*100 -> 3.6390422 | M12: =VLOOKUP(A12,'درآمد سود سهام'!A:M,9,0) -> 14800000000 | O12: =VLOOKUP(A12,'درآمد ناشی از تغییر قیمت اوراق'!A:Q,17,0) -> 115611548073 | Q12: =VLOOKUP(A12,'درآمد ناشی از فروش'!A:Q,17,0) -> 54727091221 | S12: =M12+O12+Q12 -> 185138639294 | U12: =S12/$S$76*100 -> 10.988229
A13: ملی‌ صنایع‌ مس‌ ایران‌ | C13: 752143050 | E13: 22404160898 | G13: 19807953473 | I13: =C13+E13+G13 -> 42964257421 | K13: =I13/$I$76*100 -> 11.123621 | M13: =VLOOKUP(A13,'درآمد سود سهام'!A:M,9,0) -> 2025000000 | O13: =VLOOKUP(A13,'درآمد ناشی از تغییر قیمت اوراق'!A:Q,17,0) -> 56051611571 | Q13: =VLOOKUP(A13,'درآمد ناشی از فروش'!A:Q,17,0) -> 19807939894 | S13: =M13+O13+Q13 -> 77884551465 | U13: =S13/$S$76*100 -> 4.6225536
A14: بانک ملت | C14: 0 | E14: -27812424646 | G14: 47666580890 | I14: =C14+E14+G14 -> 19854156244 | K14: =I14/$I$76*100 -> 5.1403216 | M14: =VLOOKUP(A14,'درآمد سود سهام'!A:M,9,0) -> 8393260832 | O14: =VLOOKUP(A14,'درآمد ناشی از تغییر قیمت اوراق'!A:Q,17,0) -> 49212253382 | Q14: =VLOOKUP(A14,'درآمد ناشی از فروش'!A:Q,17,0) -> 52527815754 | S14: =M14+O14+Q14 -> 110133329968 | U14: =S14/$S$76*100 -> 6.5365623
A15: شمش طلا GoldBar | C15: 0 | E15: 21059646553 | G15: 0 | I15: =C15+E15+G15 -> 21059646553 | K15: =I15/$I$76*100 -> 5.452428 | M15: 0 | O15: =VLOOKUP(A15,'درآمد ناشی از تغییر قیمت اوراق'!A:Q,17,0) -> 37056832972 | Q15: 0 | S15: =M15+O15+Q15 -> 37056832972 | U15: =S15/$S$76*100 -> 2.1993732
A16: توزیع دارو پخش | C16: 0 | E16: 963739380 | G16: 0 | I16: =C16+E16+G16 -> 963739380 | K16: =I16/$I$76*100 -> 0.24951604 | M16: =VLOOKUP(A16,'درآمد سود سهام'!A:M,9,0) -> 2670929580 | O16: =VLOOKUP(A16,'درآمد ناشی از تغییر قیمت اوراق'!A:Q,17,0) -> 32025306516 | Q16: 0 | S16: =M16+O16+Q16 -> 34696236096 | U16: =S16/$S$76*100 -> 2.0592686
A17: داروسازی‌ فارابی‌ | C17: 0 | E17: -9084259120 | G17: 10422896069 | I17: =C17+E17+G17 -> 1338636949 | K17: =I17/$I$76*100 -> 0.34657854 | M17: =VLOOKUP(A17,'درآمد سود سهام'!A:M,9,0) -> 4650000000 | O17: =VLOOKUP(A17,'درآمد ناشی از تغییر قیمت اوراق'!A:Q,17,0) -> 28785041742 | Q17: =VLOOKUP(A17,'درآمد ناشی از فروش'!A:Q,17,0) -> 10422896069 | S17: =M17+O17+Q17 -> 43857937811 | U17: =S17/$S$76*100 -> 2.603028
A18: بین المللی توسعه ص. معادن غدیر | C18: 0 | E18: 22138535970 | G18: 0 | I18: =C18+E18+G18 -> 22138535970 | K18: =I18/$I$76*100 -> 5.7317568 | M18: 0 | O18: =VLOOKUP(A18,'درآمد ناشی از تغییر قیمت اوراق'!A:Q,17,0) -> 25703838953 | Q18: 0 | S18: =M18+O18+Q18 -> 25703838953 | U18: =S18/$S$76*100 -> 1.5255577
A19: تولیدات پتروشیمی قائد بصیر | C19: 0 | E19: 15201576400 | G19: 0 | I19: =C19+E19+G19 -> 15201576400 | K19: =I19/$I$76*100 -> 3.9357498 | M19: =VLOOKUP(A19,'درآمد سود سهام'!A:M,9,0) -> 6400000000 | O19: =VLOOKUP(A19,'درآمد ناشی از تغییر قیمت اوراق'!A:Q,17,0) -> 22253881549 | Q19: 0 | S19: =M19+O19+Q19 -> 28653881549 | U19: =S19/$S$76*100 -> 1.7006467
A20: زرین ذرت شاهرود | C20: 0 | E20: 11411104864 | G20: -6234 | I20: =C20+E20+G20 -> 11411098630 | K20: =I20/$I$76*100 -> 2.9543798 | M20: 0 | O20: =VLOOKUP(A20,'درآمد ناشی از تغییر قیمت اوراق'!A:Q,17,0) -> 22136883745 | Q20: =VLOOKUP(A20,'درآمد ناشی از فروش'!A:Q,17,0) -> -6234 | S20: =M20+O20+Q20 -> 22136877511 | U20: =S20/$S$76*100 -> 1.3138537
A21: نفت‌ بهران‌ | C21: 0 | E21: -7054431653 | G21: 6409967473 | I21: =C21+E21+G21 -> -644464180 | K21: =I21/$I$76*100 -> -0.16685439 | M21: =VLOOKUP(A21,'درآمد سود سهام'!A:M,9,0) -> 4200000000 | O21: =VLOOKUP(A21,'درآمد ناشی از تغییر قیمت اوراق'!A:Q,17,0) -> 17804632426 | Q21: =VLOOKUP(A21,'درآمد ناشی از فروش'!A:Q,17,0) -> 6409967473 | S21: =M21+O21+Q21 -> 28414599899 | U21: =S21/$S$76*100 -> 1.686445
A22: فولاد مبارکه اصفهان | C22: 0 | E22: 0 | G22: 0 | I22: =C22+E22+G22 -> 0 | K22: =I22/$I$76*100 -> 0 | M22: =VLOOKUP(A22,'درآمد سود سهام'!A:M,9,0) -> 3482720725 | O22: 0 | Q22: =VLOOKUP(A22,'درآمد ناشی از فروش'!A:Q,17,0) -> 84390389573 | S22: =M22+O22+Q22 -> 87873110298 | U22: =S22/$S$76*100 -> 5.2153881
A23: صنعت غذایی کورش | C23: 0 | E23: 0 | G23: 0 | I23: =C23+E23+G23 -> 0 | K23: =I23/$I$76*100 -> 0 | M23: =VLOOKUP(A23,'درآمد سود سهام'!A:M,9,0) -> 160000000 | O23: 0 | Q23: =VLOOKUP(A23,'درآمد ناشی از فروش'!A:Q,17,0) -> 427768721 | S23: =M23+O23+Q23 -> 587768721 | U23: =S23/$S$76*100 -> 0.03488487
A24: شرکت آهن و فولاد ارفع | C24: 0 | E24: 18721248726 | G24: 5721299510 | I24: =C24+E24+G24 -> 24442548236 | K24: =I24/$I$76*100 -> 6.328275 | M24: 0 | O24: =VLOOKUP(A24,'درآمد ناشی از تغییر قیمت اوراق'!A:Q,17,0) -> 14667432714 | Q24: =VLOOKUP(A24,'درآمد ناشی از فروش'!A:Q,17,0) -> 5721299510 | S24: =M24+O24+Q24 -> 20388732224 | U24: =S24/$S$76*100 -> 1.2100989
A25: کاشی‌ الوند | C25: 0 | E25: 2959394606 | G25: 3001597054 | I25: =C25+E25+G25 -> 5960991660 | K25: =I25/$I$76*100 -> 1.5433249 | M25: =VLOOKUP(A25,'درآمد سود سهام'!A:M,9,0) -> 3570000000 | O25: =VLOOKUP(A25,'درآمد ناشی از تغییر قیمت اوراق'!A:Q,17,0) -> 11012804019 | Q25: =VLOOKUP(A25,'درآمد ناشی از فروش'!A:Q,17,0) -> 3001597054 | S25: =M25+O25+Q25 -> 17584401073 | U25: =S25/$S$76*100 -> 1.043658
A26: پتروشیمی‌شیراز | C26: 0 | E26: 4182418050 | G26: 0 | I26: =C26+E26+G26 -> 4182418050 | K26: =I26/$I$76*100 -> 1.082845 | M26: =VLOOKUP(A26,'درآمد سود سهام'!A:M,9,0) -> 3464000000 | O26: =VLOOKUP(A26,'درآمد ناشی از تغییر قیمت اوراق'!A:Q,17,0) -> 10687740170 | Q26: 0 | S26: =M26+O26+Q26 -> 14151740170 | U26: =S26/$S$76*100 -> 0.83992495
A27: نشاسته و گلوکز آردینه | C27: 0 | E27: -3187674320 | G27: 1962468097 | I27: =C27+E27+G27 -> -1225206223 | K27: =I27/$I$76*100 -> -0.31721086 | M27: =VLOOKUP(A27,'درآمد سود سهام'!A:M,9,0) -> 7000000000 | O27: =VLOOKUP(A27,'درآمد ناشی از تغییر قیمت اوراق'!A:Q,17,0) -> 8732862098 | Q27: =VLOOKUP(A27,'درآمد ناشی از فروش'!A:Q,17,0) -> 1962468097 | S27: =M27+O27+Q27 -> 17695330195 | U27: =S27/$S$76*100 -> 1.0502418
A28: سرمایه‌گذاری‌غدیر(هلدینگ‌ | C28: 0 | E28: 2197411335 | G28: 2297237572 | I28: =C28+E28+G28 -> 4494648907 | K28: =I28/$I$76*100 -> 1.1636828 | M28: 0 | O28: =VLOOKUP(A28,'درآمد ناشی از تغییر قیمت اوراق'!A:Q,17,0) -> 7767525135 | Q28: =VLOOKUP(A28,'درآمد ناشی از فروش'!A:Q,17,0) -> 2297237572 | S28: =M28+O28+Q28 -> 10064762707 | U28: =S28/$S$76*100 -> 0.5973573
A29: سالمین‌ | C29: 0 | E29: -3105617839 | G29: 3048224874 | I29: =C29+E29+G29 -> -57392965 | K29: =I29/$I$76*100 -> -0.014859272 | M29: =VLOOKUP(A29,'درآمد سود سهام'!A:M,9,0) -> 3248724850 | O29: =VLOOKUP(A29,'درآمد ناشی از تغییر قیمت اوراق'!A:Q,17,0) -> 7103301906 | Q29: =VLOOKUP(A29,'درآمد ناشی از فروش'!A:Q,17,0) -> 3048224874 | S29: =M29+O29+Q29 -> 13400251630 | U29: =S29/$S$76*100 -> 0.79532309
A30: صبا فولاد خلیج فارس | C30: 0 | E30: 7081809244 | G30: 0 | I30: =C30+E30+G30 -> 7081809244 | K30: =I30/$I$76*100 -> 1.8335092 | M30: 0 | O30: =VLOOKUP(A30,'درآمد ناشی از تغییر قیمت اوراق'!A:Q,17,0) -> 7081809244 | Q30: 0 | S30: =M30+O30+Q30 -> 7081809244 | U30: =S30/$S$76*100 -> 0.42031497
A31: دارویی و نهاده های زاگرس دارو | C31: 0 | E31: -6691868880 | G31: 0 | I31: =C31+E31+G31 -> -6691868880 | K31: =I31/$I$76*100 -> -1.732552 | M31: 0 | O31: =VLOOKUP(A31,'درآمد ناشی از تغییر قیمت اوراق'!A:Q,17,0) -> 6648599590 | Q31: 0 | S31: =M31+O31+Q31 -> 6648599590 | U31: =S31/$S$76*100 -> 0.39460339
A32: سیمان‌سپاهان‌ | C32: 0 | E32: 325856955 | G32: 1363636494 | I32: =C32+E32+G32 -> 1689493449 | K32: =I32/$I$76*100 -> 0.43741671 | M32: 0 | O32: =VLOOKUP(A32,'درآمد ناشی از تغییر قیمت اوراق'!A:Q,17,0) -> 5569103592 | Q32: =VLOOKUP(A32,'درآمد ناشی از فروش'!A:Q,17,0) -> 1363636494 | S32: =M32+O32+Q32 -> 6932740086 | U32: =S32/$S$76*100 -> 0.41146752
A33: ح. کویر تایر | C33: 0 | E33: 3635363922 | G33: -2458 | I33: =C33+E33+G33 -> 3635361464 | K33: =I33/$I$76*100 -> 0.94120984 | M33: 0 | O33: =VLOOKUP(A33,'درآمد ناشی از تغییر قیمت اوراق'!A:Q,17,0) -> 3635363922 | Q33: =VLOOKUP(A33,'درآمد ناشی از فروش'!A:Q,17,0) -> -2458 | S33: =M33+O33+Q33 -> 3635361464 | U33: =S33/$S$76*100 -> 0.21576363
A34: اختیارخ وبملت-1600-1405/07/22(ضملت70451) | C34: 0 | E34: 3625112102 | G34: -93608725 | I34: =C34+E34+G34 -> 3531503377 | K34: =I34/$I$76*100 -> 0.91432056 | M34: 0 | O34: =VLOOKUP(A34,'درآمد ناشی از تغییر قیمت اوراق'!A:Q,17,0) -> 3625112102 | Q34: -93608725 | S34: =M34+O34+Q34 -> 3531503377 | U34: =S34/$S$76*100 -> 0.20959951
A35: کویر تایر | C35: 0 | E35: 2381775400 | G35: 0 | I35: =C35+E35+G35 -> 2381775400 | K35: =I35/$I$76*100 -> 0.61665132 | M35: 0 | O35: =VLOOKUP(A35,'درآمد ناشی از تغییر قیمت اوراق'!A:Q,17,0) -> 2381775400 | Q35: 0 | S35: =M35+O35+Q35 -> 2381775400 | U35: =S35/$S$76*100 -> 0.1413616
A36: تولیدی‌مهرام‌ | C36: 0 | E36: 1953982334 | G36: 4812096544 | I36: =C36+E36+G36 -> 6766078878 | K36: =I36/$I$76*100 -> 1.7517653 | M36: 0 | O36: =VLOOKUP(A36,'درآمد ناشی از تغییر قیمت اوراق'!A:Q,17,0) -> 1953982334 | Q36: =VLOOKUP(A36,'درآمد ناشی از فروش'!A:Q,17,0) -> 4812096544 | S36: =M36+O36+Q36 -> 6766078878 | U36: =S36/$S$76*100 -> 0.40157595
A37: فنرسازی زر گلپایگان | C37: 0 | E37: 1780199190 | G37: 0 | I37: =C37+E37+G37 -> 1780199190 | K37: =I37/$I$76*100 -> 0.4609008 | M37: 0 | O37: =VLOOKUP(A37,'درآمد ناشی از تغییر قیمت اوراق'!A:Q,17,0) -> 1780199190 | Q37: 0 | S37: =M37+O37+Q37 -> 1780199190 | U37: =S37/$S$76*100 -> 0.10565723
A38: توسعه خدمات دریایی وبندری سینا | C38: 0 | E38: 6483492180 | G38: 0 | I38: =C38+E38+G38 -> 6483492180 | K38: =I38/$I$76*100 -> 1.6786024 | M38: =VLOOKUP(A38,'درآمد سود سهام'!A:M,9,0) -> 1755000000 | O38: =VLOOKUP(A38,'درآمد ناشی از تغییر قیمت اوراق'!A:Q,17,0) -> 1753201828 | Q38: 0 | S38: =M38+O38+Q38 -> 3508201828 | U38: =S38/$S$76*100 -> 0.20821653
A39: صنعتی معدنی سیمان تجارت مهریز | C39: 0 | E39: 1532466952 | G39: 2570385657 | I39: =C39+E39+G39 -> 4102852609 | K39: =I39/$I$76*100 -> 1.0622452 | M39: 0 | O39: =VLOOKUP(A39,'درآمد ناشی از تغییر قیمت اوراق'!A:Q,17,0) -> 1532466952 | Q39: =VLOOKUP(A39,'درآمد ناشی از فروش'!A:Q,17,0) -> 2570385657 | S39: =M39+O39+Q39 -> 4102852609 | U39: =S39/$S$76*100 -> 0.24350986
A40: بانک تجارت | C40: 0 | E40: 0 | G40: 0 | I40: =C40+E40+G40 -> 0 | K40: =I40/$I$76*100 -> 0 | M40: 0 | O40: 0 | Q40: =VLOOKUP(A40,'درآمد ناشی از فروش'!A:Q,17,0) -> 96944237316 | S40: =M40+O40+Q40 -> 96944237316 | U40: =S40/$S$76*100 -> 5.7537718
A41: ذوب آهن اصفهان | C41: 0 | E41: 0 | G41: 0 | I41: =C41+E41+G41 -> 0 | K41: =I41/$I$76*100 -> 0 | M41: 0 | O41: 0 | Q41: =VLOOKUP(A41,'درآمد ناشی از فروش'!A:Q,17,0) -> 30349765224 | S41: =M41+O41+Q41 -> 30349765224 | U41: =S41/$S$76*100 -> 1.8012997
A42: سایپا | C42: 0 | E42: 0 | G42: 0 | I42: =C42+E42+G42 -> 0 | K42: =I42/$I$76*100 -> 0 | M42: 0 | O42: 0 | Q42: =VLOOKUP(A42,'درآمد ناشی از فروش'!A:Q,17,0) -> 22933216025 | S42: =M42+O42+Q42 -> 22933216025 | U42: =S42/$S$76*100 -> 1.3611174
A43: تولیدی چدن سازان | C43: 0 | E43: 0 | G43: 0 | I43: =C43+E43+G43 -> 0 | K43: =I43/$I$76*100 -> 0 | M43: 0 | O43: 0 | Q43: =VLOOKUP(A43,'درآمد ناشی از فروش'!A:Q,17,0) -> 13895935485 | S43: =M43+O43+Q43 -> 13895935485 | U43: =S43/$S$76*100 -> 0.8247426
A44: گروه مالی نماد غدیر(سهامی عام) | C44: 0 | E44: 0 | G44: 0 | I44: =C44+E44+G44 -> 0 | K44: =I44/$I$76*100 -> 0 | M44: 0 | O44: 0 | Q44: =VLOOKUP(A44,'درآمد ناشی از فروش'!A:Q,17,0) -> 9696097999 | S44: =M44+O44+Q44 -> 9696097999 | U44: =S44/$S$76*100 -> 0.57547655
A45: پتروشیمی پردیس | C45: 0 | E45: 0 | G45: 0 | I45: =C45+E45+G45 -> 0 | K45: =I45/$I$76*100 -> 0 | M45: 0 | O45: 0 | Q45: =VLOOKUP(A45,'درآمد ناشی از فروش'!A:Q,17,0) -> 8172450482 | S45: =M45+O45+Q45 -> 8172450482 | U45: =S45/$S$76*100 -> 0.48504601
A46: پتروشیمی شازند | C46: 0 | E46: 0 | G46: 0 | I46: =C46+E46+G46 -> 0 | K46: =I46/$I$76*100 -> 0 | M46: 0 | O46: 0 | Q46: =VLOOKUP(A46,'درآمد ناشی از فروش'!A:Q,17,0) -> 7881823039 | S46: =M46+O46+Q46 -> 7881823039 | U46: =S46/$S$76*100 -> 0.46779688
A47: کارخانجات تولیدی نیروترانسفو | C47: 0 | E47: 0 | G47: 0 | I47: =C47+E47+G47 -> 0 | K47: =I47/$I$76*100 -> 0 | M47: 0 | O47: 0 | Q47: =VLOOKUP(A47,'درآمد ناشی از فروش'!A:Q,17,0) -> 5650066390 | S47: =M47+O47+Q47 -> 5650066390 | U47: =S47/$S$76*100 -> 0.33533909
A48: ح.شرکت آهن و فولاد ارفع | C48: 0 | E48: 0 | G48: 5457162590 | I48: =C48+E48+G48 -> 5457162590 | K48: =I48/$I$76*100 -> 1.4128815 | M48: 0 | O48: 0 | Q48: =VLOOKUP(A48,'درآمد ناشی از فروش'!A:Q,17,0) -> 5457162590 | S48: =M48+O48+Q48 -> 5457162590 | U48: =S48/$S$76*100 -> 0.32388999
A49: بانک‌اقتصادنوین‌ | C49: 0 | E49: 0 | G49: 3267883071 | I49: =C49+E49+G49 -> 3267883071 | K49: =I49/$I$76*100 -> 0.84606819 | M49: 0 | O49: 0 | Q49: =VLOOKUP(A49,'درآمد ناشی از فروش'!A:Q,17,0) -> 3267883071 | S49: =M49+O49+Q49 -> 3267883071 | U49: =S49/$S$76*100 -> 0.19395329
A50: س. و توسعه صنایع لاستیک | C50: 0 | E50: 0 | G50: 0 | I50: =C50+E50+G50 -> 0 | K50: =I50/$I$76*100 -> 0 | M50: 0 | O50: 0 | Q50: =VLOOKUP(A50,'درآمد ناشی از فروش'!A:Q,17,0) -> 1393595470 | S50: =M50+O50+Q50 -> 1393595470 | U50: =S50/$S$76*100 -> 0.082711779
A51: سرمایه گذاری پایا تدبیرپارسا | C51: 0 | E51: 0 | G51: 0 | I51: =C51+E51+G51 -> 0 | K51: =I51/$I$76*100 -> 0 | M51: 0 | O51: 0 | Q51: =VLOOKUP(A51,'درآمد ناشی از فروش'!A:Q,17,0) -> 1369358911 | S51: =M51+O51+Q51 -> 1369358911 | U51: =S51/$S$76*100 -> 0.081273307
... A54: پویا زرکان آق دره | C54: 0 | E54: 0 | G54: 0 | I54: =C54+E54+G54 -> 0 | K54: =I54/$I$76*100 -> 0 | M54: 0 | O54: 0 | Q54: =VLOOKUP(A54,'درآمد ناشی از فروش'!A:Q,17,0) -> 15517834 | S54: =M54+O54+Q54 -> 15517834 | U54: =S54/$S$76*100 -> 0.00092100447
A55: تایدواترخاورمیانه | C55: 0 | E55: 4345865430 | G55: 0 | I55: =C55+E55+G55 -> 4345865430 | K55: =I55/$I$76*100 -> 1.1251622 | M55: =VLOOKUP(A55,'درآمد سود سهام'!A:M,9,0) -> 3570000000 | O55: =VLOOKUP(A55,'درآمد ناشی از تغییر قیمت اوراق'!A:Q,17,0) -> 1038018933 | Q55: 0 | S55: =M55+O55+Q55 -> 4608018933 | U55: =S55/$S$76*100 -> 0.27349217
A56: مدیریت نیروگاهی ایرانیان مپنا | C56: 0 | E56: 334127105 | G56: 0 | I56: =C56+E56+G56 -> 334127105 | K56: =I56/$I$76*100 -> 0.086506864 | M56: 0 | O56: =VLOOKUP(A56,'درآمد ناشی از تغییر قیمت اوراق'!A:Q,17,0) -> 334127105 | Q56: 0 | S56: =M56+O56+Q56 -> 334127105 | U56: =S56/$S$76*100 -> 0.019830896
A57: معدنی‌وصنعتی‌چادرملو | C57: 0 | E57: 417495638 | G57: 0 | I57: =C57+E57+G57 -> 417495638 | K57: =I57/$I$76*100 -> 0.10809132 | M57: 0 | O57: =VLOOKUP(A57,'درآمد ناشی از تغییر قیمت اوراق'!A:Q,17,0) -> 128896429 | Q57: =VLOOKUP(A57,'درآمد ناشی از فروش'!A:Q,17,0) -> 9776290710 | S57: =M57+O57+Q57 -> 9905187139 | U57: =S57/$S$76*100 -> 0.58788628
A58: اختیارخ شستا-3250-1405/07/15(ضستا70621) | C58: 0 | E58: -175360701 | G58: 0 | I58: =C58+E58+G58 -> -175360701 | K58: =I58/$I$76*100 -> -0.045401597 | M58: 0 | O58: =VLOOKUP(A58,'درآمد ناشی از تغییر قیمت اوراق'!A:Q,17,0) -> -175360701 | Q58: 0 | S58: =M58+O58+Q58 -> -175360701 | U58: =S58/$S$76*100 -> -0.010407895
A59: فولاد امیرکبیرکاشان | C59: 0 | E59: -301376130 | G59: 0 | I59: =C59+E59+G59 -> -301376130 | K59: =I59/$I$76*100 -> -0.078027503 | M59: 0 | O59: =VLOOKUP(A59,'درآمد ناشی از تغییر قیمت اوراق'!A:Q,17,0) -> -301376130 | Q59: 0 | S59: =M59+O59+Q59 -> -301376130 | U59: =S59/$S$76*100 -> -0.017887082
A60: صنایع پتروشیمی خلیج فارس | C60: 0 | E60: -1486504430 | G60: 0 | I60: =C60+E60+G60 -> -1486504430 | K60: =I60/$I$76*100 -> -0.38486203 | M60: 0 | O60: =VLOOKUP(A60,'درآمد ناشی از تغییر قیمت اوراق'!A:Q,17,0) -> -1486504430 | Q60: 0 | S60: =M60+O60+Q60 -> -1486504430 | U60: =S60/$S$76*100 -> -0.088226052
A61: سیمان‌هگمتان‌ | C61: 0 | E61: -1953873520 | G61: 0 | I61: =C61+E61+G61 -> -1953873520 | K61: =I61/$I$76*100 -> -0.50586579 | M61: 0 | O61: =VLOOKUP(A61,'درآمد ناشی از تغییر قیمت اوراق'!A:Q,17,0) -> -1953873520 | Q61: 0 | S61: =M61+O61+Q61 -> -1953873520 | U61: =S61/$S$76*100 -> -0.11596504
A62: دارویی‌ رازک‌ | C62: 0 | E62: -1996291061 | G62: 0 | I62: =C62+E62+G62 -> -1996291061 | K62: =I62/$I$76*100 -> -0.51684786 | M62: 0 | O62: =VLOOKUP(A62,'درآمد ناشی از تغییر قیمت اوراق'!A:Q,17,0) -> -1996291061 | Q62: 0 | S62: =M62+O62+Q62 -> -1996291061 | U62: =S62/$S$76*100 -> -0.11848258
A63: آلومینای ایران | C63: 0 | E63: -2337575392 | G63: 0 | I63: =C63+E63+G63 -> -2337575392 | K63: =I63/$I$76*100 -> -0.60520776 | M63: 0 | O63: =VLOOKUP(A63,'درآمد ناشی از تغییر قیمت اوراق'!A:Q,17,0) -> -2337575392 | Q63: 0 | S63: =M63+O63+Q63 -> -2337575392 | U63: =S63/$S$76*100 -> -0.13873827
A64: اختیارخ خودرو-700-1405/07/08 (ضخود71351) | C64: 0 | E64: 0 | G64: 3694668867 | I64: =C64+E64+G64 -> 3694668867 | K64: =I64/$I$76*100 -> 0.95656477 | M64: 0 | O64: 0 | Q64: 3694668867 | S64: =M64+O64+Q64 -> 3694668867 | U64: =S64/$S$76*100 -> 0.2192836
A65: اختیارخ خودرو-650-1405/07/08 (ضخود71341) | C65: 0 | E65: 0 | G65: 969580764 | I65: =C65+E65+G65 -> 969580764 | K65: =I65/$I$76*100 -> 0.2510284 | M65: 0 | O65: 0 | Q65: 969580764 | S65: =M65+O65+Q65 -> 969580764 | U65: =S65/$S$76*100 -> 0.057545932
A66: اختیارخ خودرو-750-1405/07/08 (ضخود71361) | C66: 0 | E66: 0 | G66: 121997130 | I66: =C66+E66+G66 -> 121997130 | K66: =I66/$I$76*100 -> 0.031585552 | M66: 0 | O66: 0 | Q66: 121997130 | S66: =M66+O66+Q66 -> 121997130 | U66: =S66/$S$76*100 -> 0.0072406949
A67: اختیارخ وبملت-1700 -1405/07/22(ضملت70461) | C67: 0 | E67: 0 | G67: 20869515 | I67: =C67+E67+G67 -> 20869515 | K67: =I67/$I$76*100 -> 0.0054032021 | M67: 0 | O67: 0 | Q67: 20869515 | S67: =M67+O67+Q67 -> 20869515 | U67: =S67/$S$76*100 -> 0.001238634
A68: تامین سرمایه دماوند | C68: 0 | E68: 2006766848 | G68: 0 | I68: =C68+E68+G68 -> 2006766848 | K68: =I68/$I$76*100 -> 0.51956008 | M68: 0 | O68: =VLOOKUP(A68,'درآمد ناشی از تغییر قیمت اوراق'!A:Q,17,0) -> -3215419676 | Q68: 0 | S68: =M68+O68+Q68 -> -3215419676 | U68: =S68/$S$76*100 -> -0.19083951
A69: کانی کربن طبس | C69: 0 | E69: -5212127049 | G69: 0 | I69: =C69+E69+G69 -> -5212127049 | K69: =I69/$I$76*100 -> -1.3494408 | M69: 0 | O69: =VLOOKUP(A69,'درآمد ناشی از تغییر قیمت اوراق'!A:Q,17,0) -> -5212127049 | Q69: 0 | S69: =M69+O69+Q69 -> -5212127049 | U69: =S69/$S$76*100 -> -0.3093468
A70: سیمان آرتا اردبیل | C70: 0 | E70: 282263074 | G70: 3740127518 | I70: =C70+E70+G70 -> 4022390592 | K70: =I70/$I$76*100 -> 1.0414133 | M70: 0 | O70: =VLOOKUP(A70,'درآمد ناشی از تغییر قیمت اوراق'!A:Q,17,0) -> 0 | Q70: =VLOOKUP(A70,'درآمد ناشی از فروش'!A:Q,17,0) -> 3740127518 | S70: =M70+O70+Q70 -> 3740127518 | U70: =S70/$S$76*100 -> 0.22198164
A71: پالایش نفت بندرعباس | C71: 0 | E71: 1936105194 | G71: 15498705668 | I71: =C71+E71+G71 -> 17434810862 | K71: =I71/$I$76*100 -> 4.5139433 | M71: 0 | O71: =VLOOKUP(A71,'درآمد ناشی از تغییر قیمت اوراق'!A:Q,17,0) -> 0 | Q71: =VLOOKUP(A71,'درآمد ناشی از فروش'!A:Q,17,0) -> 18242218226 | S71: =M71+O71+Q71 -> 18242218226 | U71: =S71/$S$76*100 -> 1.0827004
A72: شیر و گوشت زاگرس شهرکرد | C72: 0 | E72: -6593354915 | G72: 6428313795 | I72: =C72+E72+G72 -> -165041120 | K72: =I72/$I$76*100 -> -0.042729816 | M72: =VLOOKUP(A72,'درآمد سود سهام'!A:M,9,0) -> 5050000000 | O72: =VLOOKUP(A72,'درآمد ناشی از تغییر قیمت اوراق'!A:Q,17,0) -> 0 | Q72: =VLOOKUP(A72,'درآمد ناشی از فروش'!A:Q,17,0) -> 10689944233 | S72: =M72+O72+Q72 -> 15739944233 | U72: =S72/$S$76*100 -> 0.93418701
A73: کولان سل | C73: 0 | E73: -679699726 | G73: 1407343651 | I73: =C73+E73+G73 -> 727643925 | K73: =I73/$I$76*100 -> 0.18838997 | M73: =VLOOKUP(A73,'درآمد سود سهام'!A:M,9,0) -> 257763000 | O73: =VLOOKUP(A73,'درآمد ناشی از تغییر قیمت اوراق'!A:Q,17,0) -> 0 | Q73: =VLOOKUP(A73,'درآمد ناشی از فروش'!A:Q,17,0) -> 2898211811 | S73: =M73+O73+Q73 -> 3155974811 | U73: =S73/$S$76*100 -> 0.18731138
A74: ایران‌ خودرو | C74: 0 | E74: -14466946177 | G74: 20804075318 | I74: =C74+E74+G74 -> 6337129141 | K74: =I74/$I$76*100 -> 1.6407085 | M74: 0 | O74: =VLOOKUP(A74,'درآمد ناشی از تغییر قیمت اوراق'!A:Q,17,0) -> 0 | Q74: =VLOOKUP(A74,'درآمد ناشی از فروش'!A:Q,17,0) -> 45821584730 | S74: =M74+O74+Q74 -> 45821584730 | U74: =S74/$S$76*100 -> 2.7195731
A75: بانک صادرات ایران | C75: 0 | E75: -15364617952 | G75: 26268101934 | I75: =C75+E75+G75 -> 10903483982 | K75: =I75/$I$76*100 -> 2.8229563 | M75: 0 | O75: =VLOOKUP(A75,'درآمد ناشی از تغییر قیمت اوراق'!A:Q,17,0) -> 0 | Q75: =VLOOKUP(A75,'درآمد ناشی از فروش'!A:Q,17,0) -> 26268101934 | S75: =M75+O75+Q75 -> 26268101934 | U75: =S75/$S$76*100 -> 1.5590474
C76: =SUM(C10:C75) -> 752143050 | E76: =SUM(E10:E75) -> -27990138205 | G76: =SUM(G10:G75) -> 413481456841 | I76: =SUM(I10:I75) -> 386243461686 | K76: =SUM(K10:K75) -> 100 | M76: =SUM(M10:M75) -> 84767398987 | O76: =SUM(O10:O75) -> 825495117720 | Q76: =SUM(Q10:Q75) -> 774618989607 | S76: =SUM(S10:S75) -> 1684881506314 | U76: =SUM(U10:U75) -> 100
C78: ='درآمد سود سهام'!C27 -> 752143050 | E78: ='درآمد ناشی از تغییر قیمت اوراق'!I54 -> -27990138205 | G78: ='درآمد ناشی از فروش'!I50 -> 408767949290 | M78: ='درآمد سود سهام'!I27 -> 84767398987 | O78: ='درآمد ناشی از تغییر قیمت اوراق'!Q54 -> 825495117720 | Q78: 763454575590
C79: =C78-C76 -> 0 | E79: =E78-E76 -> 0 | G79: ='درآمد ناشی از اعمال اختیار'!I14 -> 4713507551 | M79: =M78-M76 -> 0 | O79: =O78-O76 -> 0 | Q79: 6450906466
G80: =G78+G79 -> 413481456841 | Q80: 4713507551
G81: =G80-G76 -> 0 | Q81: =SUM(Q78:Q80) -> 774618989607
Q82: =Q76-Q81 -> 0

Sheet درآمد سرمایه گذاری در اوراق به
A1: =سهام!A1 -> صندوق حفظ ارزش دماوند
A2: صورت وضعیت درآمدها
A3: =درآمد!A3 -> دوره یک ماهه منتهی به 31 شهریور 1405
A5: 2-2- درآمد حاصل از سرمایه‌گذاری در اوراق بهادار با درآمد ثابت:
C6: ='درآمد سرمایه گذاری در سهام'!C6 -> (مبالغ به ریال)
C7: ='درآمد سرمایه گذاری در سهام'!C7 -> طی شهریور ماه | M7: ='درآمد سرمایه گذاری در سهام'!M7 -> از ابتدای سال مالی تا پایان شهریور ماه
A8: عنوان | C8: درآمد سود اوراق | E8: درآمد تغییر ارزش | G8: درآمد فروش | I8: جمع | M8: درآمد سود اوراق | O8: درآمد تغییر ارزش | Q8: درآمد فروش | S8: جمع
C9: یادداشت 1-2-2 | E9: یادداشت 2-2-2 | G9: یادداشت 3-2-2 | I9: مبلغ | K9: درصد از کل درآمدها | M9: یادداشت 1-2-2 | O9: یادداشت 2-2-2 | Q9: یادداشت 3-2-2 | S9: مبلغ | U9: درصد از کل درآمدها
A10: صکوک اجاره اخابر61-3ماهه23% | C10: 1981495409 | E10: 153720452 | G10: -208676702 | I10: =C10+E10+G10 -> 1926539159 | K10: =I10/$I$13*100 -> 26.49453 | M10: 13523072629 | O10: 0 | Q10: -392216248 | S10: =M10+O10+Q10 -> 13130856381 | U10: =S10/$S$13*100 -> 42.546607
A11: صکوک مرابحه اندیمشک07-6ماهه23% | C11: 5470313505 | E11: -1467554 | G11: -123924946 | I11: =C11+E11+G11 -> 5344921005 | K11: =I11/$I$13*100 -> 73.50547 | M11: 16493567425 | O11: -252357554 | Q11: -123924946 | S11: =M11+O11+Q11 -> 16117284925 | U11: =S11/$S$13*100 -> 52.223235
A12: مرابحه سمگا-دماوند060907 | C12: 0 | E12: 0 | G12: 0 | I12: =C12+E12+G12 -> 0 | K12: =I12/$I$13*100 -> 0 | M12: 1554333893 | O12: 0 | Q12: 59812500 | S12: =M12+O12+Q12 -> 1614146393 | U12: =S12/$S$13*100 -> 5.2301579
C13: =SUM(C10:C12) -> 7451808914 | E13: =SUM(E10:E12) -> 152252898 | G13: =SUM(G10:G12) -> -332601648 | I13: =SUM(I10:I12) -> 7271460164 | K13: =SUM(K10:K12) -> 100 | M13: =SUM(M10:M12) -> 31570973947 | O13: =SUM(O10:O12) -> -252357554 | Q13: =SUM(Q10:Q12) -> -456328694 | S13: =SUM(S10:S12) -> 30862287699 | U13: =SUM(U10:U12) -> 100
C15: ='سود اوراق بهادار'!C12 -> 7451808914 | E15: ='درآمد ناشی از تغییر قیمت اوراق'!I62 -> 152252898 | G15: ='درآمد ناشی از فروش'!I59 -> -332601648 | I15: =C15+E15+G15 -> 7271460164 | M15: ='سود اوراق بهادار'!I12 -> 31570973947 | O15: ='درآمد ناشی از تغییر قیمت اوراق'!Q62 -> -252357554 | Q15: -456328694 | S15: =M15+O15+Q15 -> 30862287699
C16: =C15-C13 -> 0 | E16: =E15-E13 -> 0 | G16: =G15-G13 -> 0 | I16: =I15-I13 -> 0 | M16: =M15-M13 -> 0 | O16: =O15-O13 -> 0 | Q16: =Q15-Q13 -> 0 | S16: =S15-S13 -> 0

Sheet درآمد سپرده بانکی
A1: =سهام!A1 -> صندوق حفظ ارزش دماوند
A2: صورت وضعیت درآمدها
A3: =درآمد!A3 -> دوره یک ماهه منتهی به 31 شهریور 1405
A5: 2-3- درآمد حاصل از سرمایه‌گذاری در سپرده بانکی
C6: ='درآمد سرمایه گذاری در سهام'!C6 -> (مبالغ به ریال)
C7: ='درآمد سرمایه گذاری در سهام'!C7 -> طی شهریور ماه | G7: ='درآمد سرمایه گذاری در سهام'!M7 -> از ابتدای سال مالی تا پایان شهریور ماه
A8: نام سپرده بانکی | C8: سود سپرده بانکی و گواهی سپرده | E8: درصد سود به میانگین سپرده | G8: سود سپرده بانکی و گواهی سپرده | I8: درصد سود به میانگین سپرده
C9: یادداشت 1-3-2 | G9: یادداشت 1-3-2
A10: بانک پاسارگاد | C10: 389623418 | E10: =C10/$C$14*100 -> 99.903422 | G10: 1580497940 | I10: =G10/$G$14*100 -> 99.906389
A11: بانک سینا | C11: 0 | E11: =C11/$C$14*100 -> 0 | G11: 431573 | I11: =G11/$G$14*100 -> 0.02728058
A12: بانک سامان | C12: 338611 | E12: =C12/$C$14*100 -> 0.086823317 | G12: 993965 | I12: =G12/$G$14*100 -> 0.062830486
A13: بانک گردشگری | C13: 38044 | E13: =C13/$C$14*100 -> 0.00975487 | G13: 55362 | I13: =G13/$G$14*100 -> 0.0034995411
C14: =SUM(C10:C13) -> 390000073 | E14: =SUM(E10:E13) -> 100 | G14: =SUM(G10:G13) -> 1581978840 | I14: =SUM(I10:I13) -> 100

Sheet سایر درآمدها
A1: =سهام!A1 -> صندوق حفظ ارزش دماوند
A2: صورت وضعیت درآمدها
A3: =درآمد!A3 -> دوره یک ماهه منتهی به 31 شهریور 1405
A5: 2-4- سایر درآمدها
C6: ='درآمد سرمایه گذاری در سهام'!C6 -> (مبالغ به ریال)
A7: سایر درآمدها | C7: ='درآمد سرمایه گذاری در سهام'!C7 -> طی شهریور ماه | E7: ='درآمد سرمایه گذاری در سهام'!M7 -> از ابتدای سال مالی تا پایان شهریور ماه
A8: درآمد حاصل از تعدیل کارمزد کارگزاری | C8: 2426087777 | E8: 4210154532
A9: درآمد حاصل از تنزیل سود سهام دریافتنی | C9: 0 | E9: 357850851
A10: درآمد حاصل از تنزیل سود سپرده بانکی | C10: 0 | E10: 2327515
C11: =SUM(C8:C10) -> 2426087777 | E11: =SUM(E8:E10) -> 4570332898
C13: 2426087777 | E13: 4570332898
C14: =C13-C11 -> 0 | E14: =E13-E11 -> 0

Sheet سود ترجیحی
A1: ='[1]درآمد ناشی از تغییر قیمت اوراق'!A1:Q1 -> صندوق حفظ ارزش دماوند
A2: صورت وضعیت درآمدها
A3: =درآمد!A3 -> دوره یک ماهه منتهی به 31 شهریور 1405
A5: 2-4-1- جزئیات قراردادهای خرید و نگهداری اوراق بهادار با درآمد ثابت
A6: ='درآمد سرمایه گذاری در سهام'!C6 -> (مبالغ به ریال)
A7: طرف معامله | B7: نوع وابستگی | C7: نام ورقه بهادار | D7: تعداد اوراق | E7: بهای تمام شده اوراق | F7: مبلغ شناسایی شده بابت قرارداد خرید و نگهداری اوراق بهادار | G7: نرخ اسمی(درصد) | H7: میانگین نرخ بازده تا سررسید قراردادهای منعقده(درصد)
A8: شرکت تامین سرمایه دماوند | B8: مدیر صندوق | C8: اوراق مشارکت صکوک مرابحه اندیمشک07-6ماهه23% | D8: =اوراق!AA10 -> 238000 | E8: =D8*1000000 -> 238000000000 | F8: 4390064027 | G8: 23 | H8: 33
C9: اوراق فرابورسی صکوک اجاره اخابر61-3ماهه23% | D9: 371000 | E9: =D9*1000000 -> 371000000000 | F9: 3254638555 | G9: 23 | H9: 32.5
A10: 2-4-1-1- در تاریخ 1405/06/31 اوراق صکوک اجاره اخابر61-3ماهه23% به فروش رسیده است.

Sheet درآمد سود سهام
A1: =سهام!A1 -> صندوق حفظ ارزش دماوند
A2: صورت وضعیت درآمدها
A3: =درآمد!A3 -> دوره یک ماهه منتهی به 31 شهریور 1405
A5: 2-1-1- درآمد سود سهام
C6: =درآمد!C6 -> (مبالغ به ریال)
A7: نام سهام | C7: ='درآمد سرمایه گذاری در سهام'!C7 -> طی شهریور ماه | I7: ='درآمد سرمایه گذاری در سهام'!M7 -> از ابتدای سال مالی تا پایان شهریور ماه
C8: جمع درآمد سود سهام | E8: هزینه تنزیل | G8: خالص درآمد سود سهام | I8: جمع درآمد سود سهام | K8: هزینه تنزیل | M8: خالص درآمد سود سهام
A9: پالایش نفت اصفهان | C9: 0 | E9: 0 | G9: =C9+E9 -> 0 | I9: 14800000000 | K9: 0 | M9: =I9+K9 -> 14800000000 | O9: =VLOOKUP(A9,'درآمد سرمایه گذاری در سهام'!A:U,1,0) -> پالایش نفت اصفهان
A10: بورس کالای ایران | C10: 0 | E10: 0 | G10: =C10+E10 -> 0 | I10: 10070000000 | K10: 0 | M10: =I10+K10 -> 10070000000 | O10: =VLOOKUP(A10,'درآمد سرمایه گذاری در سهام'!A:U,1,0) -> بورس کالای ایران
A11: بانک ملت | C11: 0 | E11: 0 | G11: =C11+E11 -> 0 | I11: 8393260832 | K11: 0 | M11: =I11+K11 -> 8393260832 | O11: =VLOOKUP(A11,'درآمد سرمایه گذاری در سهام'!A:U,1,0) -> بانک ملت
A12: نشاسته و گلوکز آردینه | C12: 0 | E12: 0 | G12: =C12+E12 -> 0 | I12: 7000000000 | K12: 0 | M12: =I12+K12 -> 7000000000 | O12: =VLOOKUP(A12,'درآمد سرمایه گذاری در سهام'!A:U,1,0) -> نشاسته و گلوکز آردینه
A13: تولیدات پتروشیمی قائد بصیر | C13: 0 | E13: 0 | G13: =C13+E13 -> 0 | I13: 6400000000 | K13: 0 | M13: =I13+K13 -> 6400000000 | O13: =VLOOKUP(A13,'درآمد سرمایه گذاری در سهام'!A:U,1,0) -> تولیدات پتروشیمی قائد بصیر
A14: شیر و گوشت زاگرس شهرکرد | C14: 0 | E14: 0 | G14: =C14+E14 -> 0 | I14: 5050000000 | K14: -51355932 | M14: =I14+K14 -> 4998644068 | O14: =VLOOKUP(A14,'درآمد سرمایه گذاری در سهام'!A:U,1,0) -> شیر و گوشت زاگرس شهرکرد
A15: داروسازی‌ فارابی‌ | C15: 0 | E15: 0 | G15: =C15+E15 -> 0 | I15: 4650000000 | K15: -183552632 | M15: =I15+K15 -> 4466447368 | O15: =VLOOKUP(A15,'درآمد سرمایه گذاری در سهام'!A:U,1,0) -> داروسازی‌ فارابی‌
A16: نفت‌ بهران‌ | C16: 0 | E16: 0 | G16: =C16+E16 -> 0 | I16: 4200000000 | K16: 0 | M16: =I16+K16 -> 4200000000 | O16: =VLOOKUP(A16,'درآمد سرمایه گذاری در سهام'!A:U,1,0) -> نفت‌ بهران‌
A17: تایدواترخاورمیانه | C17: 0 | E17: 0 | G17: =C17+E17 -> 0 | I17: 3570000000 | K17: 0 | M17: =I17+K17 -> 3570000000 | O17: =VLOOKUP(A17,'درآمد سرمایه گذاری در سهام'!A:U,1,0) -> تایدواترخاورمیانه
A18: فولاد مبارکه اصفهان | C18: 0 | E18: 0 | G18: =C18+E18 -> 0 | I18: 3482720725 | K18: 0 | M18: =I18+K18 -> 3482720725 | O18: =VLOOKUP(A18,'درآمد سرمایه گذاری در سهام'!A:U,1,0) -> فولاد مبارکه اصفهان
A19: پتروشیمی‌شیراز | C19: 0 | E19: 0 | G19: =C19+E19 -> 0 | I19: 3464000000 | K19: -28239130 | M19: =I19+K19 -> 3435760870 | O19: =VLOOKUP(A19,'درآمد سرمایه گذاری در سهام'!A:U,1,0) -> پتروشیمی‌شیراز
A20: کاشی‌ الوند | C20: 0 | E20: 0 | G20: =C20+E20 -> 0 | I20: 3570000000 | K20: -140921053 | M20: =I20+K20 -> 3429078947 | O20: =VLOOKUP(A20,'درآمد سرمایه گذاری در سهام'!A:U,1,0) -> کاشی‌ الوند
... A26: صنعت غذایی کورش | C26: 0 | E26: 0 | G26: =C26+E26 -> 0 | I26: 160000000 | K26: 0 | M26: =I26+K26 -> 160000000 | O26: =VLOOKUP(A26,'درآمد سرمایه گذاری در سهام'!A:U,1,0) -> صنعت غذایی کورش
C27: =SUM(C9:C26) -> 752143050 | E27: =SUM(E9:E26) -> 0 | G27: =SUM(G9:G26) -> 752143050 | I27: =SUM(I9:I26) -> 84767398987 | K27: =SUM(K9:K26) -> -533793838 | M27: =SUM(M9:M26) -> 84233605149
C29: ='درآمد سرمایه گذاری در سهام'!C76 -> 752143050 | E29: 0 | G29: =C29+E29 -> 752143050 | I29: ='درآمد سرمایه گذاری در سهام'!M76 -> 84767398987 | K29: -533793838 | M29: =I29+K29 -> 84233605149
C30: =C29-C27 -> 0 | E30: =E29-E27 -> 0 | G30: =G29-G27 -> 0 | I30: =I29-I27 -> 0 | K30: =K29-K27 -> 0 | M30: =M29-M27 -> 0

Sheet سود اوراق بهادار
A1: =سهام!A1 -> صندوق حفظ ارزش دماوند
A2: صورت وضعیت درآمدها
A3: =درآمد!A3 -> دوره یک ماهه منتهی به 31 شهریور 1405
A5: 2-2-1- سود اوراق بهادار با درآمد ثابت
C6: ='درآمد سرمایه گذاری در سهام'!C6 -> (مبالغ به ریال)
A7: شرح | C7: ='درآمد سرمایه گذاری در سهام'!C7 -> طی شهریور ماه | I7: ='درآمد سرمایه گذاری در سهام'!M7 -> از ابتدای سال مالی تا پایان شهریور ماه
C8: درآمد سود | E8: هزینه تنزیل | G8: خالص درآمد | I8: درآمد سود | K8: هزینه تنزیل | M8: خالص درآمد
A9: صکوک اجاره اخابر61-3ماهه23% | C9: 1981495409 | E9: 0 | G9: =C9+E9 -> 1981495409 | I9: 13523072629 | K9: 0 | M9: =I9+K9 -> 13523072629
A10: صکوک مرابحه اندیمشک07-6ماهه23% | C10: 5470313505 | E10: 0 | G10: =C10+E10 -> 5470313505 | I10: 16493567425 | K10: 0 | M10: =I10+K10 -> 16493567425
A11: مرابحه سمگا-دماوند060907 | C11: 0 | E11: 0 | G11: =C11+E11 -> 0 | I11: 1554333893 | K11: 0 | M11: =I11+K11 -> 1554333893
C12: =SUM(C9:C11) -> 7451808914 | E12: =SUM(E9:E11) -> 0 | G12: =SUM(G9:G11) -> 7451808914 | I12: =SUM(I9:I11) -> 31570973947 | K12: =SUM(K9:K11) -> 0 | M12: =SUM(M9:M11) -> 31570973947
C14: ='درآمد سرمایه گذاری در اوراق به'!C13 -> 7451808914 | E14: 0 | G14: 7451808914 | I14: ='درآمد سرمایه گذاری در اوراق به'!M13 -> 31570973947 | K14: 0 | M14: 31570973947
C15: =C14-C12 -> 0 | E15: =E14-E12 -> 0 | G15: =G14-G12 -> 0 | I15: =I14-I12 -> 0 | K15: =K14-K12 -> 0 | M15: =M14-M12 -> 0

Sheet سود سپرده بانکی
A1: =سهام!A1 -> صندوق حفظ ارزش دماوند
A2: صورت وضعیت درآمدها
A3: ='درآمد سرمایه گذاری در سهام'!A3 -> دوره یک ماهه منتهی به 31 شهریور 1405
A5: 2-3-1- سود سپرده بانکی
C6: ='درآمد سرمایه گذاری در سهام'!C6 -> (مبالغ به ریال)
A7: شرح | C7: ='درآمد سرمایه گذاری در سهام'!C7 -> طی شهریور ماه | I7: ='درآمد سرمایه گذاری در سهام'!M7 -> از ابتدای سال مالی تا پایان شهریور ماه
C8: درآمد سود | E8: هزینه تنزیل | G8: خالص درآمد | I8: درآمد سود | K8: هزینه تنزیل | M8: خالص درآمد
A9: بانک پاسارگاد | C9: 389623418 | E9: 0 | G9: =C9+E9 -> 389623418 | I9: 1580497940 | K9: -2327515 | M9: =I9+K9 -> 1578170425
A10: بانک سینا | C10: 0 | E10: 0 | G10: =C10+E10 -> 0 | I10: 431573 | K10: 0 | M10: =I10+K10 -> 431573
A11: بانک سامان | C11: 338611 | E11: 0 | G11: =C11+E11 -> 338611 | H11: 0 | I11: 993965 | K11: 0 | L11: 0 | M11: =I11+K11 -> 993965
A12: بانک گردشگری | C12: 38044 | E12: 0 | G12: =C12+E12 -> 38044 | I12: 55362 | K12: 0 | M12: =I12+K12 -> 55362
C13: =SUM(C9:C12) -> 390000073 | E13: =SUM(E9:E12) -> 0 | G13: =SUM(G9:G12) -> 390000073 | I13: =SUM(I9:I12) -> 1581978840 | K13: =SUM(K9:K12) -> -2327515 | M13: =SUM(M9:M12) -> 1579651325
C15: ='درآمد سپرده بانکی'!C14 -> 390000073 | E15: 0 | G15: =C15+E15 -> 390000073 | I15: ='درآمد سپرده بانکی'!G14 -> 1581978840 | K15: -2327515 | M15: =I15+K15 -> 1579651325
C16: =C15-C13 -> 0 | E16: =E15-E13 -> 0 | G16: =G15-G13 -> 0 | I16: =I15-I13 -> 0 | K16: =K15-K13 -> 0 | M16: =M15-M13 -> 0

Sheet درآمد ناشی از تغییر قیمت اوراق
A1: صندوق سهامی حفظ ارزش دماوند
A2: صورت وضعیت درآمدها
A3: ='درآمد سرمایه گذاری در سهام'!A3 -> دوره یک ماهه منتهی به 31 شهریور 1405
A5: 2-1-2- درآمد ناشی از تغییر قیمت سهام، حق تقدم سهام، اختیار معاملات سهام و گواهی سپرده کالایی
C6: ='درآمد سرمایه گذاری در سهام'!C6 -> (مبالغ به ریال)
A7: شرح | C7: ='درآمد سرمایه گذاری در سهام'!C7 -> طی شهریور ماه | K7: ='درآمد سرمایه گذاری در سهام'!M7 -> از ابتدای سال مالی تا پایان شهریور ماه
C8: تعداد | E8: خالص ارزش فروش | G8: ارزش دفتری | I8: سود و زیان ناشی از تغییر قیمت | K8: تعداد | M8: خالص ارزش فروش | O8: ارزش دفتری | Q8: سود و زیان ناشی از تغییر قیمت
A9: بورس کالای ایران | C9: 26020689 | E9: 281433084906 | G9: -312033834886 | I9: =E9+G9 -> -30600749980 | K9: 26020689 | M9: 281433084906 | O9: -102496529398 | Q9: =M9+O9 -> 178936555508
A10: سرمایه گذاری تامین اجتماعی | C10: 85016787 | E10: 298633009617 | G10: -329851572109 | I10: =E10+G10 -> -31218562492 | K10: 85016787 | M10: 298633009617 | O10: -139472073038 | Q10: =M10+O10 -> 159160936579
A11: پالایش نفت اصفهان | C11: 24000000 | E11: 295299552000 | G11: -313328292572 | I11: =E11+G11 -> -18028740572 | K11: 24000000 | M11: 295299552000 | O11: -179688003927 | Q11: =M11+O11 -> 115611548073
A12: ملی‌ صنایع‌ مس‌ ایران‌ | C12: 9271428 | E12: 223646162234 | G12: -201242001336 | I12: =E12+G12 -> 22404160898 | K12: 9271428 | M12: 223646162234 | O12: -167594550663 | Q12: =M12+O12 -> 56051611571
A13: بانک ملت | C13: 185000000 | E13: 265075007800 | G13: -292887432446 | I13: =E13+G13 -> -27812424646 | K13: 185000000 | M13: 265075007800 | O13: -215862754418 | Q13: =M13+O13 -> 49212253382
A14: شمش طلا GoldBar | C14: 5395 | E14: 171543445852 | G14: -150483799299 | I14: =E14+G14 -> 21059646553 | K14: 5395 | M14: 171543445852 | O14: -134486612880 | Q14: =M14+O14 -> 37056832972
A15: توزیع دارو پخش | C15: 8093726 | E15: 46982294763 | G15: -46018555383 | I15: =E15+G15 -> 963739380 | K15: 8093726 | M15: 46982294763 | O15: -14956988247 | Q15: =M15+O15 -> 32025306516
A16: داروسازی‌ فارابی‌ | C16: 3751429 | E16: 64137476719 | G16: -73221735839 | I16: =E16+G16 -> -9084259120 | K16: 3751429 | M16: 64137476719 | O16: -35352434977 | Q16: =M16+O16 -> 28785041742
A17: بین المللی توسعه ص. معادن غدیر | C17: 11100000 | E17: 74896539600 | G17: -52758003630 | I17: =E17+G17 -> 22138535970 | K17: 11100000 | M17: 74896539600 | O17: -49192700647 | Q17: =M17+O17 -> 25703838953
A18: تولیدات پتروشیمی قائد بصیر | C18: 4000000 | E18: 61838266400 | G18: -46636690000 | I18: =E18+G18 -> 15201576400 | K18: 4000000 | M18: 61838266400 | O18: -39584384851 | Q18: =M18+O18 -> 22253881549
A19: زرین ذرت شاهرود | C19: 6666666 | E19: 63703727629 | G19: -52292622765 | I19: =E19+G19 -> 11411104864 | K19: 6666666 | M19: 63703727629 | O19: -41566843884 | Q19: =M19+O19 -> 22136883745
A20: نفت‌ بهران‌ | C20: 3305353 | E20: 40000472769 | G20: -47054904422 | I20: =E20+G20 -> -7054431653 | K20: 3305353 | M20: 40000472769 | O20: -22195840343 | Q20: =M20+O20 -> 17804632426
... A30: ح. کویر تایر | C30: 15802378 | E30: 42493411424 | G30: -38858047502 | I30: =E30+G30 -> 3635363922 | K30: 15802378 | M30: 42493411424 | O30: -38858047502 | Q30: =M30+O30 -> 3635363922
A31: اختیارخ وبملت-1600-1405/07/22(ضملت70451) | C31: 48000000 | E31: 3741192000 | G31: 7366304102 | I31: 3625112102 | K31: 48000000 | M31: 3741192000 | O31: 7366304102 | Q31: 3625112102
A32: کویر تایر | C32: 10800000 | E32: 39758274360 | G32: -37376498960 | I32: =E32+G32 -> 2381775400 | K32: 10800000 | M32: 39758274360 | O32: -37376498960 | Q32: =M32+O32 -> 2381775400
A33: تولیدی‌مهرام‌ | C33: 1498256 | E33: 30699828035 | G33: -28745845701 | I33: =E33+G33 -> 1953982334 | K33: 1498256 | M33: 30699828035 | O33: -28745845701 | Q33: =M33+O33 -> 1953982334
A34: فنرسازی زر گلپایگان | C34: 900000 | E34: 4938527790 | G34: -3158328600 | I34: =E34+G34 -> 1780199190 | K34: 900000 | M34: 4938527790 | O34: -3158328600 | Q34: =M34+O34 -> 1780199190
A35: توسعه خدمات دریایی وبندری سینا | C35: 2700000 | E35: 47608122330 | G35: -41124630150 | I35: =E35+G35 -> 6483492180 | K35: 2700000 | M35: 47608122330 | O35: -45854920502 | Q35: =M35+O35 -> 1753201828
A36: صنعتی معدنی سیمان تجارت مهریز | C36: 468750 | E36: 12288643781 | G36: -10756176829 | I36: =E36+G36 -> 1532466952 | K36: 468750 | M36: 12288643781 | O36: -10756176829 | Q36: =M36+O36 -> 1532466952
A37: تایدواترخاورمیانه | C37: 5100000 | E37: 42306423720 | G37: -37960558290 | I37: =E37+G37 -> 4345865430 | K37: 5100000 | M37: 42306423720 | O37: -41268404787 | Q37: =M37+O37 -> 1038018933
A38: مدیریت نیروگاهی ایرانیان مپنا | C38: 1080000 | E38: 44398525788 | G38: -44064398683 | I38: =E38+G38 -> 334127105 | K38: 1080000 | M38: 44398525788 | O38: -44064398683 | Q38: =M38+O38 -> 334127105
A39: معدنی‌وصنعتی‌چادرملو | C39: 1366065 | E39: 3795414889 | G39: -3377919251 | I39: =E39+G39 -> 417495638 | K39: 1366065 | M39: 3795414889 | O39: -3666518460 | Q39: =M39+O39 -> 128896429
A40: اختیارخ شستا-3250-1405/07/15(ضستا70621) | C40: 27405000 | E40: 8817791692 | G40: 8642430991 | I40: -175360701 | K40: 27405000 | M40: 8817791692 | O40: 8642430991 | Q40: -175360701
A41: فولاد امیرکبیرکاشان | C41: 7500000 | E41: 50308089000 | G41: -50609465130 | I41: =E41+G41 -> -301376130 | K41: 7500000 | M41: 50308089000 | O41: -50609465130 | Q41: =M41+O41 -> -301376130
A42: صنایع پتروشیمی خلیج فارس | C42: 10100000 | E42: 124973429690 | G42: -126459934120 | I42: =E42+G42 -> -1486504430 | K42: 10100000 | M42: 124973429690 | O42: -126459934120 | Q42: =M42+O42 -> -1486504430
A43: سیمان‌هگمتان‌ | C43: 200000 | E43: 27108816400 | G43: -29062689920 | I43: =E43+G43 -> -1953873520 | K43: 200000 | M43: 27108816400 | O43: -29062689920 | Q43: =M43+O43 -> -1953873520
A44: دارویی‌ رازک‌ | C44: 6600000 | E44: 28619051340 | G44: -30615342401 | I44: =E44+G44 -> -1996291061 | K44: 6600000 | M44: 28619051340 | O44: -30615342401 | Q44: =M44+O44 -> -1996291061
A45: آلومینای ایران | C45: 240351 | E45: 51657602594 | G45: -53995177986 | I45: =E45+G45 -> -2337575392 | K45: 240351 | M45: 51657602594 | O45: -53995177986 | Q45: =M45+O45 -> -2337575392
A46: تامین سرمایه دماوند | C46: 12800000 | E46: 30126904832 | G46: -28120137984 | I46: =E46+G46 -> 2006766848 | K46: 12800000 | M46: 30126904832 | O46: -33342324508 | Q46: =M46+O46 -> -3215419676
A47: کانی کربن طبس | C47: 7900000 | E47: 71961404940 | G47: -77173531989 | I47: =E47+G47 -> -5212127049 | K47: 7900000 | M47: 71961404940 | O47: -77173531989 | Q47: =M47+O47 -> -5212127049
A48: سیمان آرتا اردبیل | C48: 0 | E48: 0 | G48: 282263074 | I48: =E48+G48 -> 282263074 | K48: 0 | M48: 0 | O48: 0 | Q48: =M48+O48 -> 0
A49: پالایش نفت بندرعباس | C49: 0 | E49: 0 | G49: 1936105194 | I49: =E49+G49 -> 1936105194 | K49: 0 | M49: 0 | O49: 0 | Q49: =M49+O49 -> 0
A50: شیر و گوشت زاگرس شهرکرد | C50: 0 | E50: 0 | G50: -6593354915 | I50: =E50+G50 -> -6593354915 | K50: 0 | M50: 0 | O50: 0 | Q50: =M50+O50 -> 0
A51: کولان سل | C51: 0 | E51: 0 | G51: -679699726 | I51: =E51+G51 -> -679699726 | K51: 0 | M51: 0 | O51: 0 | Q51: =M51+O51 -> 0
A52: ایران‌ خودرو | C52: 0 | E52: 0 | G52: -14466946177 | I52: =E52+G52 -> -14466946177 | K52: 0 | M52: 0 | O52: 0 | Q52: =M52+O52 -> 0
A53: بانک صادرات ایران | C53: 0 | E53: 0 | G53: -15364617952 | I53: =E53+G53 -> -15364617952 | K53: 0 | M53: 0 | O53: 0 | Q53: =M53+O53 -> 0
C54: =SUM(C9:C53) -> 579838539 | E54: =SUM(E9:E53) -> 3160624552589 | G54: =SUM(G9:G53) -> -3163496723410 | I54: =SUM(I9:I53) -> -27990138205 | K54: =SUM(K9:K53) -> 579838539 | M54: =SUM(M9:M53) -> 3160624552589 | O54: =SUM(O9:O53) -> -2310011467485 | Q54: =SUM(Q9:Q53) -> 825495117720 | S54: 781353169425 | T54: -56134900081
S55: 3635363922 | T55: 3635363922
A56: 2-2-2- درآمد ناشی از تغییر قیمت اوراق بهادار با درآمد ثابت | S56: 37056832972 | T56: 21059646553
C57: =C6 -> (مبالغ به ریال) | S57: 3449751401 | T57: 3449751401
A58: شرح | C58: =C7 -> طی شهریور ماه | K58: =K7 -> از ابتدای سال مالی تا پایان شهریور ماه | S58: =S54+S55+S56+S57 -> 825495117720 | T58: =T54+T55+T56+T57 -> -27990138205
C59: تعداد | E59: خالص ارزش فروش | G59: ارزش دفتری | I59: سود و زیان ناشی از تغییر قیمت | K59: تعداد | M59: خالص ارزش فروش | O59: ارزش دفتری | Q59: سود و زیان ناشی از تغییر قیمت | S59: =S58-Q54 -> 0 | T59: =T58-I54 -> 0
A60: صکوک مرابحه اندیمشک07-6ماهه23% | C60: 238000 | E60: 237870587500 | G60: -237872055054 | I60: =E60+G60 -> -1467554 | K60: 238000 | M60: 237870587500 | O60: -238122945054 | Q60: =M60+O60 -> -252357554
A61: صکوک اجاره اخابر61-3ماهه23% | C61: 0 | G61: 153720452 | I61: =E61+G61 -> 153720452 | K61: 0 | M61: 0 | O61: 0 | Q61: =M61+O61 -> 0 | S61: =Q54-'درآمد سرمایه گذاری در سهام'!O76 -> 0
C62: =SUM(C60:C61) -> 238000 | E62: =SUM(E60:E61) -> 237870587500 | G62: =SUM(G60:G61) -> -237718334602 | I62: =SUM(I60:I61) -> 152252898 | K62: =SUM(K60:K61) -> 238000 | M62: =SUM(M60:M61) -> 237870587500 | O62: =SUM(O60:O61) -> -238122945054 | Q62: =SUM(Q60:Q61) -> -252357554 | S62: =Q62-'درآمد سرمایه گذاری در اوراق به'!O13 -> 0
I64: 152252898 | Q64: -252357554
I65: =I64-I62 -> 0 | Q65: =Q64-Q62 -> 0

Sheet درآمد ناشی از فروش
A1: =سهام!A1 -> صندوق حفظ ارزش دماوند
A2: صورت وضعیت درآمدها
A3: ='درآمد سرمایه گذاری در سهام'!A3 -> دوره یک ماهه منتهی به 31 شهریور 1405
A5: 2-1-3- سود(زیان) حاصل از فروش سهام، حق تقدم سهام، اختیار معاملات سهام و گواهی سپرده کالایی
C6: ='درآمد سرمایه گذاری در سهام'!C6 -> (مبالغ به ریال)
A7: شرح | C7: ='درآمد سرمایه گذاری در سهام'!C7 -> طی شهریور ماه | K7: ='درآمد سرمایه گذاری در سهام'!M7 -> از ابتدای سال مالی تا پایان شهریور ماه
C8: تعداد | E8: خالص بهای فروش | G8: ارزش دفتری | I8: سود و زیان ناشی از فروش | K8: تعداد | M8: خالص بهای فروش | O8: ارزش دفتری | Q8: سود و زیان ناشی از فروش
A9: بورس کالای ایران | C9: 14200000 | E9: 156867285203 | G9: -54712335679 | I9: =E9+G9 -> 102154949524 | K9: 14600001 | M9: 160034611052 | O9: -56263281383 | Q9: 103771329669 | S9: =VLOOKUP(A9,'درآمد سرمایه گذاری در سهام'!A:U,1,0) -> بورس کالای ایران
A10: بانک تجارت | C10: 0 | E10: 0 | G10: 0 | I10: =E10+G10 -> 0 | K10: 318917361 | M10: 205468936337 | O10: -108524699021 | Q10: 96944237316 | S10: =VLOOKUP(A10,'درآمد سرمایه گذاری در سهام'!A:U,1,0) -> بانک تجارت
A11: سرمایه گذاری تامین اجتماعی | C11: 44528047 | E11: 136254976595 | G11: -53682328676 | I11: =E11+G11 -> 82572647919 | K11: 48790983 | M11: 145346031905 | O11: -58852457039 | Q11: 86493574866 | S11: =VLOOKUP(A11,'درآمد سرمایه گذاری در سهام'!A:U,1,0) -> سرمایه گذاری تامین اجتماعی
A12: فولاد مبارکه اصفهان | C12: 0 | E12: 0 | G12: 0 | I12: =E12+G12 -> 0 | K12: 63322195 | M12: 148678706007 | O12: -64288316434 | Q12: 84390389573 | S12: =VLOOKUP(A12,'درآمد سرمایه گذاری در سهام'!A:U,1,0) -> فولاد مبارکه اصفهان
A13: پالایش نفت اصفهان | C13: 4000000 | E13: 52010229249 | G13: -19925925962 | I13: =E13+G13 -> 32084303287 | K13: 9087404 | M13: 98250627279 | O13: -43523536058 | Q13: 54727091221 | S13: =VLOOKUP(A13,'درآمد سرمایه گذاری در سهام'!A:U,1,0) -> پالایش نفت اصفهان
A14: بانک ملت | C14: 97462192 | E14: 147900178777 | G14: -100233597887 | I14: =E14+G14 -> 47666580890 | K14: 119078495 | M14: 172623821998 | O14: -120096006244 | Q14: 52527815754 | S14: =VLOOKUP(A14,'درآمد سرمایه گذاری در سهام'!A:U,1,0) -> بانک ملت
A15: ایران‌ خودرو | C15: 200000000 | E15: 140922571164 | G15: -120118495846 | I15: =E15+G15 -> 20804075318 | K15: 558779942 | M15: 340023895122 | O15: -294202310392 | Q15: 45821584730 | S15: =VLOOKUP(A15,'درآمد سرمایه گذاری در سهام'!A:U,1,0) -> ایران‌ خودرو
A16: ذوب آهن اصفهان | C16: 0 | E16: 0 | G16: 0 | I16: =E16+G16 -> 0 | K16: 179488842 | M16: 79598072383 | O16: -49248307159 | Q16: 30349765224 | S16: =VLOOKUP(A16,'درآمد سرمایه گذاری در سهام'!A:U,1,0) -> ذوب آهن اصفهان
A17: بانک صادرات ایران | C17: 61257025 | E17: 65403054999 | G17: -39134953065 | I17: =E17+G17 -> 26268101934 | K17: 61257025 | M17: 65403054999 | O17: -39134953065 | Q17: 26268101934 | S17: =VLOOKUP(A17,'درآمد سرمایه گذاری در سهام'!A:U,1,0) -> بانک صادرات ایران
A18: سایپا | C18: 0 | E18: 0 | G18: 0 | I18: =E18+G18 -> 0 | K18: 374800000 | M18: 206162856210 | O18: -183229640185 | Q18: 22933216025 | S18: =VLOOKUP(A18,'درآمد سرمایه گذاری در سهام'!A:U,1,0) -> سایپا
A19: ملی‌ صنایع‌ مس‌ ایران‌ | C19: 1700000 | E19: 45213789571 | G19: -25405836098 | I19: =E19+G19 -> 19807953473 | K19: 1700001 | M19: 45213789572 | O19: -25405849678 | Q19: 19807939894 | S19: =VLOOKUP(A19,'درآمد سرمایه گذاری در سهام'!A:U,1,0) -> ملی‌ صنایع‌ مس‌ ایران‌
A20: پالایش نفت بندرعباس | C20: 10000000 | E20: 142666776351 | G20: -127168070683 | I20: =E20+G20 -> 15498705668 | K20: 11000000 | M20: 154534325632 | O20: -136292107406 | Q20: 18242218226 | S20: =VLOOKUP(A20,'درآمد سرمایه گذاری در سهام'!A:U,1,0) -> پالایش نفت بندرعباس
... A49: زرین ذرت شاهرود | C49: 1 | E49: 1 | G49: -6235 | I49: =E49+G49 -> -6234 | K49: 1 | M49: 1 | O49: -6235 | Q49: -6234 | S49: =VLOOKUP(A49,'درآمد سرمایه گذاری در سهام'!A:U,1,0) -> زرین ذرت شاهرود
C50: =SUM(C9:C49) -> 465138335 | E50: =SUM(E9:E49) -> 1218694356710 | G50: =SUM(G9:G49) -> -809926407420 | I50: =SUM(I9:I49) -> 408767949290 | K50: =SUM(K9:K49) -> 1847401435 | M50: =SUM(M9:M49) -> 2360711088982 | O50: =SUM(O9:O49) -> -1590805606926 | Q50: =SUM(Q9:Q49) -> 769905482056 | S50: 763454575590 | T50: 403310789158
S51: 6450906466 | T51: 5457160132
A52: 2-2-3- سود(زیان) حاصل از فروش اوراق بهادار با درآمد ثابت | S52: =S50+S51 -> 769905482056 | T52: =SUM(T50:T51) -> 408767949290
C53: =C6 -> (مبالغ به ریال) | S53: =S52-Q50 -> 0 | T53: =T52-I50 -> 0
A54: شرح | C54: =C7 -> طی شهریور ماه | K54: =K7 -> از ابتدای سال مالی تا پایان شهریور ماه
C55: تعداد | E55: خالص بهای فروش | G55: ارزش دفتری | I55: سود و زیان ناشی از فروش | K55: تعداد | M55: خالص بهای فروش | O55: ارزش دفتری | Q55: سود و زیان ناشی از فروش
A56: مرابحه سمگا-دماوند060907 | C56: 0 | E56: 0 | G56: 0 | I56: 0 | K56: 110000 | M56: 109940187500 | O56: -109880375000 | Q56: =M56+O56 -> 59812500
A57: صکوک مرابحه اندیمشک07-6ماهه23% | C57: 243600 | E57: 243475042500 | G57: -243598967446 | I57: =E57+G57 -> -123924946 | K57: 243600 | M57: 243475042500 | O57: -243598967446 | Q57: =M57+O57 -> -123924946
A58: صکوک اجاره اخابر61-3ماهه23% | C58: 411000 | E58: 410797668750 | G58: -411006345452 | I58: =E58+G58 -> -208676702 | K58: 757400 | M58: 757009313752 | O58: -757401530000 | Q58: =M58+O58 -> -392216248
C59: =SUM(C56:C58) -> 654600 | E59: =SUM(E56:E58) -> 654272711250 | G59: =SUM(G56:G58) -> -654605312898 | I59: =SUM(I56:I58) -> -332601648 | K59: =SUM(K56:K58) -> 1111000 | M59: =SUM(M56:M58) -> 1110424543752 | O59: =SUM(O56:O58) -> -1110880872446 | Q59: =SUM(Q56:Q58) -> -456328694 | S59: -456328694 | T59: -332601648
S60: =S59-Q59 -> 0
T61: =T59-I59 -> 0

Sheet درآمد ناشی از اعمال اختیار
A1: =سهام!A1 -> صندوق حفظ ارزش دماوند
A2: =درآمد!A2 -> صورت وضعیت درآمدها
A3: =درآمد!A3 -> دوره یک ماهه منتهی به 31 شهریور 1405
A5: 2-3-1- سود (زیان) ناشی از اعمال اختیار معامله سهام
C6: (مبالغ به ریال)
C7: ='درآمد سرمایه گذاری در سهام'!C7 -> طی شهریور ماه | K7: ='درآمد سرمایه گذاری در سهام'!M7 -> از ابتدای سال مالی تا پایان شهریور ماه
A8: نام اختیار | C8: تعداد | E8: تاریخ اعمال | G8: کارمزد اعمال | I8: سود(زیان)اعمال | K8: کارمزد اعمال | M8: سود(زیان)اعمال
A9: اختیارخ خودرو-700-1405/07/08 (ضخود71351) | C9: 79000000 | E9: 1405/07/08 | G9: -4485734 | I9: 3694668867 | K9: -4485734 | M9: 3694668867
A10: اختیارخ خودرو-650-1405/07/08 (ضخود71341) | C10: 24000000 | E10: 1405/07/08 | G10: -1622129 | I10: 969580764 | K10: -1622129 | M10: 969580764
A11: اختیارخ خودرو-750-1405/07/08 (ضخود71361) | C11: 36603000 | E11: 1405/07/08 | G11: -1622396 | I11: 121997130 | K11: -1622396 | M11: 121997130
A12: اختیارخ وبملت-1700 -1405/07/22(ضملت70461) | C12: 3000000 | E12: 1405/07/22 | G12: -6627917 | I12: 20869515 | K12: -6627917 | M12: 20869515
A13: اختیارخ وبملت-1600-1405/07/22 (ضملت70451) | C13: 95000000 | E13: 1405/07/22 | G13: -11621486 | I13: -93608725 | K13: -11621486 | M13: -93608725
G14: =SUM(G9:G13) -> -25979662 | I14: =SUM(I9:I13) -> 4713507551 | K14: =SUM(K9:K13) -> -25979662 | M14: =SUM(M9:M13) -> 4713507551
I16: 4713507551 | M16: 4713507551
I17: =I16-I14 -> 0 | M17: =M16-M14 -> 0
