Workbook

Sheet صورت وضعیت پرتفوی
A17: ‫صندوق سرمایه‌گذاری حفظ ارزش دماوند
A18: گزارش افشا پرتفوی ماهانه
A19: در اجرای ابلاغیه شماره 12020093 مورخ 1396/09/05 سازمان بورس و اوراق بهادار
A20: ‫دوره یک ماهه منتهی به 30 مهر 1405
C25: .

Sheet سهام
A1: صندوق سرمایه‌گذاری حفظ ارزش دماوند
A2: صورت وضعیت پرتفوی
A3: به تاریخ 30 مهر 1405
A4: 1- سرمایه‌گذاری‌ها
A5: 1-1- سرمایه‌گذاری در سهام و حق تقدم سهام
C6: (مبالغ به ریال)
C7: 1405/06/31 | I7: تغییرات طی دوره | Q7: 1405/07/30
A8: نام شرکت | C8: تعداد | E8: بهای تمام شده | G8: خالص ارزش فروش | I8: خرید طی دوره | M8: فروش طی دوره | Q8: تعداد | S8: قیمت بازار هر سهم | U8: بهای تمام شده | W8: خالص ارزش فروش | Y8: درصد به کل دارایی ها
I9: تعداد | K9: بهای تمام شده | M9: تعداد | O9: مبلغ فروش | AA9: 3899063979944
A10: سرمایه گذاری تامین اجتماعی | C10: 85016787 | E10: 140804701230 | G10: 298633009617 | I10: 20700000 | K10: 84680990292 | M10: -15000000 | O10: -52243015966 | Q10: =C10+I10+M10 -> 90716787 | S10: 3470 | U10: 200642709420 | W10: 312353945440 | Y10: =W10/$AA$9*100 -> 8.0109982 | AA10: =C10+I10+M10-Q10 -> 0
A11: پالایش نفت اصفهان | C11: 24000000 | E11: 185989730877 | G11: 295299552000 | I11: 0 | K11: 0 | M11: -2000000 | O11: -25957783393 | Q11: =C11+I11+M11 -> 22000000 | S11: 13710 | U11: 170490586635 | W11: 299288477400 | Y11: =W11/$AA$9*100 -> 7.6759058 | AA11: =C11+I11+M11-Q11 -> 0
A12: سرمایه‌گذاری‌غدیر(هلدینگ‌ | C12: 9200579 | E12: 179295080028 | G12: 187062605163 | I12: 4641918 | K12: 102998501195 | M12: -600000 | O12: -12663349826 | Q12: =C12+I12+M12 -> 13242497 | S12: 20940 | U12: 270601159688 | W12: 275154374512 | Y12: =W12/$AA$9*100 -> 7.0569341 | AA12: =C12+I12+M12-Q12 -> 0
A13: ملی‌ صنایع‌ مس‌ ایران‌ | C13: 9271428 | E13: 166697645501 | G13: 223646162234 | I13: 2967036 | K13: 90360251553 | M13: -3630732 | O13: -106732213809 | Q13: =C13+I13+M13 -> 8607732 | S13: 28900 | U13: 191778365600 | W13: 246840513294 | Y13: =W13/$AA$9*100 -> 6.3307633 | AA13: =C13+I13+M13-Q13 -> 0
A14: شمش طلا GoldBar | C14: 5395 | E14: 92159966047 | G14: 171543445852 | I14: 0 | K14: 0 | M14: 0 | O14: 0 | Q14: =C14+I14+M14 -> 5395 | S14: 35987315 | U14: 92159966047 | W14: 193685600670 | Y14: =W14/$AA$9*100 -> 4.9674897 | AA14: =C14+I14+M14-Q14 -> 0
A15: بورس کالای ایران | C15: 26020689 | E15: 115468917618 | G15: 281433084906 | I15: 0 | K15: 0 | M15: -11033893 | O15: -151150770764 | Q15: =C15+I15+M15 -> 14986796 | S15: 12560 | U15: 66505122634 | W15: 186779107720 | Y15: =W15/$AA$9*100 -> 4.7903576 | AA15: =C15+I15+M15-Q15 -> 0
A16: س. نفت و گاز و پتروشیمی تأمین | C16: 0 | E16: 0 | G16: 0 | I16: 4230000 | K16: 225650836519 | M16: 0 | O16: 0 | Q16: =C16+I16+M16 -> 4230000 | S16: 44350 | U16: 225650836519 | W16: 186150348135 | Y16: =W16/$AA$9*100 -> 4.7742317 | AA16: =C16+I16+M16-Q16 -> 0
A17: بین المللی توسعه ص. معادن غدیر | C17: 11100000 | E17: 49192700647 | G17: 74896539600 | I17: 6900000 | K17: 50019898968 | M17: 0 | O17: 0 | Q17: =C17+I17+M17 -> 18000000 | S17: 10420 | U17: 99212599615 | W17: 186110161200 | Y17: =W17/$AA$9*100 -> 4.773201 | AA17: =C17+I17+M17-Q17 -> 0
A18: بانک ملت | C18: 185000000 | E18: 206836499757 | G18: 265075007800 | I18: 0 | K18: 0 | M18: -67263500 | O18: -99860103028 | Q18: =C18+I18+M18 -> 117736500 | S18: 1518 | U18: 131633543541 | W18: 177342470425 | Y18: =W18/$AA$9*100 -> 4.5483345 | Z18: =X18/$AA$9*100 -> 0 | AA18: =C18+I18+M18-Q18 -> 0
A19: بانک صادرات ایران | C19: 0 | E19: 0 | G19: 0 | I19: 170896000 | K19: 138261856409 | M19: 0 | O19: 0 | Q19: =C19+I19+M19 -> 170896000 | S19: 933 | U19: 167782661609 | W19: 158213450667 | Y19: =W19/$AA$9*100 -> 4.057729 | Z19: =X19/$AA$9*100 -> 0 | AA19: =C19+I19+M19-Q19 -> 0
A20: صبا فولاد خلیج فارس | C20: 17922066 | E20: 60495598789 | G20: 67577408033 | I20: 19397641 | K20: 81888096956 | M20: 0 | O20: 0 | Q20: =C20+I20+M20 -> 37319707 | S20: 4190 | U20: 142383695745 | W20: 155160835535 | Y20: =W20/$AA$9*100 -> 3.979438 | Z20: =X20/$AA$9*100 -> 0 | AA20: =C20+I20+M20-Q20 -> 0
A21: پتروشیمی نوری | C21: 0 | E21: 0 | G21: 0 | I21: 2310000 | K21: 114464322418 | M21: -150000 | O21: -7269370064 | Q21: =C21+I21+M21 -> 2160000 | S21: 42360 | U21: 107031574207 | W21: 90790323552 | Y21: =W21/$AA$9*100 -> 2.3285159 | Z21: =X21/$AA$9*100 -> 0 | AA21: =C21+I21+M21-Q21 -> 0
A22: کاشی‌ الوند | C22: 8700000 | E22: 47344579221 | G22: 58357383240 | I22: 0 | K22: 0 | M22: 0 | O22: 0 | Q22: =C22+I22+M22 -> 8700000 | S22: 8720 | U22: 47344579221 | W22: 75277571280 | Y22: =W22/$AA$9*100 -> 1.9306575 | Z22: =X22/$AA$9*100 -> 0 | AA22: =C22+I22+M22-Q22 -> 0
A23: پخش البرز | C23: 0 | E23: 0 | G23: 0 | I23: 5520423 | K23: 72981164432 | M23: 0 | O23: 0 | Q23: =C23+I23+M23 -> 5520423 | S23: 13710 | U23: 72981164432 | W23: 75099954285 | Y23: =W23/$AA$9*100 -> 1.9261021 | Z23: =X23/$AA$9*100 -> 0 | AA23: =C23+I23+M23-Q23 -> 0
A24: تولیدات پتروشیمی قائد بصیر | C24: 4000000 | E24: 39584384851 | G24: 61838266400 | I24: 0 | K24: 0 | M24: 0 | O24: 0 | Q24: =C24+I24+M24 -> 4000000 | S24: 18210 | U24: 39584384851 | W24: 72276946800 | Y24: =W24/$AA$9*100 -> 1.8536999 | Z24: =X24/$AA$9*100 -> 0 | AA24: =C24+I24+M24-Q24 -> 0
A25: فولاد امیرکبیرکاشان | C25: 7500000 | E25: 50609465130 | G25: 50308089000 | I25: 0 | K25: 0 | M25: 0 | O25: 0 | Q25: =C25+I25+M25 -> 7500000 | S25: 9510 | U25: 50609465130 | W25: 70773657750 | Y25: =W25/$AA$9*100 -> 1.8151448 | Z25: =X25/$AA$9*100 -> 0 | AA25: =C25+I25+M25-Q25 -> 0
A26: تامین سرمایه دماوند | C26: 12800000 | E26: 33342324508 | G26: 30126904832 | I26: 12200000 | K26: 32231996560 | M26: 0 | O26: 0 | Q26: =C26+I26+M26 -> 25000000 | S26: 2781 | U26: 65574321068 | W26: 68987571750 | Y26: =W26/$AA$9*100 -> 1.7693367 | Z26: =X26/$AA$9*100 -> 0 | AA26: =C26+I26+M26-Q26 -> 0
A27: سیمان‌هگمتان‌ | C27: 200000 | E27: 29062689920 | G27: 27108816400 | I27: 160000 | K27: 22555893104 | M27: 0 | O27: 0 | Q27: =C27+I27+M27 -> 360000 | S27: 192300 | U27: 51618583024 | W27: 68692867560 | Y27: =W27/$AA$9*100 -> 1.7617784 | Z27: =X27/$AA$9*100 -> 0 | AA27: =C27+I27+M27-Q27 -> 0
A28: دارویی و نهاده های زاگرس دارو | C28: 2400000 | E28: 49029654650 | G28: 55678254240 | I28: 0 | K28: 0 | M28: -390000 | O28: -12867261313 | Q28: =C28+I28+M28 -> 2010000 | S28: 32700 | U28: 41062335770 | W28: 65218930290 | Y28: =W28/$AA$9*100 -> 1.6726817 | Z28: =X28/$AA$9*100 -> 0 | AA28: =C28+I28+M28-Q28 -> 0
A29: کانی کربن طبس | C29: 7900000 | E29: 77173531989 | G29: 71961404940 | I29: 0 | K29: 0 | M29: -300000 | O29: -3030392595 | Q29: =C29+I29+M29 -> 7600000 | S29: 8600 | U29: 74242891533 | W29: 64854767200 | Y29: =W29/$AA$9*100 -> 1.663342 | AA29: =C29+I29+M29-Q29 -> 0
A30: شرکت آهن و فولاد ارفع | C30: 3700000 | E30: 38751422736 | G30: 53418855450 | I30: 200000 | K30: 2979857961 | M30: 0 | O30: 0 | Q30: =C30+I30+M30 -> 3900000 | S30: 16140 | U30: 41731280697 | W30: 62459427420 | Y30: =W30/$AA$9*100 -> 1.6019082 | AA30: =C30+I30+M30-Q30 -> 0
A31: سالمین‌ | C31: 6960800 | E31: 51467998869 | G31: 58571300775 | I31: 0 | K31: 0 | M31: -600000 | O31: -5763104204 | Q31: =C31+I31+M31 -> 6360800 | S31: 9000 | U31: 47031612344 | W31: 56804679144 | Y31: =W31/$AA$9*100 -> 1.4568799 | AA31: =C31+I31+M31-Q31 -> 0
A32: توسعه خدمات دریایی وبندری سینا | C32: 2700000 | E32: 45854920502 | G32: 47608122330 | I32: 0 | K32: 0 | M32: 0 | O32: 0 | Q32: =C32+I32+M32 -> 2700000 | S32: 19850 | U32: 45854920502 | W32: 53180710650 | Y32: =W32/$AA$9*100 -> 1.3639353 | AA32: =C32+I32+M32-Q32 -> 0
A33: سیمان‌سپاهان‌ | C33: 1972821 | E33: 30528507375 | G33: 36097610967 | I33: 0 | K33: 0 | M33: 0 | O33: 0 | Q33: =C33+I33+M33 -> 1972821 | S33: 26330 | U33: 30528507375 | W33: 51542846896 | Y33: =W33/$AA$9*100 -> 1.3219287 | AA33: =C33+I33+M33-Q33 -> 0
A34: بورس انرژی ایران | C34: 0 | E34: 0 | G34: 0 | I34: 2325557 | K34: 53024046758 | M34: 0 | O34: 0 | Q34: =C34+I34+M34 -> 2325557 | S34: 21910 | U34: 53024046758 | W34: 50559087536 | Y34: =W34/$AA$9*100 -> 1.2966981 | AA34: =C34+I34+M34-Q34 -> 0
A35: نفت‌ پارس‌ | C35: 0 | E35: 0 | G35: 0 | I35: 2700000 | K35: 49486938909 | M35: 0 | O35: 0 | Q35: =C35+I35+M35 -> 2700000 | S35: 18310 | U35: 49486938909 | W35: 49054851990 | Y35: =W35/$AA$9*100 -> 1.2581187 | AA35: =C35+I35+M35-Q35 -> 0
A36: سرمایه گذاری صدرتامین | C36: 0 | E36: 0 | G36: 0 | I36: 3810000 | K36: 161668740084 | M36: -2715531 | O36: -122670613074 | Q36: =C36+I36+M36 -> 1094469 | S36: 43250 | U36: 46441318730 | W36: 46969878637 | Y36: =W36/$AA$9*100 -> 1.204645 | AA36: =C36+I36+M36-Q36 -> 0
A37: مدیریت نیروگاهی ایرانیان مپنا | C37: 1080000 | E37: 44064398683 | G37: 44398525788 | I37: 0 | K37: 0 | M37: -179771 | O37: -7848780305 | Q37: =C37+I37+M37 -> 900229 | S37: 44600 | U37: 36729675519 | W37: 39839852250 | Y37: =W37/$AA$9*100 -> 1.0217799 | AA37: =C37+I37+M37-Q37 -> 0
A38: تایدواترخاورمیانه | C38: 5100000 | E38: 41268404787 | G38: 42306423720 | I38: 0 | K38: 0 | M38: 0 | O38: 0 | Q38: =C38+I38+M38 -> 5100000 | S38: 7710 | U38: 41268404787 | W38: 39017048670 | Y38: =W38/$AA$9*100 -> 1.0006773 | AA38: =C38+I38+M38-Q38 -> 0
A39: کویر تایر | C39: 10800000 | E39: 37376498960 | G39: 39758274360 | I39: 0 | K39: 0 | M39: 0 | O39: 0 | Q39: =C39+I39+M39 -> 10800000 | S39: 3480 | U39: 37376498960 | W39: 37293475680 | Y39: =W39/$AA$9*100 -> 0.95647252 | AA39: =C39+I39+M39-Q39 -> 0
A40: کیمیا پلی استر قم | C40: 0 | E40: 0 | G40: 0 | I40: 3750000 | K40: 22283136247 | M40: 0 | O40: 0 | Q40: =C40+I40+M40 -> 3750000 | S40: 9120 | U40: 22283136247 | W40: 33935634000 | Y40: =W40/$AA$9*100 -> 0.87035335 | AA40: =C40+I40+M40-Q40 -> 0
... A49: نشاسته و گلوکز آردینه | C49: 1790000 | E49: 47553752879 | G49: 56286614977 | I49: 0 | K49: 0 | M49: -1740000 | O49: -65393899863 | Q49: =C49+I49+M49 -> 50000 | S49: 37930 | U49: 1328317111 | W49: 1881840050 | Y49: =W49/$AA$9*100 -> 0.048263893 | AA49: =C49+I49+M49-Q49 -> 0
A50: آلومینای ایران | C50: 240351 | E50: 53995177986 | G50: 51657602594 | I50: 0 | K50: 0 | M50: -240351 | O50: -70999392260 | Q50: =C50+I50+M50 -> 0 | S50: 0 | U50: 0 | W50: =Q50+S50+U50 -> 0 | Y50: =W50/$AA$9*100 -> 0 | AA50: =C50+I50+M50-Q50 -> 0
A51: پتروشیمی‌شیراز | C51: 500000 | E51: 29700929032 | G51: 34784024850 | I51: 0 | K51: 0 | M51: -500000 | O51: -36525458908 | Q51: =C51+I51+M51 -> 0 | S51: 0 | U51: 0 | W51: =Q51+S51+U51 -> 0 | Y51: =W51/$AA$9*100 -> 0 | AA51: =C51+I51+M51-Q51 -> 0
A52: توزیع دارو پخش | C52: 8093726 | E52: 19520718537 | G52: 46982294763 | I52: 0 | K52: 0 | M52: -8093726 | O52: -66417705809 | Q52: =C52+I52+M52 -> 0 | S52: 0 | U52: 0 | W52: =Q52+S52+U52 -> 0 | Y52: =W52/$AA$9*100 -> 0 | AA52: =C52+I52+M52-Q52 -> 0
A53: تولیدی‌مهرام‌ | C53: 1498256 | E53: 28745845701 | G53: 30699828035 | I53: 0 | K53: 0 | M53: -1498256 | O53: -30699828176 | Q53: =C53+I53+M53 -> 0 | S53: 0 | U53: 0 | W53: =Q53+S53+U53 -> 0 | Y53: =W53/$AA$9*100 -> 0 | AA53: =C53+I53+M53-Q53 -> 0
A54: ح. کویر تایر | C54: 15802378 | E54: 38858047502 | G54: 42493411424 | I54: 0 | K54: 0 | M54: -15802378 | O54: -31140928196 | Q54: =C54+I54+M54 -> 0 | S54: 0 | U54: 0 | W54: =Q54+S54+U54 -> 0 | Y54: =W54/$AA$9*100 -> 0 | AA54: =C54+I54+M54-Q54 -> 0
A55: داروسازی‌ فارابی‌ | C55: 3751429 | E55: 36308561457 | G55: 64137476719 | I55: 0 | K55: 0 | M55: -3751429 | O55: -71680484727 | Q55: =C55+I55+M55 -> 0 | S55: 0 | U55: 0 | W55: =Q55+S55+U55 -> 0 | Y55: =W55/$AA$9*100 -> 0 | AA55: =C55+I55+M55-Q55 -> 0
A56: دارویی‌ رازک‌ | C56: 6600000 | E56: 30615342401 | G56: 28619051340 | I56: 0 | K56: 0 | M56: -6600000 | O56: -31959415120 | Q56: =C56+I56+M56 -> 0 | S56: 0 | U56: 0 | W56: =Q56+S56+U56 -> 0 | Y56: =W56/$AA$9*100 -> 0 | AA56: =C56+I56+M56-Q56 -> 0
A57: زرین ذرت شاهرود | C57: 6666666 | E57: 41566843884 | G57: 63703727629 | I57: 0 | K57: 0 | M57: -6666666 | O57: -63362387068 | Q57: =C57+I57+M57 -> 0 | S57: 0 | U57: 0 | W57: =Q57+S57+U57 -> 0 | Y57: =W57/$AA$9*100 -> 0 | AA57: =C57+I57+M57-Q57 -> 0
A58: صنایع پتروشیمی خلیج فارس | C58: 10100000 | E58: 126459934120 | G58: 124973429690 | I58: 8900000 | K58: 115381438308 | M58: -19000000 | O58: -273709742565 | Q58: =C58+I58+M58 -> 0 | S58: 0 | U58: 0 | W58: =Q58+S58+U58 -> 0 | Y58: =W58/$AA$9*100 -> 0 | AA58: =C58+I58+M58-Q58 -> 0
A59: نفت‌ بهران‌ | C59: 3305353 | E59: 22195840343 | G59: 40000472769 | I59: 0 | K59: 0 | M59: -3305353 | O59: -49148670569 | Q59: =C59+I59+M59 -> 0 | S59: 0 | U59: 0 | W59: =Q59+S59+U59 -> 0 | Y59: =W59/$AA$9*100 -> 0 | AA59: =C59+I59+M59-Q59 -> 0
C60: =SUM(C10:C59) -> 504433539 | E60: =SUM(E10:E59) -> 2305501640406 | G60: =SUM(G10:G59) -> 3148065568897 | I60: =SUM(I10:I59) -> 301526368 | K60: =SUM(K10:K59) -> 1537169320169 | M60: =SUM(M10:M59) -> -171511586 | O60: =SUM(O10:O59) -> -1401630913757 | Q60: =SUM(Q10:Q59) -> 634448321 | U60: =SUM(U10:U59) -> 2894228417313 | W60: =SUM(W10:W59) -> 3692045538770 | Y60: =SUM(Y10:Y59) -> 94.690561
E62: 2305501640406 | G62: 3148065568897 | U62: 2802068451266 | W62: 696291486839
E63: =E62-E60 -> 0 | G63: =G62-G60 -> 0 | U63: 92159966047 | W63: 101525634623
U64: =SUM(U62:U63) -> 2894228417313 | W64: =SUM(W62:W63) -> 797817121462
U65: =U64-U60 -> 0 | W65: =W64+U64-W60 -> 5

Sheet اوراق مشتقه
A1: =سهام!A1 -> صندوق سرمایه‌گذاری حفظ ارزش دماوند
A2: =سهام!A2 -> صورت وضعیت پرتفوی
A3: =سهام!A3 -> به تاریخ 30 مهر 1405
A5: اطلاعات آماری مرتبط با اوراق اختیار فروش تبعی خریداری شده توسط صندوق سرمایه گذاری:
E6: =سهام!C6 -> (مبالغ به ریال)
C7: =سهام!C7 -> 1405/06/31 | M7: =سهام!Q7 -> 1405/07/30
A8: نام اختیار تبعی سهام | C8: تعداد اوراق تبعی | G8: قیمت اعمال | I8: تاریخ اعمال | K8: نرخ سود موثر | M8: تعداد اوراق تبعی | Q8: قیمت اعمال | S8: تاریخ اعمال | U8: نرخ سود موثر
A9: اختیارف ت وبملت-1383-05/07/27 | C9: 145000000 | G9: 915 | I9: 1405/07/27 | K9: 0.19852597 | M9: 0 | Q9: 0 | S9: - | U9: 0
A11: اطلاعات آماری مرتبط با موقعیت های اخذ شده در اوراق اختیار معامله توسط صندوق سرمایه گذاری:
C12: =E6 -> (مبالغ به ریال)
C13: =C7 -> 1405/06/31 | M13: =M7 -> 1405/07/30
A14: نام اختیار معامله سهام | C14: نوع اختیار | E14: نوع موقعیت | G14: تعداد اوراق | I14: قیمت اعمال | K14: تاریخ اعمال | M14: نوع اختیار | O14: نوع موقعیت | Q14: تعداد اوراق | S14: قیمت اعمال | U14: تاریخ اعمال
A15: اختیارخ تاپیکو-50000-05/08/13 | C15: - | E15: - | G15: 0 | I15: 0 | K15: - | M15: اختیار خرید | O15: موقعیت فروش | Q15: 1000000 | S15: 50000 | U15: 1405/08/13
A16: اختیارخ وبملت-1600-1405/07/22 | C16: اختیار خرید | E16: موقعیت فروش | G16: 48000000 | I16: 1600 | K16: 1405/07/22 | M16: - | O16: - | Q16: 0 | S16: 0 | U16: -
A17: اختیارخ شستا-3250-1405/07/15 | C17: اختیار خرید | E17: موقعیت فروش | G17: 27405000 | I17: 3250 | K17: 1405/07/15 | M17: - | O17: - | Q17: 0 | S17: 0 | U17: -

Sheet اوراق
A1: =سهام!A1 -> صندوق سرمایه‌گذاری حفظ ارزش دماوند
A2: صورت وضعیت پرتفوی
A3: =سهام!A3 -> به تاریخ 30 مهر 1405
A5: 1-2- سرمایه‌گذاری در اوراق بهادار با درآمد ثابت یا علی‌الحساب
C6: =سهام!C6 -> (مبالغ به ریال)
C7: اطلاعات اوراق بهادار با درآمد ثابت | M7: =سهام!C7 -> 1405/06/31 | S7: تغییرات طی دوره | AA7: =سهام!Q7 -> 1405/07/30
A8: نام اوراق | C8: دارای مجوز از سازمان | E8: پذیرفته شده در بورس یا فرابورس | G8: تاریخ انتشار اوراق | I8: تاریخ سررسید | K8: نرخ سود اسمی | M8: تعداد | O8: بهای تمام شده | Q8: خالص ارزش فروش | S8: خرید طی دوره | W8: فروش طی دوره | AA8: تعداد | AC8: قیمت بازار هر سهم | AE8: بهای تمام شده | AG8: خالص ارزش فروش | AI8: درصد به کل دارایی ها
S9: تعداد | U9: بهای تمام شده | W9: تعداد | Y9: مبلغ فروش | AK9: =سهام!AA9 -> 3899063979944
A10: صکوک اجاره اخابر61-3ماهه23% | C10: بله | E10: بله | G10: 1402/10/06 | I10: 1406/11/14 | K10: 23 | M10: 238000 | O10: 238122945054 | Q10: 237870587500 | S10: 255000 | U10: 255138656248 | W10: -451000 | Y10: -450777268750 | AA10: 42000 | AC10: 1000000 | AE10: 42022837498 | AG10: =41977162500+2967359178 -> 44944521678 | AI10: =AG10/$AK$9*100 -> 1.1527003 | AK10: =M10+S10+W10-AA10 -> 0
M11: =SUM(M10:M10) -> 238000 | O11: =SUM(O10:O10) -> 238122945054 | Q11: =SUM(Q10:Q10) -> 237870587500 | S11: =SUM(S10:S10) -> 255000 | U11: =SUM(U10:U10) -> 255138656248 | W11: =SUM(W10:W10) -> -451000 | Y11: =SUM(Y10:Y10) -> -450777268750 | AA11: =SUM(AA10:AA10) -> 42000 | AE11: =SUM(AE10:AE10) -> 42022837498 | AG11: =SUM(AG10:AG10) -> 44944521678 | AI11: =SUM(AI10:AI10) -> 1.1527003
O13: 238122945054 | Q13: 237870587500 | AE13: 42022837498 | AG13: -45674998
O14: =O13-O11 -> 0 | Q14: =Q13-Q11 -> 0 | AE14: =AE13-AE11 -> 0 | AG14: =AE13+AG13-AG11 -> -2967359178
AG15: 2967359178
AG16: =SUM(AG14:AG15) -> 0

Sheet سپرده
A1: =سهام!A1 -> صندوق سرمایه‌گذاری حفظ ارزش دماوند
A2: صورت وضعیت پرتفوی
A3: =سهام!A3 -> به تاریخ 30 مهر 1405
A5: 1-3- سرمایه‌گذاری در سپرده‌ بانکی
C6: =سهام!C6 -> (مبالغ به ریال)
C7: =سهام!C7 -> 1405/06/31 | E7: تغییرات طی دوره | I7: =سهام!Q7 -> 1405/07/30
A8: سپرده های بانکی | C8: مبلغ | E8: افزایش | G8: کاهش | I8: مبلغ | K8: درصد به کل دارایی‌ها | M8: =سهام!AA9 -> 3899063979944
A9: بانک پاسارگاد | C9: 17370660903 | E9: 469110186 | G9: -3003420000 | I9: =C9+E9+G9 -> 14836351089 | K9: =I9/$M$8*100 -> 0.38051058
A10: بانک گردشگری | C10: 2160286575 | E10: 49113284762 | G10: -48780719878 | I10: =C10+E10+G10 -> 2492851459 | K10: =I10/$M$8*100 -> 0.063934613
A11: بانک تجارت | C11: 0 | E11: 101000000 | G11: -2045000 | I11: =C11+E11+G11 -> 98955000 | K11: =I11/$M$8*100 -> 0.0025379168
A12: بانک سامان | C12: 80328172 | E12: 339682 | G12: -80667854 | I12: =C12+E12+G12 -> 0 | K12: =I12/$M$8*100 -> 0
C13: =SUM(C9:C12) -> 19611275650 | E13: =SUM(E9:E12) -> 49683734630 | G13: =SUM(G9:G12) -> -51866852732 | I13: =SUM(I9:I12) -> 17428157548 | K13: =SUM(K9:K12) -> 0.44698311
C15: 19611275650 | E15: 49683734630 | G15: -51866852732 | I15: 17428157548 | K15: 0.45
C16: =C15-C13 -> 0 | E16: =E15-E13 -> 0 | G16: =G15-G13 -> 0 | I16: =I15-I13 -> 0 | K16: =K15-K13 -> 0.0030168872
G17: =C13+E13+G13-I13 -> 0

Sheet درآمد
A1: =سهام!A1 -> صندوق سرمایه‌گذاری حفظ ارزش دماوند
A2: صورت وضعیت درآمدها
A3: دوره یک ماهه منتهی به 30 مهر 1405
A5: 2- درآمد حاصل از سرمایه گذاری‌ها
C6: =سهام!C6 -> (مبالغ به ریال)
A7: شرح | C7: یادداشت | E7: مبلغ | G7: درصد از کل درآمدها | I7: درصد از کل دارایی ها | N7: =سهام!AA9 -> 3899063979944
A8: درآمد حاصل از سرمایه‌گذاری در سهام و حق تقدم سهام | C8: 2-1 | E8: ='درآمد سرمایه گذاری در سهام'!S94 -> 2111298217273 | G8: =E8/$E$12*100 -> 97.867924 | I8: =E8/$N$7*100 -> 54.148848 | J8: ='درآمد سرمایه گذاری در سهام'!#REF! -> #REF! | K8: ='درآمد سرمایه گذاری در سهام'!#REF! -> #REF! | L8: ='درآمد سرمایه گذاری در سهام'!#REF! -> #REF!
A9: درآمد حاصل از سرمایه‌گذاری در اوراق بهادار با درآمد ثابت | C9: 2-2 | E9: ='درآمد سرمایه گذاری در اوراق به'!S13 -> 36781929111 | G9: =E9/$E$12*100 -> 1.7050036 | I9: =E9/$N$7*100 -> 0.9433528 | J9: ='درآمد سرمایه گذاری در اوراق به'!I13 -> 5919641412 | K9: ='درآمد سرمایه گذاری در اوراق به'!I13 -> 5919641412 | L9: ='درآمد سرمایه گذاری در اوراق به'!I13 -> 5919641412
A10: درآمد حاصل از سرمایه‌گذاری در سپرده بانکی و گواهی سپرده | C10: 2-3 | E10: ='درآمد سپرده بانکی'!G14 -> 1962084678 | G10: =E10/$E$12*100 -> 0.090951223 | I10: =E10/$N$7*100 -> 0.050321941 | J10: ='درآمد سپرده بانکی'!C14 -> 380105838 | K10: ='درآمد سپرده بانکی'!C14 -> 380105838 | L10: ='درآمد سپرده بانکی'!C14 -> 380105838
A11: سایر درآمدها | C11: 2-4 | E11: 7251114720 | G11: =E11/$E$12*100 -> 0.33612094 | I11: =E11/$N$7*100 -> 0.18597065 | J11: ='سایر درآمدها'!C11 -> 2680781822 | K11: ='سایر درآمدها'!C11 -> 2680781822 | L11: ='سایر درآمدها'!C11 -> 2680781822
E12: =SUM(E8:E11) -> 2157293345782 | G12: =SUM(G8:G11) -> 100 | I12: =SUM(I8:I11) -> 55.328493 | J12: =SUM(J8:J11) -> #REF! | K12: =SUM(K8:K11) -> #REF! | L12: =SUM(L8:L11) -> #REF!
E14: 2157293345782 | J14: 356528053029 | L14: -39899696555
E15: =E14-E12 -> 0 | J15: =J12-J14 -> #REF! | L15: =L12-L14 -> #REF!

Sheet درآمد سرمایه گذاری در سهام
A1: =سهام!A1 -> صندوق سرمایه‌گذاری حفظ ارزش دماوند
A2: صورت وضعیت درآمدها
A3: =درآمد!A3 -> دوره یک ماهه منتهی به 30 مهر 1405
A5: 2-1- درآمد حاصل از سرمایه‌گذاری در سهام، حق تقدم سهام و گواهی سپرده کالایی
C6: =درآمد!C6 -> (مبالغ به ریال)
C7: طی مهر ماه | M7: از ابتدای سال مالی تا پایان مهر ماه
A8: سهام | C8: درآمد سود سهام | E8: درآمد تغییر ارزش | G8: درآمد فروش | I8: جمع | M8: درآمد سود سهام | O8: درآمد تغییر ارزش | Q8: درآمد فروش | S8: جمع
C9: یادداشت 1-1-2 | E9: یادداشت 2-1-2 | G9: یادداشت 3-1-2 | I9: مبلغ | K9: درصد از کل درآمدها | M9: یادداشت 1-1-2 | O9: یادداشت 2-1-2 | Q9: یادداشت 3-1-2 | S9: مبلغ | U9: درصد از کل درآمدها
A10: پالایش نفت اصفهان | C10: 0 | E10: 18962925730 | G10: =VLOOKUP(A10,'درآمد ناشی از فروش'!A:Q,9,0) -> 11185999670 | I10: =C10+E10+G10 -> 30148925400 | K10: =I10/$I$94*100 -> 7.0702964 | M10: 14800000000 | O10: 134574473803 | Q10: =VLOOKUP(A10,'درآمد ناشی از فروش'!A:Q,17,0) -> 65913090891 | S10: =M10+O10+Q10 -> 215287564694 | U10: =S10/$S$94*100 -> 10.196928
A11: بورس کالای ایران | C11: 0 | E11: -51191033590 | G11: =VLOOKUP(A11,'درآمد ناشی از فروش'!A:Q,9,0) -> 108865323614 | I11: =C11+E11+G11 -> 57674290024 | K11: =I11/$I$94*100 -> 13.525335 | M11: 10070000000 | O11: 127745521918 | Q11: =VLOOKUP(A11,'درآمد ناشی از فروش'!A:Q,17,0) -> 212636653283 | S11: =M11+O11+Q11 -> 350452175201 | U11: =S11/$S$94*100 -> 16.598895
A12: سرمایه گذاری تامین اجتماعی | C12: 19050525270 | E12: -46352195625 | G12: =VLOOKUP(A12,'درآمد ناشی از فروش'!A:Q,9,0) -> 28042141156 | I12: =C12+E12+G12 -> 740470801 | K12: =I12/$I$94*100 -> 0.17364957 | M12: 19050525270 | O12: 112808740954 | Q12: =VLOOKUP(A12,'درآمد ناشی از فروش'!A:Q,17,0) -> 114535716022 | S12: =M12+O12+Q12 -> 246394982246 | U12: =S12/$S$94*100 -> 11.670307
A13: بین المللی توسعه ص. معادن غدیر | C13: 0 | E13: 61193722632 | G13: 0 | I13: =C13+E13+G13 -> 61193722632 | K13: =I13/$I$94*100 -> 14.350686 | M13: 0 | O13: 86897561585 | Q13: 0 | S13: =M13+O13+Q13 -> 86897561585 | U13: =S13/$S$94*100 -> 4.1158355
A14: شمش طلا GoldBar | C14: 0 | E14: 22142154818 | G14: 0 | I14: =C14+E14+G14 -> 22142154818 | K14: =I14/$I$94*100 -> 5.1926095 | M14: 0 | O14: 59198987790 | Q14: 0 | S14: =M14+O14+Q14 -> 59198987790 | U14: =S14/$S$94*100 -> 2.8039141
A15: ملی‌ صنایع‌ مس‌ ایران‌ | C15: 0 | E15: -1535137061 | G15: =VLOOKUP(A15,'درآمد ناشی از فروش'!A:Q,9,0) -> 41932916278 | I15: =C15+E15+G15 -> 40397779217 | K15: =I15/$I$94*100 -> 9.4737796 | M15: 2025000000 | O15: 54516474510 | Q15: =VLOOKUP(A15,'درآمد ناشی از فروش'!A:Q,17,0) -> 61740856172 | S15: =M15+O15+Q15 -> 118282330682 | U15: =S15/$S$94*100 -> 5.6023507
A16: بانک ملت | C16: 0 | E16: -9247756978 | G16: =VLOOKUP(A16,'درآمد ناشی از فروش'!A:Q,9,0) -> 22153253603 | I16: =C16+E16+G16 -> 12905496625 | K16: =I16/$I$94*100 -> 3.0264988 | M16: 8393260832 | O16: 39964496404 | Q16: =VLOOKUP(A16,'درآمد ناشی از فروش'!A:Q,17,0) -> 74681069357 | S16: =M16+O16+Q16 -> 123038826593 | U16: =S16/$S$94*100 -> 5.8276384
A17: تولیدات پتروشیمی قائد بصیر | C17: 0 | E17: 10438680400 | G17: 0 | I17: =C17+E17+G17 -> 10438680400 | K17: =I17/$I$94*100 -> 2.4479998 | M17: 6400000000 | O17: 32692561949 | Q17: 0 | S17: =M17+O17+Q17 -> 39092561949 | U17: =S17/$S$94*100 -> 1.8515888
A18: کاشی‌ الوند | C18: 0 | E18: 16920188040 | G18: =VLOOKUP(A18,'درآمد ناشی از فروش'!A:Q,9,0) -> 0 | I18: =C18+E18+G18 -> 16920188040 | K18: =I18/$I$94*100 -> 3.9679937 | M18: 3570000000 | O18: 27932992059 | Q18: =VLOOKUP(A18,'درآمد ناشی از فروش'!A:Q,17,0) -> 3001597054 | S18: =M18+O18+Q18 -> 34504589113 | U18: =S18/$S$94*100 -> 1.6342831
A19: دارویی و نهاده های زاگرس دارو | C19: 0 | E19: 17507994930 | G19: =VLOOKUP(A19,'درآمد ناشی از فروش'!A:Q,9,0) -> 5000181120 | I19: =C19+E19+G19 -> 22508176050 | K19: =I19/$I$94*100 -> 5.2784461 | M19: 0 | O19: 24156594520 | Q19: =VLOOKUP(A19,'درآمد ناشی از فروش'!A:Q,17,0) -> 5000181120 | S19: =M19+O19+Q19 -> 29156775640 | U19: =S19/$S$94*100 -> 1.380988
A20: سیمان‌سپاهان‌ | C20: 0 | E20: 15445235929 | G20: =VLOOKUP(A20,'درآمد ناشی از فروش'!A:Q,9,0) -> 0 | I20: =C20+E20+G20 -> 15445235929 | K20: =I20/$I$94*100 -> 3.6220991 | M20: 0 | O20: 21014339521 | Q20: =VLOOKUP(A20,'درآمد ناشی از فروش'!A:Q,17,0) -> 1363636494 | S20: =M20+O20+Q20 -> 22377976015 | U20: =S20/$S$94*100 -> 1.0599155
A21: شرکت آهن و فولاد ارفع | C21: 0 | E21: 6060714009 | G21: =VLOOKUP(A21,'درآمد ناشی از فروش'!A:Q,9,0) -> 0 | I21: =C21+E21+G21 -> 6060714009 | K21: =I21/$I$94*100 -> 1.4213125 | M21: 0 | O21: 20728146723 | Q21: =VLOOKUP(A21,'درآمد ناشی از فروش'!A:Q,17,0) -> 5721299510 | S21: =M21+O21+Q21 -> 26449446233 | U21: =S21/$S$94*100 -> 1.2527575
A22: فولاد امیرکبیرکاشان | C22: 0 | E22: 20465568750 | G22: 0 | I22: =C22+E22+G22 -> 20465568750 | K22: =I22/$I$94*100 -> 4.7994293 | M22: 0 | O22: 20164192620 | Q22: 0 | S22: =M22+O22+Q22 -> 20164192620 | U22: =S22/$S$94*100 -> 0.95506132
A23: سیمان‌هگمتان‌ | C23: 0 | E23: 19028158056 | G23: 0 | I23: =C23+E23+G23 -> 19028158056 | K23: =I23/$I$94*100 -> 4.4623387 | M23: 0 | O23: 17074284536 | Q23: 0 | S23: =M23+O23+Q23 -> 17074284536 | U23: =S23/$S$94*100 -> 0.80871022
A24: صبا فولاد خلیج فارس | C24: 0 | E24: 5695330546 | G24: 0 | I24: =C24+E24+G24 -> 5695330546 | K24: =I24/$I$94*100 -> 1.3356256 | M24: 0 | O24: 12777139790 | Q24: 0 | S24: =M24+O24+Q24 -> 12777139790 | U24: =S24/$S$94*100 -> 0.6051793
A25: کیمیا پلی استر قم | C25: 0 | E25: 11652497753 | G25: 0 | I25: =C25+E25+G25 -> 11652497753 | K25: =I25/$I$94*100 -> 2.732655 | M25: 0 | O25: 11652497753 | Q25: 0 | S25: =M25+O25+Q25 -> 11652497753 | U25: =S25/$S$94*100 -> 0.5519115
A26: سالمین‌ | C26: 0 | E26: 2669764894 | G26: =VLOOKUP(A26,'درآمد ناشی از فروش'!A:Q,9,0) -> 1371613475 | I26: =C26+E26+G26 -> 4041378369 | K26: =I26/$I$94*100 -> 0.94775328 | M26: 3248724850 | O26: 9773066800 | Q26: =VLOOKUP(A26,'درآمد ناشی از فروش'!A:Q,17,0) -> 4419838349 | S26: =M26+O26+Q26 -> 17441629999 | U26: =S26/$S$94*100 -> 0.82610926
A27: توسعه خدمات دریایی وبندری سینا | C27: 0 | E27: 5572588320 | G27: 0 | I27: =C27+E27+G27 -> 5572588320 | K27: =I27/$I$94*100 -> 1.306841 | M27: 1755000000 | O27: 7325790148 | Q27: 0 | S27: =M27+O27+Q27 -> 9080790148 | U27: =S27/$S$94*100 -> 0.43010457
A28: سرمایه گذاری دنیای سرمایه | C28: 0 | E28: 5279129342 | G28: 0 | I28: =C28+E28+G28 -> 5279129342 | K28: =I28/$I$94*100 -> 1.2380212 | M28: 0 | O28: 5279129342 | Q28: 0 | S28: =M28+O28+Q28 -> 5279129342 | U28: =S28/$S$94*100 -> 0.25004186
A29: ='درآمد ناشی از اعمال اختیار'!A11 -> اختیارخ تاپیکو-50000-05/08/13 (ضپیک80041) | C29: 0 | E29: 5035546014 | G29: 3592832180 | I29: =C29+E29+G29 -> 8628378194 | K29: =I29/$I$94*100 -> 2.0234616 | M29: 0 | O29: 5035546014 | Q29: =VLOOKUP(A29,'درآمد ناشی از اعمال اختیار'!A:M,13,0) -> 3592832180 | S29: =M29+O29+Q29 -> 8628378194 | U29: =S29/$S$94*100 -> 0.40867643
A30: سرمایه‌گذاری‌غدیر(هلدینگ‌ | C30: 0 | E30: -3214310311 | G30: =VLOOKUP(A30,'درآمد ناشی از فروش'!A:Q,9,0) -> 1069578465 | I30: =C30+E30+G30 -> -2144731846 | K30: =I30/$I$94*100 -> -0.50296618 | M30: 0 | O30: 4553214824 | Q30: =VLOOKUP(A30,'درآمد ناشی از فروش'!A:Q,17,0) -> 3366816037 | S30: =M30+O30+Q30 -> 7920030861 | U30: =S30/$S$94*100 -> 0.37512611
A31: تامین سرمایه دماوند | C31: 0 | E31: 6628670358 | G31: 0 | I31: =C31+E31+G31 -> 6628670358 | K31: =I31/$I$94*100 -> 1.5545053 | M31: 0 | O31: 3413250682 | Q31: 0 | S31: =M31+O31+Q31 -> 3413250682 | U31: =S31/$S$94*100 -> 0.16166597
A32: مدیریت نیروگاهی ایرانیان مپنا | C32: 0 | E32: 2776049626 | G32: =VLOOKUP(A32,'درآمد ناشی از فروش'!A:Q,9,0) -> 575200836 | I32: =C32+E32+G32 -> 3351250462 | K32: =I32/$I$94*100 -> 0.78590974 | M32: 0 | O32: 3110176731 | Q32: =VLOOKUP(A32,'درآمد ناشی از فروش'!A:Q,17,0) -> 575200836 | S32: =M32+O32+Q32 -> 3685377567 | U32: =S32/$S$94*100 -> 0.17455505
A33: پخش البرز | C33: 0 | E33: 2118789853 | G33: 0 | I33: =C33+E33+G33 -> 2118789853 | K33: =I33/$I$94*100 -> 0.49688246 | M33: 0 | O33: 2118789853 | Q33: 0 | S33: =M33+O33+Q33 -> 2118789853 | U33: =S33/$S$94*100 -> 0.10035484
A34: صنعتی معدنی سیمان تجارت مهریز | C34: 0 | E34: 65117719 | G34: =VLOOKUP(A34,'درآمد ناشی از فروش'!A:Q,9,0) -> 0 | I34: =C34+E34+G34 -> 65117719 | K34: =I34/$I$94*100 -> 0.015270912 | M34: 0 | O34: 1597584671 | Q34: =VLOOKUP(A34,'درآمد ناشی از فروش'!A:Q,17,0) -> 2570385657 | S34: =M34+O34+Q34 -> 4167970328 | U34: =S34/$S$94*100 -> 0.19741268
A35: پگاه‌آذربایجان‌غربی‌ | C35: 0 | E35: 1551076720 | G35: 0 | I35: =C35+E35+G35 -> 1551076720 | K35: =I35/$I$94*100 -> 0.3637467 | M35: 0 | O35: 1551076720 | Q35: 0 | S35: =M35+O35+Q35 -> 1551076720 | U35: =S35/$S$94*100 -> 0.073465544
A36: فنرسازی زر گلپایگان | C36: 0 | E36: -345343365 | G36: =VLOOKUP(A36,'درآمد ناشی از فروش'!A:Q,9,0) -> 976835700 | I36: =C36+E36+G36 -> 631492335 | K36: =I36/$I$94*100 -> 0.14809277 | M36: 0 | O36: 1434855825 | Q36: =VLOOKUP(A36,'درآمد ناشی از فروش'!A:Q,17,0) -> 976835700 | S36: =M36+O36+Q36 -> 2411691525 | U36: =S36/$S$94*100 -> 0.1142279
A37: معدنی‌وصنعتی‌چادرملو | C37: 0 | E37: 650642552 | G37: =VLOOKUP(A37,'درآمد ناشی از فروش'!A:Q,9,0) -> 0 | I37: =C37+E37+G37 -> 650642552 | K37: =I37/$I$94*100 -> 0.15258374 | M37: 0 | O37: 779538981 | Q37: =VLOOKUP(A37,'درآمد ناشی از فروش'!A:Q,17,0) -> 9776290710 | S37: =M37+O37+Q37 -> 10555829691 | U37: =S37/$S$94*100 -> 0.49996867
A38: نشاسته و گلوکز آردینه | C38: 0 | E38: -8179339154 | G38: =VLOOKUP(A38,'درآمد ناشی از فروش'!A:Q,9,0) -> 19677896412 | I38: =C38+E38+G38 -> 11498557258 | K38: =I38/$I$94*100 -> 2.6965541 | M38: 7000000000 | O38: 553522944 | Q38: =VLOOKUP(A38,'درآمد ناشی از فروش'!A:Q,17,0) -> 21640364509 | S38: =M38+O38+Q38 -> 29193887453 | U38: =S38/$S$94*100 -> 1.3827458
A39: سرمایه گذاری صدرتامین | C39: 0 | E39: 528559907 | G39: =VLOOKUP(A39,'درآمد ناشی از فروش'!A:Q,9,0) -> 8398821116 | I39: =C39+E39+G39 -> 8927381023 | K39: =I39/$I$94*100 -> 2.0935814 | M39: 0 | O39: 528559907 | Q39: =VLOOKUP(A39,'درآمد ناشی از فروش'!A:Q,17,0) -> 8398821116 | S39: =M39+O39+Q39 -> 8927381023 | U39: =S39/$S$94*100 -> 0.42283847
A40: کویر تایر | C40: 0 | E40: -2464798680 | G40: 0 | I40: =C40+E40+G40 -> -2464798680 | K40: =I40/$I$94*100 -> -0.57802582 | M40: 0 | O40: -83023280 | Q40: 0 | S40: =M40+O40+Q40 -> -83023280 | U40: =S40/$S$94*100 -> -0.0039323332
A41: سیم و کابل تبریز | C41: 0 | E41: -155833371 | G41: 0 | I41: =C41+E41+G41 -> -155833371 | K41: =I41/$I$94*100 -> -0.036544856 | M41: 0 | O41: -155833371 | Q41: 0 | S41: =M41+O41+Q41 -> -155833371 | U41: =S41/$S$94*100 -> -0.0073809266
A42: نفت‌ پارس‌ | C42: 0 | E42: -432086919 | G42: 0 | I42: =C42+E42+G42 -> -432086919 | K42: =I42/$I$94*100 -> -0.10132973 | M42: 0 | O42: -432086919 | Q42: 0 | S42: =M42+O42+Q42 -> -432086919 | U42: =S42/$S$94*100 -> -0.020465461
A43: کشتیرانی جمهوری اسلامی ایران | C43: 0 | E43: -773364128 | G43: 0 | I43: =C43+E43+G43 -> -773364128 | K43: =I43/$I$94*100 -> -0.18136347 | M43: 0 | O43: -773364128 | Q43: 0 | S43: =M43+O43+Q43 -> -773364128 | U43: =S43/$S$94*100 -> -0.036629791
A44: زامیاد | C44: 0 | E44: -1511870743 | G44: 0 | I44: =C44+E44+G44 -> -1511870743 | K44: =I44/$I$94*100 -> -0.35455241 | M44: 0 | O44: -1511870743 | Q44: 0 | S44: =M44+O44+Q44 -> -1511870743 | U44: =S44/$S$94*100 -> -0.071608583
A45: تایدواترخاورمیانه | C45: 0 | E45: -3289375050 | G45: 0 | I45: =C45+E45+G45 -> -3289375050 | K45: =I45/$I$94*100 -> -0.77139919 | L45: =J45/$I$94*100 -> 0 | M45: 3570000000 | O45: -2251356117 | Q45: 0 | S45: =M45+O45+Q45 -> 1318643883 | U45: =S45/$S$94*100 -> 0.062456543
A46: بورس انرژی ایران | C46: 0 | E46: -2464959222 | G46: 0 | I46: =C46+E46+G46 -> -2464959222 | K46: =I46/$I$94*100 -> -0.57806347 | L46: =J46/$I$94*100 -> 0 | M46: 0 | O46: -2464959222 | Q46: 0 | S46: =M46+O46+Q46 -> -2464959222 | U46: =S46/$S$94*100 -> -0.11675088
A47: کانی کربن طبس | C47: 0 | E47: -4175997284 | G47: =VLOOKUP(A47,'درآمد ناشی از فروش'!A:Q,9,0) -> 123359544 | I47: =C47+E47+G47 -> -4052637740 | K47: =I47/$I$94*100 -> -0.95039374 | L47: =J47/$I$94*100 -> 0 | M47: 0 | O47: -9388124333 | Q47: =VLOOKUP(A47,'درآمد ناشی از فروش'!A:Q,17,0) -> 123359544 | S47: =M47+O47+Q47 -> -9264764789 | U47: =S47/$S$94*100 -> -0.43881839
A48: بانک صادرات ایران | C48: 0 | E48: -9569210942 | G48: =VLOOKUP(A48,'درآمد ناشی از فروش'!A:Q,9,0) -> 0 | I48: =C48+E48+G48 -> -9569210942 | K48: =I48/$I$94*100 -> -2.2440985 | L48: =J48/$I$94*100 -> 0 | M48: 0 | O48: -9569210942 | Q48: =VLOOKUP(A48,'درآمد ناشی از فروش'!A:Q,17,0) -> 26268101934 | S48: =M48+O48+Q48 -> 16698890992 | U48: =S48/$S$94*100 -> 0.79093
A49: پتروشیمی نوری | C49: 0 | E49: -16241250655 | G49: =VLOOKUP(A49,'درآمد ناشی از فروش'!A:Q,9,0) -> -106748211 | I49: =C49+E49+G49 -> -16347998866 | K49: =I49/$I$94*100 -> -3.8338082 | L49: =J49/$I$94*100 -> 0 | M49: 0 | O49: -16241250655 | Q49: =VLOOKUP(A49,'درآمد ناشی از فروش'!A:Q,17,0) -> -106748211 | S49: =M49+O49+Q49 -> -16347998866 | U49: =S49/$S$94*100 -> -0.77431027
A50: س. نفت و گاز و پتروشیمی تأمین | C50: 0 | E50: -39500488384 | G50: 0 | I50: =C50+E50+G50 -> -39500488384 | K50: =I50/$I$94*100 -> -9.2633537 | L50: =J50/$I$94*100 -> 0 | M50: 0 | O50: -39500488384 | Q50: 0 | S50: =M50+O50+Q50 -> -39500488384 | U50: =S50/$S$94*100 -> -1.8709099
A51: ح. کویر تایر | C51: 0 | E51: -3635363922 | G51: =VLOOKUP(A51,'درآمد ناشی از فروش'!A:Q,9,0) -> -7474524794 | I51: =C51+E51+G51 -> -11109888716 | K51: =I51/$I$94*100 -> -2.6054065 | L51: =J51/$I$94*100 -> 0 | M51: 0 | O51: 0 | Q51: =VLOOKUP(A51,'درآمد ناشی از فروش'!A:Q,17,0) -> -7474527252 | S51: =M51+O51+Q51 -> -7474527252 | U51: =S51/$S$94*100 -> -0.35402518
A52: آلومینای ایران | C52: 0 | E52: 2337575392 | G52: =VLOOKUP(A52,'درآمد ناشی از فروش'!A:Q,9,0) -> 17557314714 | I52: =C52+E52+G52 -> 19894890106 | K52: =I52/$I$94*100 -> 4.6655981 | L52: =J52/$I$94*100 -> 0 | M52: 0 | O52: 0 | Q52: =VLOOKUP(A52,'درآمد ناشی از فروش'!A:Q,17,0) -> 17557314714 | S52: =M52+O52+Q52 -> 17557314714 | U52: =S52/$S$94*100 -> 0.83158857
A53: دارویی‌ رازک‌ | C53: 0 | E53: 1996291061 | G53: =VLOOKUP(A53,'درآمد ناشی از فروش'!A:Q,9,0) -> 1593043279 | I53: =C53+E53+G53 -> 3589334340 | K53: =I53/$I$94*100 -> 0.84174336 | M53: 0 | O53: 0 | Q53: =VLOOKUP(A53,'درآمد ناشی از فروش'!A:Q,17,0) -> 1593043279 | S53: =M53+O53+Q53 -> 1593043279 | U53: =S53/$S$94*100 -> 0.075453257
A54: صنایع پتروشیمی خلیج فارس | C54: 0 | E54: 1486504430 | G54: =VLOOKUP(A54,'درآمد ناشی از فروش'!A:Q,9,0) -> 34000627572 | I54: =C54+E54+G54 -> 35487132002 | K54: =I54/$I$94*100 -> 8.322172 | M54: 0 | O54: 0 | Q54: =VLOOKUP(A54,'درآمد ناشی از فروش'!A:Q,17,0) -> 34000627572 | S54: =M54+O54+Q54 -> 34000627572 | U54: =S54/$S$94*100 -> 1.6104133
A55: ='درآمد ناشی از اعمال اختیار'!A17 -> اختیارخ شستا-3250-1405/07/15 (ضستا70621) | C55: 0 | E55: 175360697 | G55: ='درآمد ناشی از اعمال اختیار'!I17 -> 950263262 | I55: =C55+E55+G55 -> 1125623959 | K55: =I55/$I$94*100 -> 0.26397276 | M55: 0 | O55: 0 | Q55: =VLOOKUP(A55,'درآمد ناشی از اعمال اختیار'!A:M,13,0) -> 950263262 | S55: =M55+O55+Q55 -> 950263262 | U55: =S55/$S$94*100 -> 0.045008481
A56: تولیدی‌مهرام‌ | C56: 0 | E56: -1953982334 | G56: =VLOOKUP(A56,'درآمد ناشی از فروش'!A:Q,9,0) -> 2193140699 | I56: =C56+E56+G56 -> 239158365 | K56: =I56/$I$94*100 -> 0.056085599 | M56: 0 | O56: 0 | Q56: =VLOOKUP(A56,'درآمد ناشی از فروش'!A:Q,17,0) -> 7005237243 | S56: =M56+O56+Q56 -> 7005237243 | U56: =S56/$S$94*100 -> 0.33179762
A57: پتروشیمی‌شیراز | C57: 0 | E57: -10687740170 | G57: =VLOOKUP(A57,'درآمد ناشی از فروش'!A:Q,9,0) -> 12713715320 | I57: =C57+E57+G57 -> 2025975150 | K57: =I57/$I$94*100 -> 0.47511626 | M57: 3464000000 | O57: 0 | Q57: =VLOOKUP(A57,'درآمد ناشی از فروش'!A:Q,17,0) -> 12713715320 | S57: =M57+O57+Q57 -> 16177715320 | U57: =S57/$S$94*100 -> 0.76624492
A58: نفت‌ بهران‌ | C58: 0 | E58: -17804632426 | G58: =VLOOKUP(A58,'درآمد ناشی از فروش'!A:Q,9,0) -> 27335708557 | I58: =C58+E58+G58 -> 9531076131 | K58: =I58/$I$94*100 -> 2.2351554 | M58: 4200000000 | O58: 0 | Q58: =VLOOKUP(A58,'درآمد ناشی از فروش'!A:Q,17,0) -> 33745676030 | S58: =M58+O58+Q58 -> 37945676030 | U58: =S58/$S$94*100 -> 1.7972675
A59: زرین ذرت شاهرود | C59: 0 | E59: -22136883745 | G59: =VLOOKUP(A59,'درآمد ناشی از فروش'!A:Q,9,0) -> 22289149836 | I59: =C59+E59+G59 -> 152266091 | K59: =I59/$I$94*100 -> 0.035708284 | M59: 0 | O59: 0 | Q59: =VLOOKUP(A59,'درآمد ناشی از فروش'!A:Q,17,0) -> 22289143602 | S59: =M59+O59+Q59 -> 22289143602 | U59: =S59/$S$94*100 -> 1.055708
A60: داروسازی‌ فارابی‌ | C60: 0 | E60: -28785041742 | G60: =VLOOKUP(A60,'درآمد ناشی از فروش'!A:Q,9,0) -> 36886455863 | I60: =C60+E60+G60 -> 8101414121 | K60: =I60/$I$94*100 -> 1.8998819 | M60: 4650000000 | O60: 0 | Q60: =VLOOKUP(A60,'درآمد ناشی از فروش'!A:Q,17,0) -> 47309351932 | S60: =M60+O60+Q60 -> 51959351932 | U60: =S60/$S$94*100 -> 2.4610143
A61: توزیع دارو پخش | C61: 0 | E61: -32025306516 | G61: =VLOOKUP(A61,'درآمد ناشی از فروش'!A:Q,9,0) -> 51978125773 | I61: =C61+E61+G61 -> 19952819257 | K61: =I61/$I$94*100 -> 4.6791832 | M61: 2670929580 | O61: 0 | Q61: =VLOOKUP(A61,'درآمد ناشی از فروش'!A:Q,17,0) -> 51978125773 | S61: =M61+O61+Q61 -> 54649055353 | U61: =S61/$S$94*100 -> 2.5884101
A62: ='درآمد ناشی از اعمال اختیار'!A12 -> اختیارخ وبملت-1600-1405/07/22 (ضملت70451) | C62: 0 | E62: -3625112098 | G62: =VLOOKUP(A62,'درآمد ناشی از اعمال اختیار'!A:M,9,0) -> 3468905450 | I62: =C62+E62+G62 -> -156206648 | K62: =I62/$I$94*100 -> -0.036632394 | M62: 0 | O62: 0 | Q62: =VLOOKUP(A62,'درآمد ناشی از اعمال اختیار'!A:M,13,0) -> 3375296725 | S62: =M62+O62+Q62 -> 3375296725 | U62: =S62/$S$94*100 -> 0.15986831
A63: اختیارخ شستا-4000-1405/08/13 (ضستا80621) | C63: 0 | E63: 0 | G63: =VLOOKUP(A63,'درآمد ناشی از اعمال اختیار'!A:M,9,0) -> 5407773541 | I63: =C63+E63+G63 -> 5407773541 | K63: =I63/$I$94*100 -> 1.2681899 | M63: 0 | O63: 0 | Q63: =VLOOKUP(A63,'درآمد ناشی از اعمال اختیار'!A:M,13,0) -> 5407773541 | S63: =M63+O63+Q63 -> 5407773541 | U63: =S63/$S$94*100 -> 0.25613499
A64: اختیارخ خودرو-700-1405/07/08 (ضخود71351) | C64: 0 | E64: 0 | G64: =VLOOKUP(A64,'درآمد ناشی از اعمال اختیار'!A:M,9,0) -> -23 | I64: =C64+E64+G64 -> -23 | K64: =I64/$I$94*100 -> -5.3937849e-09 | M64: 0 | O64: 0 | Q64: =VLOOKUP(A64,'درآمد ناشی از اعمال اختیار'!A:M,13,0) -> 3694668844 | S64: =M64+O64+Q64 -> 3694668844 | U64: =S64/$S$94*100 -> 0.17499512
A65: اختیارف شستا-3750-1405/08/13(طستا80611) | C65: 0 | E65: 0 | G65: =VLOOKUP(A65,'درآمد ناشی از اعمال اختیار'!A:M,9,0) -> 1948698483 | I65: =C65+E65+G65 -> 1948698483 | K65: =I65/$I$94*100 -> 0.45699393 | M65: 0 | O65: 0 | Q65: =VLOOKUP(A65,'درآمد ناشی از اعمال اختیار'!A:M,13,0) -> 1948698483 | S65: =M65+O65+Q65 -> 1948698483 | U65: =S65/$S$94*100 -> 0.09229859
A66: اختیارخ وبملت-1500-1405/07/22 (ضملت70441) | C66: 0 | E66: 0 | G66: =VLOOKUP(A66,'درآمد ناشی از اعمال اختیار'!A:M,9,0) -> 1204321194 | I66: =C66+E66+G66 -> 1204321194 | K66: =I66/$I$94*100 -> 0.28242824 | M66: 0 | O66: 0 | Q66: =VLOOKUP(A66,'درآمد ناشی از اعمال اختیار'!A:M,13,0) -> 1204321194 | S66: =M66+O66+Q66 -> 1204321194 | U66: =S66/$S$94*100 -> 0.057041738
A67: اختیارخ خودرو-650-1405/07/08 (ضخود71341) | C67: 0 | E67: 0 | G67: =VLOOKUP(A67,'درآمد ناشی از اعمال اختیار'!A:M,9,0) -> 184574959 | I67: =C67+E67+G67 -> 184574959 | K67: =I67/$I$94*100 -> 0.043285114 | M67: 0 | O67: 0 | Q67: =VLOOKUP(A67,'درآمد ناشی از اعمال اختیار'!A:M,13,0) -> 1154155723 | S67: =M67+O67+Q67 -> 1154155723 | U67: =S67/$S$94*100 -> 0.054665689
A68: اختیارخ وبصادر-900-1405/07/22(ضصاد70451) | C68: 0 | E68: 0 | G68: =VLOOKUP(A68,'درآمد ناشی از اعمال اختیار'!A:M,9,0) -> 1123741874 | I68: =C68+E68+G68 -> 1123741874 | K68: =I68/$I$94*100 -> 0.26353139 | M68: 0 | O68: 0 | Q68: =VLOOKUP(A68,'درآمد ناشی از اعمال اختیار'!A:M,13,0) -> 1123741874 | S68: =M68+O68+Q68 -> 1123741874 | U68: =S68/$S$94*100 -> 0.053225161
A69: اختیارخ خودرو-750-1405/07/08 (ضخود71361) | C69: 0 | E69: 0 | G69: =VLOOKUP(A69,'درآمد ناشی از اعمال اختیار'!A:M,9,0) -> 5 | I69: =C69+E69+G69 -> 5 | K69: =I69/$I$94*100 -> 1.1725619e-09 | M69: 0 | O69: 0 | Q69: =VLOOKUP(A69,'درآمد ناشی از اعمال اختیار'!A:M,13,0) -> 121997135 | S69: =M69+O69+Q69 -> 121997135 | U69: =S69/$S$94*100 -> 0.0057782995
A70: ='درآمد ناشی از اعمال اختیار'!A19 -> اختیارخ وبملت-1700-1405/07/22(ضملت70461) | C70: 0 | E70: 0 | G70: =VLOOKUP(A70,'درآمد ناشی از اعمال اختیار'!A:M,9,0) -> 0 | I70: =C70+E70+G70 -> 0 | K70: =I70/$I$94*100 -> 0 | M70: 0 | O70: 0 | Q70: =VLOOKUP(A70,'درآمد ناشی از اعمال اختیار'!A:M,13,0) -> 20869515 | S70: =M70+O70+Q70 -> 20869515 | U70: =S70/$S$94*100 -> 0.00098846837
A71: اختیارف شستا-3500-1405/07/15(طستا70631) | C71: 0 | E71: 0 | G71: =VLOOKUP(A71,'درآمد ناشی از اعمال اختیار'!A:M,9,0) -> -1940478896 | I71: =C71+E71+G71 -> -1940478896 | K71: =I71/$I$94*100 -> -0.45506633 | M71: 0 | O71: 0 | Q71: =VLOOKUP(A71,'درآمد ناشی از اعمال اختیار'!A:M,13,0) -> -1940478896 | S71: =M71+O71+Q71 -> -1940478896 | U71: =S71/$S$94*100 -> -0.091909276
A72: شیر و گوشت زاگرس شهرکرد | C72: 0 | E72: 0 | G72: =VLOOKUP(A72,'درآمد ناشی از فروش'!A:Q,9,0) -> 0 | I72: =C72+E72+G72 -> 0 | K72: =I72/$I$94*100 -> 0 | M72: 5050000000 | O72: 0 | Q72: =VLOOKUP(A72,'درآمد ناشی از فروش'!A:Q,17,0) -> 10689944233 | S72: =M72+O72+Q72 -> 15739944233 | U72: =S72/$S$94*100 -> 0.74551023
A73: ح.شرکت آهن و فولاد ارفع | C73: 0 | E73: 0 | G73: =VLOOKUP(A73,'درآمد ناشی از فروش'!A:Q,9,0) -> 0 | I73: =C73+E73+G73 -> 0 | K73: =I73/$I$94*100 -> 0 | M73: 0 | O73: 0 | Q73: =VLOOKUP(A73,'درآمد ناشی از فروش'!A:Q,17,0) -> 5457162590 | S73: =M73+O73+Q73 -> 5457162590 | U73: =S73/$S$94*100 -> 0.25847427
A74: بانک‌اقتصادنوین‌ | C74: 0 | E74: 0 | G74: =VLOOKUP(A74,'درآمد ناشی از فروش'!A:Q,9,0) -> 0 | I74: =C74+E74+G74 -> 0 | K74: =I74/$I$94*100 -> 0 | M74: 0 | O74: 0 | Q74: =VLOOKUP(A74,'درآمد ناشی از فروش'!A:Q,17,0) -> 3267883071 | S74: =M74+O74+Q74 -> 3267883071 | U74: =S74/$S$94*100 -> 0.15478074
A75: پالایش نفت بندرعباس | C75: 0 | E75: 0 | G75: =VLOOKUP(A75,'درآمد ناشی از فروش'!A:Q,9,0) -> 0 | I75: =C75+E75+G75 -> 0 | K75: =I75/$I$94*100 -> 0 | M75: 0 | O75: 0 | Q75: =VLOOKUP(A75,'درآمد ناشی از فروش'!A:Q,17,0) -> 18242218226 | S75: =M75+O75+Q75 -> 18242218226 | U75: =S75/$S$94*100 -> 0.8640285
A76: فولاد مبارکه اصفهان | C76: 0 | E76: 0 | G76: =VLOOKUP(A76,'درآمد ناشی از فروش'!A:Q,9,0) -> 0 | I76: =C76+E76+G76 -> 0 | K76: =I76/$I$94*100 -> 0 | M76: 3482720725 | O76: 0 | Q76: =VLOOKUP(A76,'درآمد ناشی از فروش'!A:Q,17,0) -> 84390389573 | S76: =M76+O76+Q76 -> 87873110298 | U76: =S76/$S$94*100 -> 4.1620416
A77: کارخانجات تولیدی نیروترانسفو | C77: 0 | E77: 0 | G77: =VLOOKUP(A77,'درآمد ناشی از فروش'!A:Q,9,0) -> 0 | I77: =C77+E77+G77 -> 0 | K77: =I77/$I$94*100 -> 0 | M77: 0 | O77: 0 | Q77: =VLOOKUP(A77,'درآمد ناشی از فروش'!A:Q,17,0) -> 5650066390 | S77: =M77+O77+Q77 -> 5650066390 | U77: =S77/$S$94*100 -> 0.26761101
A78: ح . معدنی‌وصنعتی‌چادرملو | C78: 0 | E78: 0 | G78: =VLOOKUP(A78,'درآمد ناشی از فروش'!A:Q,9,0) -> 0 | I78: =C78+E78+G78 -> 0 | K78: =I78/$I$94*100 -> 0 | M78: 0 | O78: 0 | Q78: =VLOOKUP(A78,'درآمد ناشی از فروش'!A:Q,17,0) -> 993746334 | S78: =M78+O78+Q78 -> 993746334 | U78: =S78/$S$94*100 -> 0.047068023
A79: پتروشیمی شازند | C79: 0 | E79: 0 | G79: =VLOOKUP(A79,'درآمد ناشی از فروش'!A:Q,9,0) -> 0 | I79: =C79+E79+G79 -> 0 | K79: =I79/$I$94*100 -> 0 | M79: 0 | O79: 0 | Q79: =VLOOKUP(A79,'درآمد ناشی از فروش'!A:Q,17,0) -> 7881823039 | S79: =M79+O79+Q79 -> 7881823039 | U79: =S79/$S$94*100 -> 0.37331643
A80: پتروشیمی پردیس | C80: 0 | E80: 0 | G80: =VLOOKUP(A80,'درآمد ناشی از فروش'!A:Q,9,0) -> 0 | I80: =C80+E80+G80 -> 0 | K80: =I80/$I$94*100 -> 0 | M80: 0 | O80: 0 | Q80: =VLOOKUP(A80,'درآمد ناشی از فروش'!A:Q,17,0) -> 8172450482 | S80: =M80+O80+Q80 -> 8172450482 | U80: =S80/$S$94*100 -> 0.38708177
A81: سیمان آرتا اردبیل | C81: 0 | E81: 0 | G81: =VLOOKUP(A81,'درآمد ناشی از فروش'!A:Q,9,0) -> 0 | I81: =C81+E81+G81 -> 0 | K81: =I81/$I$94*100 -> 0 | M81: 0 | O81: 0 | Q81: =VLOOKUP(A81,'درآمد ناشی از فروش'!A:Q,17,0) -> 3740127518 | S81: =M81+O81+Q81 -> 3740127518 | U81: =S81/$S$94*100 -> 0.17714823
A82: سایپا | C82: 0 | E82: 0 | G82: =VLOOKUP(A82,'درآمد ناشی از فروش'!A:Q,9,0) -> 0 | I82: =C82+E82+G82 -> 0 | K82: =I82/$I$94*100 -> 0 | M82: 0 | O82: 0 | Q82: =VLOOKUP(A82,'درآمد ناشی از فروش'!A:Q,17,0) -> 22933216025 | S82: =M82+O82+Q82 -> 22933216025 | U82: =S82/$S$94*100 -> 1.086214
A83: کولان سل | C83: 0 | E83: 0 | G83: =VLOOKUP(A83,'درآمد ناشی از فروش'!A:Q,9,0) -> 0 | I83: =C83+E83+G83 -> 0 | K83: =I83/$I$94*100 -> 0 | M83: 257763000 | O83: 0 | Q83: =VLOOKUP(A83,'درآمد ناشی از فروش'!A:Q,17,0) -> 2898211811 | S83: =M83+O83+Q83 -> 3155974811 | U83: =S83/$S$94*100 -> 0.1494803
... A93: گروه مالی نماد غدیر(سهامی عام) | C93: 0 | E93: 0 | G93: =VLOOKUP(A93,'درآمد ناشی از فروش'!A:Q,9,0) -> 0 | I93: =C93+E93+G93 -> 0 | K93: =I93/$I$94*100 -> 0 | M93: 0 | O93: 0 | Q93: =VLOOKUP(A93,'درآمد ناشی از فروش'!A:Q,17,0) -> 9696097999 | S93: =M93+O93+Q93 -> 9696097999 | U93: =S93/$S$94*100 -> 0.45924815
C94: =SUM(C10:C93) -> 19050525270 | E94: =SUM(E10:E93) -> -56913575937 | G94: =SUM(G10:G93) -> 464279761626 | I94: =SUM(I10:I93) -> 426416710959 | K94: =SUM(K10:K93) -> 100 | M94: =SUM(M10:M93) -> 103817924257 | O94: =SUM(O10:O93) -> 768581541783 | Q94: =SUM(Q10:Q93) -> 1238898751233 | S94: =SUM(S10:S93) -> 2111298217273 | U94: =SUM(U10:U93) -> 100
C96: 19050525270 | E96: -56913575937 | G96: 464279761626 | M96: 103817924257 | O96: 768581541783 | Q96: 1238898751233
C97: =C96-C94 -> 0 | E97: =E96-E94 -> 0 | G97: =G96-G94 -> 0 | M97: =M96-M94 -> 0 | O97: =O96-O94 -> 0 | Q97: =Q96-Q94 -> 0

Sheet درآمد سرمایه گذاری در اوراق به
A1: =سهام!A1 -> صندوق سرمایه‌گذاری حفظ ارزش دماوند
A2: صورت وضعیت درآمدها
A3: =درآمد!A3 -> دوره یک ماهه منتهی به 30 مهر 1405
A5: 2-2- درآمد حاصل از سرمایه‌گذاری در اوراق بهادار با درآمد ثابت:
C6: ='درآمد سرمایه گذاری در سهام'!C6 -> (مبالغ به ریال)
C7: ='درآمد سرمایه گذاری در سهام'!C7 -> طی مهر ماه | M7: ='درآمد سرمایه گذاری در سهام'!M7 -> از ابتدای سال مالی تا پایان مهر ماه
A8: عنوان | C8: درآمد سود اوراق | E8: درآمد تغییر ارزش | G8: درآمد فروش | I8: جمع | M8: درآمد سود اوراق | O8: درآمد تغییر ارزش | Q8: درآمد فروش | S8: جمع
C9: یادداشت 1-2-2 | E9: یادداشت 2-2-2 | G9: یادداشت 3-2-2 | I9: مبلغ | K9: درصد از کل درآمدها | M9: یادداشت 1-2-2 | O9: یادداشت 2-2-2 | Q9: یادداشت 3-2-2 | S9: مبلغ | U9: درصد از کل درآمدها
A10: صکوک اجاره اخابر61-3ماهه23% | C10: 0 | E10: 0 | G10: 0 | I10: =C10+E10+G10 -> 0 | K10: =I10/$I$13*100 -> 0 | M10: 13523072629 | O10: 0 | Q10: -392216248 | S10: =M10+O10+Q10 -> 13130856381 | U10: =S10/$S$13*100 -> 35.699205
A11: صکوک مرابحه اندیمشک07-6ماهه23% | C11: 5951722660 | E11: 206682556 | G11: -238763804 | I11: =C11+E11+G11 -> 5919641412 | K11: =I11/$I$13*100 -> 100 | M11: 22445290085 | O11: -45674998 | Q11: -362688750 | S11: =M11+O11+Q11 -> 22036926337 | U11: =S11/$S$13*100 -> 59.912372
A12: مرابحه سمگا-دماوند060907 | C12: 0 | E12: 0 | G12: 0 | I12: =C12+E12+G12 -> 0 | K12: =I12/$I$13*100 -> 0 | M12: 1554333893 | O12: 0 | Q12: 59812500 | S12: =M12+O12+Q12 -> 1614146393 | U12: =S12/$S$13*100 -> 4.3884223
C13: =SUM(C10:C12) -> 5951722660 | E13: =SUM(E10:E12) -> 206682556 | G13: =SUM(G10:G12) -> -238763804 | I13: =SUM(I10:I12) -> 5919641412 | K13: =SUM(K10:K12) -> 100 | M13: =SUM(M10:M12) -> 37522696607 | O13: =SUM(O10:O12) -> -45674998 | Q13: =SUM(Q10:Q12) -> -695092498 | S13: =SUM(S10:S12) -> 36781929111 | U13: =SUM(U10:U12) -> 100
C15: ='سود اوراق بهادار'!C12 -> 5951722660 | E15: ='درآمد ناشی از تغییر قیمت اوراق'!I70 -> 206682556 | G15: ='درآمد ناشی از فروش'!I70 -> -238763804 | I15: =C15+E15+G15 -> 5919641412 | M15: ='سود اوراق بهادار'!I12 -> 37522696607 | O15: ='درآمد ناشی از تغییر قیمت اوراق'!Q70 -> -45674998 | Q15: -456328694 | S15: =M15+O15+Q15 -> 37020692915
C16: =C15-C13 -> 0 | E16: =E15-E13 -> 0 | G16: =G15-G13 -> 0 | I16: =I15-I13 -> 0 | M16: =M15-M13 -> 0 | O16: =O15-O13 -> 0 | Q16: =Q15-Q13 -> 238763804 | S16: =S15-S13 -> 238763804
C17: 5951722660 | E17: 206682556 | G17: -238763804 | M17: 37522696607 | O17: -45674998 | Q17: -695092498
C18: =C17-C13 -> 0 | E18: =E17-E13 -> 0 | G18: =G17-G13 -> 0 | M18: =M17-M13 -> 0 | O18: =O17-O13 -> 0 | Q18: =Q17-Q13 -> 0

Sheet درآمد سپرده بانکی
A1: =سهام!A1 -> صندوق سرمایه‌گذاری حفظ ارزش دماوند
A2: صورت وضعیت درآمدها
A3: =درآمد!A3 -> دوره یک ماهه منتهی به 30 مهر 1405
A5: 2-3- درآمد حاصل از سرمایه‌گذاری در سپرده بانکی
C6: ='درآمد سرمایه گذاری در سهام'!C6 -> (مبالغ به ریال)
C7: ='درآمد سرمایه گذاری در سهام'!C7 -> طی مهر ماه | G7: ='درآمد سرمایه گذاری در سهام'!M7 -> از ابتدای سال مالی تا پایان مهر ماه
A8: نام سپرده بانکی | C8: سود سپرده بانکی و گواهی سپرده | E8: درصد سود به میانگین سپرده | G8: سود سپرده بانکی و گواهی سپرده | I8: درصد سود به میانگین سپرده
C9: یادداشت 1-3-2 | G9: یادداشت 1-3-2
A10: بانک پاسارگاد | C10: 376599984 | E10: =C10/$C$14*100 -> 99.077664 | G10: 1957097924 | I10: =G10/$G$14*100 -> 99.745844
A11: بانک گردشگری | C11: 3166172 | E11: =C11/$C$14*100 -> 0.83297116 | G11: 3221534 | I11: =G11/$G$14*100 -> 0.16418935
A12: بانک سامان | C12: 339682 | E12: =C12/$C$14*100 -> 0.08936511 | G12: 1333647 | I12: =G12/$G$14*100 -> 0.06797092
A13: بانک سینا | C13: 0 | E13: =C13/$C$14*100 -> 0 | G13: 431573 | I13: =G13/$G$14*100 -> 0.021995636
C14: =SUM(C10:C13) -> 380105838 | E14: =SUM(E10:E13) -> 100 | G14: =SUM(G10:G13) -> 1962084678 | I14: =SUM(I10:I13) -> 100
C16: 380105838 | G16: 1962084678
C17: =C16-C14 -> 0 | G17: =G16-G14 -> 0

Sheet سایر درآمدها
A1: =سهام!A1 -> صندوق سرمایه‌گذاری حفظ ارزش دماوند
A2: صورت وضعیت درآمدها
A3: =درآمد!A3 -> دوره یک ماهه منتهی به 30 مهر 1405
A5: 2-4- سایر درآمدها
C6: ='درآمد سرمایه گذاری در سهام'!C6 -> (مبالغ به ریال)
A7: سایر درآمدها | C7: ='درآمد سرمایه گذاری در سهام'!C7 -> طی مهر ماه | E7: ='درآمد سرمایه گذاری در سهام'!M7 -> از ابتدای سال مالی تا پایان مهر ماه
A8: درآمد حاصل از تعدیل کارمزد کارگزاری | C8: 2680781822 | E8: 6890936354
A9: درآمد حاصل از برگشت تنزیل سود سهام دریافتنی | C9: 0 | E9: 357850851
A10: درآمد حاصل از برگشت تنزیل سود سپرده بانکی | C10: 0 | E10: 2327515
C11: =SUM(C8:C10) -> 2680781822 | E11: =SUM(E8:E10) -> 7251114720
C13: 2426087777 | E13: 4570332898
C14: =C13-C11 -> -254694045 | E14: =E13-E11 -> -2680781822
C15: 2680781822 | E15: 7251114720
C16: =C15-C11 -> 0 | E16: =E15-E11 -> 0

Sheet سود ترجیحی
A1: ='[1]درآمد ناشی از تغییر قیمت اوراق'!A1:Q1 -> صندوق حفظ ارزش دماوند
A2: صورت وضعیت درآمدها
A3: =درآمد!A3 -> دوره یک ماهه منتهی به 30 مهر 1405
A5: 2-4-1- جزئیات قراردادهای خرید و نگهداری اوراق بهادار با درآمد ثابت
A6: ='درآمد سرمایه گذاری در سهام'!C6 -> (مبالغ به ریال)
A7: طرف معامله | B7: نوع وابستگی | C7: نام ورقه بهادار | D7: تعداد اوراق | E7: بهای تمام شده اوراق | F7: مبلغ شناسایی شده بابت قرارداد خرید و نگهداری اوراق بهادار | G7: نرخ اسمی(درصد) | H7: میانگین نرخ بازده تا سررسید قراردادهای منعقده(درصد)
A8: شرکت تامین سرمایه دماوند | B8: مدیر صندوق | C8: اوراق مشارکت صکوک مرابحه اندیمشک07-6ماهه23% | D8: =اوراق!AA10 -> 42000 | E8: =D8*1000000 -> 42000000000 | F8: 4390064027 | G8: 23 | H8: 33
C9: اوراق فرابورسی صکوک اجاره اخابر61-3ماهه23% | D9: 371000 | E9: =D9*1000000 -> 371000000000 | F9: 3254638555 | G9: 23 | H9: 32.5
A10: 2-4-1-1- در تاریخ 1405/06/31 اوراق صکوک اجاره اخابر61-3ماهه23% به فروش رسیده است.

Sheet درآمد سود سهام
A1: =سهام!A1 -> صندوق سرمایه‌گذاری حفظ ارزش دماوند
A2: صورت وضعیت درآمدها
A3: =درآمد!A3 -> دوره یک ماهه منتهی به 30 مهر 1405
A5: 2-1-1- درآمد سود سهام
C6: =درآمد!C6 -> (مبالغ به ریال)
A7: نام سهام | C7: ='درآمد سرمایه گذاری در سهام'!C7 -> طی مهر ماه | I7: ='درآمد سرمایه گذاری در سهام'!M7 -> از ابتدای سال مالی تا پایان مهر ماه
C8: جمع درآمد سود سهام | E8: هزینه تنزیل | G8: خالص درآمد سود سهام | I8: جمع درآمد سود سهام | K8: هزینه تنزیل | M8: خالص درآمد سود سهام
A9: سرمایه گذاری تامین اجتماعی | C9: 19050525270 | E9: -2718307481 | G9: =C9+E9 -> 16332217789 | I9: 19050525270 | K9: -2718307481 | M9: =I9+K9 -> 16332217789
A10: پالایش نفت اصفهان | C10: 0 | E10: 0 | G10: =C10+E10 -> 0 | I10: 14800000000 | K10: 0 | M10: =I10+K10 -> 14800000000
A11: بورس کالای ایران | C11: 0 | E11: 0 | G11: =C11+E11 -> 0 | I11: 10070000000 | K11: 0 | M11: =I11+K11 -> 10070000000
A12: بانک ملت | C12: 0 | E12: 0 | G12: =C12+E12 -> 0 | I12: 8393260832 | K12: 0 | M12: =I12+K12 -> 8393260832
A13: نشاسته و گلوکز آردینه | C13: 0 | E13: 0 | G13: =C13+E13 -> 0 | I13: 7000000000 | K13: 0 | M13: =I13+K13 -> 7000000000
A14: تولیدات پتروشیمی قائد بصیر | C14: 0 | E14: 0 | G14: =C14+E14 -> 0 | I14: 6400000000 | K14: 0 | M14: =I14+K14 -> 6400000000
A15: شیر و گوشت زاگرس شهرکرد | C15: 0 | E15: 0 | G15: =C15+E15 -> 0 | I15: 5050000000 | K15: -44568907 | M15: =I15+K15 -> 5005431093
A16: داروسازی‌ فارابی‌ | C16: 0 | E16: 0 | G16: =C16+E16 -> 0 | I16: 4650000000 | K16: -93624161 | M16: =I16+K16 -> 4556375839
A17: نفت‌ بهران‌ | C17: 0 | E17: 0 | G17: =C17+E17 -> 0 | I17: 4200000000 | K17: 0 | M17: =I17+K17 -> 4200000000
A18: تایدواترخاورمیانه | C18: 0 | E18: 0 | G18: =C18+E18 -> 0 | I18: 3570000000 | K18: 0 | M18: =I18+K18 -> 3570000000
A19: کاشی‌ الوند | C19: 0 | E19: 0 | G19: =C19+E19 -> 0 | I19: 3570000000 | K19: -71879195 | M19: =I19+K19 -> 3498120805
A20: فولاد مبارکه اصفهان | C20: 0 | E20: 0 | G20: =C20+E20 -> 0 | I20: 3482720725 | K20: 0 | M20: =I20+K20 -> 3482720725
... A27: صنعت غذایی کورش | C27: 0 | E27: 0 | G27: =C27+E27 -> 0 | I27: 160000000 | K27: 0 | M27: =I27+K27 -> 160000000
C28: =SUM(C9:C27) -> 19050525270 | E28: =SUM(E9:E27) -> -2718307481 | G28: =SUM(G9:G27) -> 16332217789 | I28: =SUM(I9:I27) -> 103817924257 | K28: =SUM(K9:K27) -> -2982156850 | M28: =SUM(M9:M27) -> 100835767407
C30: ='درآمد سرمایه گذاری در سهام'!C94 -> 19050525270 | E30: 0 | G30: =C30+E30 -> 19050525270 | I30: ='درآمد سرمایه گذاری در سهام'!M94 -> 103817924257 | K30: -533793838 | M30: =I30+K30 -> 103284130419
C31: =C30-C28 -> 0 | E31: =E30-E28 -> 2718307481 | G31: =G30-G28 -> 2718307481 | I31: =I30-I28 -> 0 | K31: =K30-K28 -> 2448363012 | M31: =M30-M28 -> 2448363012
C32: ='درآمد سرمایه گذاری در سهام'!C94 -> 19050525270 | E32: -2718307481 | G32: =C32+E32 -> 16332217789 | I32: ='درآمد سرمایه گذاری در سهام'!M94 -> 103817924257 | K32: -2982156850 | M32: =I32+K32 -> 100835767407
C33: =C32-C28 -> 0 | E33: =E32-E28 -> 0 | G33: =G32-G28 -> 0 | I33: =I32-I28 -> 0 | K33: =K32-K28 -> 0 | M33: =M32-M28 -> 0

Sheet سود اوراق بهادار
A1: =سهام!A1 -> صندوق سرمایه‌گذاری حفظ ارزش دماوند
A2: صورت وضعیت درآمدها
A3: =درآمد!A3 -> دوره یک ماهه منتهی به 30 مهر 1405
A5: 2-2-1- سود اوراق بهادار با درآمد ثابت
C6: ='درآمد سرمایه گذاری در سهام'!C6 -> (مبالغ به ریال)
A7: شرح | C7: ='درآمد سرمایه گذاری در سهام'!C7 -> طی مهر ماه | I7: ='درآمد سرمایه گذاری در سهام'!M7 -> از ابتدای سال مالی تا پایان مهر ماه
C8: درآمد سود | E8: هزینه تنزیل | G8: خالص درآمد | I8: درآمد سود | K8: هزینه تنزیل | M8: خالص درآمد
A9: صکوک اجاره اخابر61-3ماهه23% | C9: 0 | E9: 0 | G9: =C9+E9 -> 0 | I9: 13523072629 | K9: 0 | M9: =I9+K9 -> 13523072629
A10: صکوک مرابحه اندیمشک07-6ماهه23% | C10: 5951722660 | E10: 0 | G10: =C10+E10 -> 5951722660 | I10: 22445290085 | K10: 0 | M10: =I10+K10 -> 22445290085
A11: مرابحه سمگا-دماوند060907 | C11: 0 | E11: 0 | G11: =C11+E11 -> 0 | I11: 1554333893 | K11: 0 | M11: =I11+K11 -> 1554333893
C12: =SUM(C9:C11) -> 5951722660 | E12: =SUM(E9:E11) -> 0 | G12: =SUM(G9:G11) -> 5951722660 | I12: =SUM(I9:I11) -> 37522696607 | K12: =SUM(K9:K11) -> 0 | M12: =SUM(M9:M11) -> 37522696607
C14: ='درآمد سرمایه گذاری در اوراق به'!C13 -> 5951722660 | E14: 0 | G14: =C14+E14 -> 5951722660 | I14: ='درآمد سرمایه گذاری در اوراق به'!M13 -> 37522696607 | K14: 0 | M14: =I14+K14 -> 37522696607
C15: =C14-C12 -> 0 | E15: =E14-E12 -> 0 | G15: =G14-G12 -> 0 | I15: =I14-I12 -> 0 | K15: =K14-K12 -> 0 | M15: =M14-M12 -> 0

Sheet سود سپرده بانکی
A1: =سهام!A1 -> صندوق سرمایه‌گذاری حفظ ارزش دماوند
A2: صورت وضعیت درآمدها
A3: ='درآمد سرمایه گذاری در سهام'!A3 -> دوره یک ماهه منتهی به 30 مهر 1405
A5: 2-3-1- سود سپرده بانکی
C6: ='درآمد سرمایه گذاری در سهام'!C6 -> (مبالغ به ریال)
A7: شرح | C7: ='درآمد سرمایه گذاری در سهام'!C7 -> طی مهر ماه | I7: ='درآمد سرمایه گذاری در سهام'!M7 -> از ابتدای سال مالی تا پایان مهر ماه
C8: درآمد سود | E8: هزینه تنزیل | G8: خالص درآمد | I8: درآمد سود | K8: هزینه تنزیل | M8: خالص درآمد
A9: بانک پاسارگاد | C9: 376599984 | E9: 0 | G9: =C9+E9 -> 376599984 | I9: 1957097924 | K9: -2148475 | M9: =I9+K9 -> 1954949449
A10: بانک گردشگری | C10: 3166172 | E10: 0 | G10: =C10+E10 -> 3166172 | I10: 3221534 | K10: 0 | M10: =I10+K10 -> 3221534
A11: بانک سامان | C11: 339682 | E11: 0 | G11: =C11+E11 -> 339682 | I11: 1333647 | K11: 0 | M11: =I11+K11 -> 1333647
A12: بانک سینا | C12: 0 | E12: 0 | G12: =C12+E12 -> 0 | I12: 431573 | K12: 0 | M12: =I12+K12 -> 431573
C13: =SUM(C9:C12) -> 380105838 | E13: =SUM(E9:E12) -> 0 | G13: =SUM(G9:G12) -> 380105838 | I13: =SUM(I9:I12) -> 1962084678 | K13: =SUM(K9:K12) -> -2148475 | M13: =SUM(M9:M12) -> 1959936203
C15: ='درآمد سپرده بانکی'!C14 -> 380105838 | E15: 0 | G15: =C15+E15 -> 380105838 | I15: ='درآمد سپرده بانکی'!G14 -> 1962084678 | K15: -2327515 | M15: =I15+K15 -> 1959757163
C16: =C15-C13 -> 0 | E16: =E15-E13 -> 0 | G16: =G15-G13 -> 0 | I16: =I15-I13 -> 0 | K16: =K15-K13 -> -179040 | M16: =M15-M13 -> -179040
C17: ='درآمد سپرده بانکی'!C14 -> 380105838 | E17: 0 | G17: =C17-E17 -> 380105838 | I17: ='درآمد سپرده بانکی'!G14 -> 1962084678 | K17: -2148475 | M17: =I17+K17 -> 1959936203
C18: =C17-C13 -> 0 | E18: =E17+E13 -> 0 | G18: =G17-G13 -> 0 | I18: =I17-I13 -> 0 | K18: =K17-K13 -> 0 | M18: =M17-M13 -> 0

Sheet درآمد ناشی از تغییر قیمت اوراق
A1: =درآمد!A1 -> صندوق سرمایه‌گذاری حفظ ارزش دماوند
A2: صورت وضعیت درآمدها
A3: ='درآمد سرمایه گذاری در سهام'!A3 -> دوره یک ماهه منتهی به 30 مهر 1405
A5: 2-1-2- درآمد ناشی از تغییر قیمت سهام، حق تقدم سهام، اختیار معاملات سهام و گواهی سپرده کالایی
C6: ='درآمد سرمایه گذاری در سهام'!C6 -> (مبالغ به ریال)
A7: شرح | C7: ='درآمد سرمایه گذاری در سهام'!C7 -> طی مهر ماه | K7: ='درآمد سرمایه گذاری در سهام'!M7 -> از ابتدای سال مالی تا پایان مهر ماه
C8: تعداد | E8: خالص ارزش فروش | G8: ارزش دفتری | I8: سود و زیان ناشی از تغییر قیمت | K8: تعداد | M8: خالص ارزش فروش | O8: ارزش دفتری | Q8: سود و زیان ناشی از تغییر قیمت
A9: پالایش نفت اصفهان | C9: 22000000 | E9: 299288477400 | G9: -280325551670 | I9: 18962925730 | K9: 22000000 | M9: 299288477400 | O9: -164714003597 | Q9: =M9+O9 -> 134574473803
A10: بورس کالای ایران | C10: 14986796 | E10: 186779107720 | G10: -237970141310 | I10: =E10+G10 -> -51191033590 | K10: 14986796 | M10: 186779107720 | O10: -59033585802 | Q10: =M10+O10 -> 127745521918
A11: سرمایه گذاری تامین اجتماعی | C11: 90716787 | E11: 312353945440 | G11: -358706141065 | I11: =E11+G11 -> -46352195625 | K11: 90716787 | M11: 312353945440 | O11: -199545204486 | Q11: =M11+O11 -> 112808740954
A12: بین المللی توسعه ص. معادن غدیر | C12: 18000000 | E12: 186110161200 | G12: -124916438568 | I12: 61193722632 | K12: 18000000 | M12: 186110161200 | O12: -99212599615 | Q12: =M12+O12 -> 86897561585
A13: شمش طلا GoldBar | C13: 5395 | E13: 193685600670 | G13: -171543445852 | I13: =E13+G13 -> 22142154818 | K13: 5395 | M13: 193685600670 | O13: -134486612880 | Q13: =M13+O13 -> 59198987790
A14: ملی‌ صنایع‌ مس‌ ایران‌ | C14: 8607732 | E14: 246840513294 | G14: -248375650355 | I14: -1535137061 | K14: 8607732 | M14: 246840513294 | O14: -192324038784 | Q14: =M14+O14 -> 54516474510
A15: بانک ملت | C15: 117736500 | E15: 177342470425 | G15: -186590227403 | I15: =E15+G15 -> -9247756978 | K15: 117736500 | M15: 177342470425 | O15: -137377974021 | Q15: =M15+O15 -> 39964496404
A16: تولیدات پتروشیمی قائد بصیر | C16: 4000000 | E16: 72276946800 | G16: -61838266400 | I16: 10438680400 | K16: 4000000 | M16: 72276946800 | O16: -39584384851 | Q16: =M16+O16 -> 32692561949
A17: کاشی‌ الوند | C17: 8700000 | E17: 75277571280 | G17: -58357383240 | I17: 16920188040 | K17: 8700000 | M17: 75277571280 | O17: -47344579221 | Q17: =M17+O17 -> 27932992059
A18: دارویی و نهاده های زاگرس دارو | C18: 2010000 | E18: 65218930290 | G18: -47710935360 | I18: 17507994930 | K18: 2010000 | M18: 65218930290 | O18: -41062335770 | Q18: =M18+O18 -> 24156594520
A19: سیمان‌سپاهان‌ | C19: 1972821 | E19: 51542846896 | G19: -36097610967 | I19: 15445235929 | K19: 1972821 | M19: 51542846896 | O19: -30528507375 | Q19: =M19+O19 -> 21014339521
A20: شرکت آهن و فولاد ارفع | C20: 3900000 | E20: 62459427420 | G20: -56398713411 | I20: 6060714009 | K20: 3900000 | M20: 62459427420 | O20: -41731280697 | Q20: =M20+O20 -> 20728146723
A21: فولاد امیرکبیرکاشان | C21: 7500000 | E21: 70773657750 | G21: -50308089000 | I21: 20465568750 | K21: 7500000 | M21: 70773657750 | O21: -50609465130 | Q21: =M21+O21 -> 20164192620
A22: سیمان‌هگمتان‌ | C22: 360000 | E22: 68692867560 | G22: -49664709504 | I22: 19028158056 | K22: 360000 | M22: 68692867560 | O22: -51618583024 | Q22: =M22+O22 -> 17074284536
A23: صبا فولاد خلیج فارس | C23: 37319707 | E23: 155160835535 | G23: -149465504989 | I23: 5695330546 | K23: 37319707 | M23: 155160835535 | O23: -142383695745 | Q23: =M23+O23 -> 12777139790
A24: کیمیا پلی استر قم | C24: 3750000 | E24: 33935634000 | G24: -22283136247 | I24: 11652497753 | K24: 3750000 | M24: 33935634000 | O24: -22283136247 | Q24: =M24+O24 -> 11652497753
A25: سالمین‌ | C25: 6360800 | E25: 56804679144 | G25: -54134914250 | I25: 2669764894 | K25: 6360800 | M25: 56804679144 | O25: -47031612344 | Q25: =M25+O25 -> 9773066800
A26: توسعه خدمات دریایی وبندری سینا | C26: 2700000 | E26: 53180710650 | G26: -47608122330 | I26: 5572588320 | K26: 2700000 | M26: 53180710650 | O26: -45854920502 | Q26: =M26+O26 -> 7325790148
A27: سرمایه گذاری دنیای سرمایه | C27: 4840000 | E27: 24205037472 | G27: -18925908130 | I27: 5279129342 | K27: 4840000 | M27: 24205037472 | O27: -18925908130 | Q27: =M27+O27 -> 5279129342
A28: اختیارخ تاپیکو-50000-05/08/13(ضپیک80041) | C28: 1000000 | E28: 943292000 | G28: 5978838014 | I28: 5035546014 | K28: 1000000 | M28: 943292000 | O28: 5978838014 | Q28: 5035546014
A29: سرمایه‌گذاری‌غدیر(هلدینگ‌ | C29: 13242497 | E29: 275154374512 | G29: -278368684823 | I29: -3214310311 | K29: 13242497 | M29: 275154374512 | O29: -270601159688 | Q29: =M29+O29 -> 4553214824
A30: تامین سرمایه دماوند | C30: 25000000 | E30: 68987571750 | G30: -62358901392 | I30: 6628670358 | K30: 25000000 | M30: 68987571750 | O30: -65574321068 | Q30: =M30+O30 -> 3413250682
A31: مدیریت نیروگاهی ایرانیان مپنا | C31: 900229 | E31: 39839852250 | G31: -37063802624 | I31: 2776049626 | K31: 900229 | M31: 39839852250 | O31: -36729675519 | Q31: =M31+O31 -> 3110176731
A32: پخش البرز | C32: 5520423 | E32: 75099954285 | G32: -72981164432 | I32: 2118789853 | K32: 5520423 | M32: 75099954285 | O32: -72981164432 | Q32: =M32+O32 -> 2118789853
A33: صنعتی معدنی سیمان تجارت مهریز | C33: 468750 | E33: 12353761500 | G33: -12288643781 | I33: 65117719 | K33: 468750 | M33: 12353761500 | O33: -10756176829 | Q33: =M33+O33 -> 1597584671
A34: پگاه‌آذربایجان‌غربی‌ | C34: 912193 | E34: 23651353878 | G34: -22100277158 | I34: 1551076720 | K34: 912193 | M34: 23651353878 | O34: -22100277158 | Q34: =M34+O34 -> 1551076720
A35: فنرسازی زر گلپایگان | C35: 450000 | E35: 3014020125 | G35: -3359363490 | I35: -345343365 | K35: 450000 | M35: 3014020125 | O35: -1579164300 | Q35: =M35+O35 -> 1434855825
A36: معدنی‌وصنعتی‌چادرملو | C36: 1366065 | E36: 4446057441 | G36: -3795414889 | I36: 650642552 | K36: 1366065 | M36: 4446057441 | O36: -3666518460 | Q36: =M36+O36 -> 779538981
A37: نشاسته و گلوکز آردینه | C37: 50000 | E37: 1881840055 | G37: -10061179209 | I37: =E37+G37 -> -8179339154 | K37: 50000 | M37: 1881840055 | O37: -1328317111 | Q37: =M37+O37 -> 553522944
A38: سرمایه گذاری صدرتامین | C38: 1094469 | E38: 46969878637 | G38: -46441318730 | I38: 528559907 | K38: 1094469 | M38: 46969878637 | O38: -46441318730 | Q38: =M38+O38 -> 528559907
A39: کویر تایر | C39: 10800000 | E39: 37293475680 | G39: -39758274360 | I39: -2464798680 | K39: 10800000 | M39: 37293475680 | O39: -37376498960 | Q39: =M39+O39 -> -83023280
A40: سیم و کابل تبریز | C40: 165600 | E40: 7532424766 | G40: -7688258137 | I40: =E40+G40 -> -155833371 | K40: 165600 | M40: 7532424766 | O40: -7688258137 | Q40: =M40+O40 -> -155833371
A41: نفت‌ پارس‌ | C41: 2700000 | E41: 49054851990 | G41: -49486938909 | I41: -432086919 | K41: 2700000 | M41: 49054851990 | O41: -49486938909 | Q41: =M41+O41 -> -432086919
A42: کشتیرانی جمهوری اسلامی ایران | C42: 4000000 | E42: 31712949200 | G42: -32486313328 | I42: -773364128 | K42: 4000000 | M42: 31712949200 | O42: -32486313328 | Q42: =M42+O42 -> -773364128
A43: زامیاد | C43: 20000000 | E43: 33538726000 | G43: -35050596743 | I43: -1511870743 | K43: 20000000 | M43: 33538726000 | O43: -35050596743 | Q43: =M43+O43 -> -1511870743
A44: تایدواترخاورمیانه | C44: 5100000 | E44: 39017048670 | G44: -42306423720 | I44: -3289375050 | K44: 5100000 | M44: 39017048670 | O44: -41268404787 | Q44: =M44+O44 -> -2251356117
A45: بورس انرژی ایران | C45: 2325557 | E45: 50559087536 | G45: -53024046758 | I45: -2464959222 | K45: 2325557 | M45: 50559087536 | O45: -53024046758 | Q45: =M45+O45 -> -2464959222
A46: کانی کربن طبس | C46: 7600000 | E46: 64854767200 | G46: -69030764484 | I46: =E46+G46 -> -4175997284 | K46: 7600000 | M46: 64854767200 | O46: -74242891533 | Q46: =M46+O46 -> -9388124333
A47: بانک صادرات ایران | C47: 170896000 | E47: 158213450667 | G47: -167782661609 | I47: =E47+G47 -> -9569210942 | K47: 170896000 | M47: 158213450667 | O47: -167782661609 | Q47: =M47+O47 -> -9569210942
A48: پتروشیمی نوری | C48: 2160000 | E48: 90790323552 | G48: -107031574207 | I48: =E48+G48 -> -16241250655 | K48: 2160000 | M48: 90790323552 | O48: -107031574207 | Q48: =M48+O48 -> -16241250655
A49: س. نفت و گاز و پتروشیمی تأمین | C49: 4230000 | E49: 186150348135 | G49: -225650836519 | I49: =E49+G49 -> -39500488384 | K49: 4230000 | M49: 186150348135 | O49: -225650836519 | Q49: =M49+O49 -> -39500488384
A50: ح. کویر تایر | C50: 0 | E50: 0 | G50: -3635363922 | I50: =G50 -> -3635363922 | K50: 0 | M50: 0 | O50: 0 | Q50: 0
A51: آلومینای ایران | C51: 0 | E51: 0 | G51: 2337575392 | I51: 2337575392 | K51: 0 | M51: 0 | O51: 0 | Q51: =M51+O51 -> 0
A52: دارویی‌ رازک‌ | C52: 0 | E52: 0 | G52: 1996291061 | I52: 1996291061 | K52: 0 | M52: 0 | O52: 0 | Q52: =M52+O52 -> 0
A53: صنایع پتروشیمی خلیج فارس | C53: 0 | E53: 0 | G53: 1486504430 | I53: 1486504430 | K53: 0 | M53: 0 | O53: 0 | Q53: =M53+O53 -> 0
A54: اختیارخ شستا-3250-1405/07/15(ضستا70621) | C54: 0 | E54: 0 | G54: 175360697 | I54: =G54 -> 175360697 | K54: 0 | M54: 0 | O54: 0 | Q54: =M54+O54 -> 0
A55: تولیدی‌مهرام‌ | C55: 0 | E55: 0 | G55: -1953982334 | I55: -1953982334 | K55: 0 | M55: 0 | O55: 0 | Q55: =M55+O55 -> 0
A56: پتروشیمی‌شیراز | C56: 0 | E56: 0 | G56: -10687740170 | I56: -10687740170 | K56: 0 | M56: 0 | O56: 0 | Q56: =M56+O56 -> 0
A57: نفت‌ بهران‌ | C57: 0 | E57: 0 | G57: -17804632426 | I57: -17804632426 | K57: 0 | M57: 0 | O57: 0 | Q57: =M57+O57 -> 0
A58: زرین ذرت شاهرود | C58: 0 | E58: 0 | G58: -22136883745 | I58: -22136883745 | K58: 0 | M58: 0 | O58: 0 | Q58: =M58+O58 -> 0
A59: داروسازی‌ فارابی‌ | C59: 0 | E59: 0 | G59: -28785041742 | I59: -28785041742 | K59: 0 | M59: 0 | O59: 0 | Q59: =M59+O59 -> 0
A60: توزیع دارو پخش | C60: 0 | E60: 0 | G60: -32025306516 | I60: -32025306516 | K60: 0 | M60: 0 | O60: 0 | Q60: =M60+O60 -> 0
A61: ختیارخ وبملت-1600-1405/07/22(ضملت70451) | C61: 0 | E61: 0 | G61: -3625112098 | I61: =E61+G61 -> -3625112098 | K61: 0 | M61: 0 | O61: 0 | Q61: =M61+O61 -> 0
C62: =SUM(C9:C61) -> 635448321 | E62: =SUM(E9:E61) -> 3692988830775 | G62: =SUM(G9:G61) -> -3748015822712 | I62: =SUM(I9:I61) -> -56913575937 | K62: =SUM(K9:K61) -> 635448321 | M62: =SUM(M9:M61) -> 3692988830775 | O62: =SUM(O9:O61) -> -2922520704992 | Q62: =SUM(Q9:Q61) -> 768581541783 | S62: 781353169425 | T62: -56134900081 | U62: 704347007979 | V62: -77006161446 | X62: =Q62-'درآمد سرمایه گذاری در سهام'!O94 -> 0
S63: 3635363922 | T63: 3635363922 | U63: 59198987790 | V63: -3635363922 | X63: =I62-'درآمد سرمایه گذاری در سهام'!E94 -> 0
A64: 2-2-2- درآمد ناشی از تغییر قیمت اوراق بهادار با درآمد ثابت | S64: 37056832972 | T64: 21059646553 | U64: 5035546014 | V64: 22142154818
C65: =C6 -> (مبالغ به ریال) | S65: 3449751401 | T65: 3449751401 | U65: =SUM(U62:U64) -> 768581541783 | V65: 1585794613
A66: شرح | C66: =C7 -> طی مهر ماه | K66: =K7 -> از ابتدای سال مالی تا پایان مهر ماه | S66: =S62+S63+S64+S65 -> 825495117720 | T66: =T62+T63+T64+T65 -> -27990138205 | U66: =U65-Q62 -> 0 | V66: =V62+V63+V64+V65 -> -56913575937
C67: تعداد | E67: خالص ارزش فروش | G67: ارزش دفتری | I67: سود و زیان ناشی از تغییر قیمت | K67: تعداد | M67: خالص ارزش فروش | O67: ارزش دفتری | Q67: سود و زیان ناشی از تغییر قیمت | S67: =S66-Q62 -> 56913575937 | T67: =T66-I62 -> 28923437732 | V67: =V66-I62 -> 0
A68: صکوک مرابحه اندیمشک07-6ماهه23% | C68: 42000 | E68: 41977162500 | G68: -41770479944 | I68: 206682556 | K68: 42000 | M68: 41977162500 | O68: -42022837498 | Q68: =M68+O68 -> -45674998
A69: صکوک اجاره اخابر61-3ماهه23% | C69: 0 | G69: 0 | I69: =E69+G69 -> 0 | K69: 0 | M69: 0 | O69: 0 | Q69: =M69+O69 -> 0 | S69: =Q62-'درآمد سرمایه گذاری در سهام'!O94 -> 0
C70: =SUM(C68:C69) -> 42000 | E70: =SUM(E68:E69) -> 41977162500 | G70: =SUM(G68:G69) -> -41770479944 | I70: =SUM(I68:I69) -> 206682556 | K70: =SUM(K68:K69) -> 42000 | M70: =SUM(M68:M69) -> 41977162500 | O70: =SUM(O68:O69) -> -42022837498 | Q70: =SUM(Q68:Q69) -> -45674998 | S70: =Q70-'درآمد سرمایه گذاری در اوراق به'!O13 -> 0 | U70: -45674998 | W70: =Q70-'درآمد سرمایه گذاری در اوراق به'!O13 -> 0
U71: =U70-Q70 -> 0 | W71: =I70-'درآمد سرمایه گذاری در اوراق به'!E13 -> 0

Sheet درآمد ناشی از فروش
A1: =سهام!A1 -> صندوق سرمایه‌گذاری حفظ ارزش دماوند
A2: صورت وضعیت درآمدها
A3: ='درآمد سرمایه گذاری در سهام'!A3 -> دوره یک ماهه منتهی به 30 مهر 1405
A5: 2-1-3- سود(زیان) حاصل از فروش سهام، حق تقدم سهام، اختیار معاملات سهام و گواهی سپرده کالایی
C6: ='درآمد سرمایه گذاری در سهام'!C6 -> (مبالغ به ریال)
A7: شرح | C7: ='درآمد سرمایه گذاری در سهام'!C7 -> طی مهر ماه | K7: ='درآمد سرمایه گذاری در سهام'!M7 -> از ابتدای سال مالی تا پایان مهر ماه
C8: تعداد | E8: خالص بهای فروش | G8: ارزش دفتری | I8: سود و زیان ناشی از فروش | K8: تعداد | M8: خالص بهای فروش | O8: ارزش دفتری | Q8: سود و زیان ناشی از فروش
A9: توزیع دارو پخش | C9: 8093726 | E9: 66417705809 | G9: -14439580036 | I9: =E9+G9 -> 51978125773 | K9: 8093726 | M9: 66417705809 | O9: -14439580036 | Q9: =M9+O9 -> 51978125773
A10: آلومینای ایران | C10: 240351 | E10: 70999392260 | G10: -53442077546 | I10: =E10+G10 -> 17557314714 | K10: 240351 | M10: 70999392260 | O10: -53442077546 | Q10: =M10+O10 -> 17557314714
A11: نشاسته و گلوکز آردینه | C11: 1740000 | E11: 65393899863 | G11: -45716003451 | I11: =E11+G11 -> 19677896412 | K11: 1950000 | M11: 72877004909 | O11: -51236640400 | Q11: =M11+O11 -> 21640364509
A12: بورس کالای ایران | C12: 11033893 | E12: 151150770764 | G12: -42285447150 | I12: =E12+G12 -> 108865323614 | K12: 25633894 | M12: 311185381816 | O12: -98548728533 | Q12: =M12+O12 -> 212636653283
A13: صنایع پتروشیمی خلیج فارس | C13: 19000000 | E13: 273709742565 | G13: -239709114993 | I13: =E13+G13 -> 34000627572 | K13: 19000000 | M13: 273709742565 | O13: -239709114993 | Q13: =M13+O13 -> 34000627572
A14: زرین ذرت شاهرود | C14: 6666666 | E14: 63362387068 | G14: -41073237232 | I14: =E14+G14 -> 22289149836 | K14: 6666667 | M14: 63362387069 | O14: -41073243467 | Q14: =M14+O14 -> 22289143602
A15: کانی کربن طبس | C15: 300000 | E15: 3030392595 | G15: -2907033051 | I15: =E15+G15 -> 123359544 | K15: 300000 | M15: 3030392595 | O15: -2907033051 | Q15: =M15+O15 -> 123359544
A16: مدیریت نیروگاهی ایرانیان مپنا | C16: 179771 | E16: 7848780305 | G16: -7273579469 | I16: =E16+G16 -> 575200836 | K16: 179771 | M16: 7848780305 | O16: -7273579469 | Q16: =M16+O16 -> 575200836
A17: دارویی‌ رازک‌ | C17: 6600000 | E17: 31959415120 | G17: -30366371841 | I17: =E17+G17 -> 1593043279 | K17: 6600000 | M17: 31959415120 | O17: -30366371841 | Q17: =M17+O17 -> 1593043279
A18: فنرسازی زر گلپایگان | C18: 450000 | E18: 2536242155 | G18: -1559406455 | I18: =E18+G18 -> 976835700 | K18: 450000 | M18: 2536242155 | O18: -1559406455 | Q18: =M18+O18 -> 976835700
A19: دارویی و نهاده های زاگرس دارو | C19: 390000 | E19: 12867261313 | G19: -7867080193 | I19: =E19+G19 -> 5000181120 | K19: 390000 | M19: 12867261313 | O19: -7867080193 | Q19: =M19+O19 -> 5000181120
A20: پتروشیمی نوری | C20: 150000 | E20: 7269370064 | G20: -7376118275 | I20: =E20+G20 -> -106748211 | K20: 150000 | M20: 7269370064 | O20: -7376118275 | Q20: =M20+O20 -> -106748211
... A56: صنعت غذایی کورش | C56: 0 | E56: 0 | G56: 0 | I56: =E56+G56 -> 0 | K56: 100000 | M56: 1958618569 | O56: -1530849848 | Q56: =M56+O56 -> 427768721
A57: پویا زرکان آق دره | C57: 0 | E57: 0 | G57: 0 | I57: =E57+G57 -> 0 | K57: 1000 | M57: 119568535 | O57: -104050701 | Q57: =M57+O57 -> 15517834 | S57: ='درآمد ناشی از اعمال اختیار'!I21 -> 15940632029 | T57: =I61 -> 448339129597 | U57: =T57+S57 -> 464279761626 | V57: =U57-'درآمد سرمایه گذاری در سهام'!G94 -> 0
A58: س. و توسعه صنایع لاستیک | C58: 0 | E58: 0 | G58: 0 | I58: =E58+G58 -> 0 | K58: 562500 | M58: 5007134845 | O58: -3613539375 | Q58: =M58+O58 -> 1393595470 | S58: ='درآمد ناشی از اعمال اختیار'!M21 -> 20654139580 | T58: =Q61 -> 1218244611653 | U58: =T58+S58 -> 1238898751233 | V58: =U58-'درآمد سرمایه گذاری در سهام'!Q94 -> 0
A59: گروه مالی نماد غدیر(سهامی عام) | C59: 0 | E59: 0 | G59: 0 | I59: =E59+G59 -> 0 | K59: 13387027 | M59: 47226779671 | O59: -37530681672 | Q59: =M59+O59 -> 9696097999
A60: کاشی‌ الوند | C60: 0 | E60: 0 | G60: 0 | I60: =E60+G60 -> 0 | K60: 1500000 | M60: 11078154372 | O60: -8076557318 | Q60: =M60+O60 -> 3001597054
C61: =SUM(C9:C60) -> 171511586 | E61: =SUM(E9:E60) -> 1401630913757 | G61: =SUM(G9:G60) -> -953291784160 | I61: =SUM(I9:I60) -> 448339129597 | K61: =SUM(K9:K60) -> 2018913021 | M61: =SUM(M9:M60) -> 3762342002739 | O61: =SUM(O9:O60) -> -2544097391086 | Q61: =SUM(Q9:Q60) -> 1218244611653 | S61: 1219268229981 | T61: 455813654391
S62: -1023618328 | T62: -7474524794
A63: 2-2-3- سود(زیان) حاصل از فروش اوراق بهادار با درآمد ثابت | S63: =S61+S62 -> 1218244611653 | T63: =T61+T62 -> 448339129597 | W63: =V63-M63 -> 0
C64: =C6 -> (مبالغ به ریال) | S64: =S63-Q61 -> 0 | T64: =T63-I61 -> 0 | W64: =V64-M64 -> 0
A65: شرح | C65: =C7 -> طی مهر ماه | K65: =K7 -> از ابتدای سال مالی تا پایان مهر ماه
C66: تعداد | E66: خالص بهای فروش | G66: ارزش دفتری | I66: سود و زیان ناشی از فروش | K66: تعداد | M66: خالص بهای فروش | O66: ارزش دفتری | Q66: سود و زیان ناشی از فروش | S66: =Q70-'درآمد سرمایه گذاری در اوراق به'!Q13 -> 0
A67: مرابحه سمگا-دماوند060907 | C67: 0 | E67: 0 | G67: 0 | I67: =E67+G67 -> 0 | K67: 110000 | M67: 109940187500 | O67: -109880375000 | Q67: =M67+O67 -> 59812500 | S67: =I70-'درآمد سرمایه گذاری در اوراق به'!G13 -> 0
A68: صکوک مرابحه اندیمشک07-6ماهه23% | C68: 451000 | E68: 450777268750 | G68: -451016032554 | I68: =E68+G68 -> -238763804 | K68: 694600 | M68: 694252311250 | O68: -694615000000 | Q68: =M68+O68 -> -362688750
A69: صکوک اجاره اخابر61-3ماهه23% | C69: 0 | E69: 0 | G69: 0 | I69: =E69+G69 -> 0 | K69: 757400 | M69: 757009313752 | O69: -757401530000 | Q69: =M69+O69 -> -392216248
C70: =SUM(C67:C69) -> 451000 | E70: =SUM(E67:E69) -> 450777268750 | G70: =SUM(G67:G69) -> -451016032554 | I70: =SUM(I67:I69) -> -238763804 | K70: =SUM(K67:K69) -> 1562000 | M70: =SUM(M67:M69) -> 1561201812502 | O70: =SUM(O67:O69) -> -1561896905000 | Q70: =SUM(Q67:Q69) -> -695092498 | S70: -695092498 | T70: -238763804
S71: =S70-Q70 -> 0 | T71: =T70-I70 -> 0

Sheet درآمد ناشی از اعمال اختیار
A1: =سهام!A1 -> صندوق سرمایه‌گذاری حفظ ارزش دماوند
A2: =درآمد!A2 -> صورت وضعیت درآمدها
A3: =درآمد!A3 -> دوره یک ماهه منتهی به 30 مهر 1405
A5: 2-3-1- سود (زیان) ناشی از اعمال اختیار معامله سهام
C6: (مبالغ به ریال)
C7: ='درآمد سرمایه گذاری در سهام'!C7 -> طی مهر ماه | K7: ='درآمد سرمایه گذاری در سهام'!M7 -> از ابتدای سال مالی تا پایان مهر ماه
A8: نام اختیار | C8: تعداد | E8: تاریخ اعمال | G8: کارمزد اعمال | I8: سود(زیان)اعمال | K8: کارمزد اعمال | M8: سود(زیان)اعمال
A9: اختیارخ شستا-4000-1405/08/13 (ضستا80621) | C9: 41239000 | E9: 4000 | G9: -11542746 | I9: 5407773541 | K9: -11542746 | M9: 5407773541
A10: اختیارخ خودرو-700-1405/07/08 (ضخود71351) | C10: 79000000 | E10: 700 | G10: 0 | I10: -23 | K10: -4485734 | M10: 3694668844
A11: اختیارخ تاپیکو-50000-05/08/13 (ضپیک80041) | C11: 2278000 | E11: 50000 | F11: 10214644 | G11: -10214644 | I11: 3592832180 | K11: -10214644 | M11: 3592832180
A12: اختیارخ وبملت-1600-1405/07/22 (ضملت70451) | C12: 95000000 | E12: 1600 | G12: 0 | I12: 3468905450 | K12: -11621486 | M12: 3375296725
A13: اختیارف شستا-3750-1405/08/13(طستا80611) | C13: 49000000 | E13: 3750 | G13: 0 | I13: 1948698483 | K13: 0 | M13: 1948698483
A14: اختیارخ وبملت-1500-1405/07/22 (ضملت70441) | C14: 52000000 | E14: 1500 | G14: -2728335 | I14: 1204321194 | K14: -2728335 | M14: 1204321194
A15: اختیارخ خودرو-650-1405/07/08 (ضخود71341) | C15: 101000000 | E15: 650 | G15: 0 | I15: 184574959 | K15: -1622129 | M15: 1154155723
A16: اختیارخ وبصادر-900-1405/07/22(ضصاد70451) | C16: 36117000 | E16: 900 | G16: 0 | I16: 1123741874 | K16: 0 | M16: 1123741874
A17: اختیارخ شستا-3250-1405/07/15 (ضستا70621) | C17: 27405000 | E17: 3250 | G17: 0 | I17: 950263262 | K17: -6481667 | M17: 950263262
A18: اختیارخ خودرو-750-1405/07/08 (ضخود71361) | C18: 36603000 | E18: 750 | G18: 0 | I18: 5 | K18: -1622396 | M18: 121997135
A19: اختیارخ وبملت-1700-1405/07/22(ضملت70461) | C19: 3000000 | E19: 1700 | G19: 0 | I19: 0 | K19: 0 | M19: 20869515
A20: اختیارف شستا-3500-1405/07/15(طستا70631) | C20: 33000000 | E20: 3500 | G20: 0 | I20: -1940478896 | K20: 0 | M20: -1940478896
G21: =SUM(G9:G20) -> -24485725 | I21: =SUM(I9:I20) -> 15940632029 | K21: =SUM(K9:K20) -> -50319137 | M21: =SUM(M9:M20) -> 20654139580
I23: 15940632029 | M23: 20654139580
I24: =I23-I21 -> 0 | M24: =M23-M21 -> 0
